BEGIN:VCALENDAR
VERSION:2.0
PRODID:-//jEvents 2.0 for Joomla//EN
CALSCALE:GREGORIAN
METHOD:PUBLISH
BEGIN:VTIMEZONE
TZID:Europe/Paris
BEGIN:STANDARD
DTSTART:20220214T000000
RDATE:20220327T030000
TZOFFSETFROM:+0200
TZOFFSETTO:+0100
TZNAME:Europe/Paris CET
END:STANDARD
BEGIN:STANDARD
DTSTART:20221030T020000
RDATE:20230326T030000
TZOFFSETFROM:+0200
TZOFFSETTO:+0100
TZNAME:Europe/Paris CET
END:STANDARD
BEGIN:STANDARD
DTSTART:20231029T020000
RDATE:20240331T030000
TZOFFSETFROM:+0200
TZOFFSETTO:+0100
TZNAME:Europe/Paris CET
END:STANDARD
BEGIN:STANDARD
DTSTART:20241027T020000
RDATE:20250330T030000
TZOFFSETFROM:+0200
TZOFFSETTO:+0100
TZNAME:Europe/Paris CET
END:STANDARD
BEGIN:STANDARD
DTSTART:20251026T020000
RDATE:20260329T030000
TZOFFSETFROM:+0200
TZOFFSETTO:+0100
TZNAME:Europe/Paris CET
END:STANDARD
BEGIN:STANDARD
DTSTART:20261025T020000
RDATE:20270328T030000
TZOFFSETFROM:+0200
TZOFFSETTO:+0100
TZNAME:Europe/Paris CET
END:STANDARD
BEGIN:DAYLIGHT
DTSTART:20220327T030000
RDATE:20221030T020000
TZOFFSETFROM:+0100
TZOFFSETTO:+0200
TZNAME:Europe/Paris CEST
END:DAYLIGHT
BEGIN:DAYLIGHT
DTSTART:20230326T030000
RDATE:20231029T020000
TZOFFSETFROM:+0100
TZOFFSETTO:+0200
TZNAME:Europe/Paris CEST
END:DAYLIGHT
BEGIN:DAYLIGHT
DTSTART:20240331T030000
RDATE:20241027T020000
TZOFFSETFROM:+0100
TZOFFSETTO:+0200
TZNAME:Europe/Paris CEST
END:DAYLIGHT
BEGIN:DAYLIGHT
DTSTART:20250330T030000
RDATE:20251026T020000
TZOFFSETFROM:+0100
TZOFFSETTO:+0200
TZNAME:Europe/Paris CEST
END:DAYLIGHT
BEGIN:DAYLIGHT
DTSTART:20260329T030000
RDATE:20261025T020000
TZOFFSETFROM:+0100
TZOFFSETTO:+0200
TZNAME:Europe/Paris CEST
END:DAYLIGHT
END:VTIMEZONE
BEGIN:VEVENT
UID:d1225abf2414a735b1a770bce709ef2e
CATEGORIES:Compétition Ski de Fond
CREATED:20221118T190002
SUMMARY:NOCTURNE CHAMP DU FEU BIG-MAT-SALOMON N°10 U13(7) - CREDIT MUTUEL SPRINT N°6
URL;VALUE=URI:https://skivosges.net/agenda/a-venir/detailevenement/1999/-/nocturne-champ-
 du-feu-big-mat-salomon-n-10-u13-7-credit-mutuel-sprint-n-6?tmpl=component
DESCRIPTION:NOCTURNE CHAMP DU FEU BIG-MAT-SALOMON N°10 U13(7) - CREDIT MUTUEL SPRINT N°
 6\n - Codex évenement FMVT0160\n - Station : CHAMP DU FEU\n - Organisateur 
 : 14448 MOLSHEIM SKI NORDIQUE\n - Courriel : RegularLabs.EmailProtector.unC
 loak("ep_902639b8");\n - Délégué Technique : WEIBEL JEREMYPériode d'inscrip
 tion à l'evènement du Samedi 11 Février 2023 à 16:00 au Lundi 13 Février 20
 23 à 21:00Inscriptions ouvertes aux detenteurs des titres Fédéraux valides 
 suivants : Licenciés Compétiteurs\n - Voir les informations dans l'agenda..
 . (/index.php?option=com_jevents&amp;task=icalevent.detail&amp;evid=1994&am
 p;Itemid=6289)\n - Publications concernant cet évènement :\n - Lundi 27 Fév
 rier 2023 à 19:05 : Le 15/02/2023 CHAMP DU FEU/Fond InformationsEpreuves :\
 n - Le Mercredi 15 Février 2023\n - Codex épreuve FMVM0161\n - KO - Sprint 
 QUALIFICATION\n - Catégorie(s) : U15 (Garçons)\n - Le Mercredi 15 Février 2
 023\n - Codex épreuve FMVF0162\n - KO - Sprint QUALIFICATION\n - Catégorie(
 s) : U16 (Dames)\n - Le Mercredi 15 Février 2023\n - Codex épreuve FMVM0162
 \n - KO - Sprint QUALIFICATION\n - Catégorie(s) : U16 (Hommes)\n - Le Mercr
 edi 15 Février 2023\n - Codex épreuve FMVF0163\n - KO - Sprint QUALIFICATIO
 N\n - Catégorie(s) : U18 (Dames)\n - Le Mercredi 15 Février 2023\n - Codex 
 épreuve FMVM0163\n - KO - Sprint QUALIFICATION\n - Catégorie(s) : U18 (Homm
 es)\n - Le Mercredi 15 Février 2023\n - Codex épreuve FMVF0164\n - KO - Spr
 int QUALIFICATION\n - Catégorie(s) : U20/SEN (Dames)\n - Le Mercredi 15 Fév
 rier 2023\n - Codex épreuve FMVM0164\n - KO - Sprint QUALIFICATION\n - Caté
 gorie(s) : U20/SEN (Hommes)\n - Voir les informations dans l'agenda... (/in
 dex.php?option=com_jevents&amp;task=icalevent.detail&amp;evid=1994&amp;Item
 id=6289)\n - Publications concernant cet évènement :\n - Lundi 27 Février 2
 023 à 19:05 : Le 15/02/2023 CHAMP DU FEU/Fond Informations Cet évènement a 
 été importé depuis :https://skivosges.net/agenda/a-venir/detailevenement/19
 99/-/nocturne-champ-du-feu-big-mat-salomon-n-10-u13-7-credit-mutuel-sprint-
 n-6?tmpl=component
X-ALT-DESC;FMTTYPE=text/html:<!-- #gskiepreuve code généré par le plugin jevents pour GskiEpreuves. Ne p
 as modifier cette ligne, ni tout le contenu suivant  #gskiepreuve --><div c
 lass="gski-evenement_infos"><div class="gski-evenement-nom">NOCTURNE CHAMP 
 DU FEU BIG-MAT-SALOMON N°10 U13(7) - CREDIT MUTUEL SPRINT N°6</div><div cla
 ss="gski-evenement-report"></div><ul class="gski-evenement-liste-infos"><li
 >Codex évenement FMVT0160</li><li>Station : CHAMP DU FEU</li><li>Organisate
 ur : 14448 MOLSHEIM SKI NORDIQUE</li><li>Courriel : <!-- Cette adresse élec
 tronique est protégée contre les robots spammeurs. --><span class="cloaked_
 email ep_902639b8"><span data-ep-b="&#46;&#102;&#114;" data-ep-a="&#112;&#1
 05;&#101;rr&#101;"><span data-ep-b="&#105;&#99;&#97;&#98;l&#101;" data-ep-a
 ="&#45;&#99;&#104;&#97;&#114;&#98;"><span data-ep-a="&#111;&#110;&#110;&#10
 5;&#101;r" data-ep-b="&#64;n&#117;&#109;&#101;&#114;"></span></span></span>
 </span><script>RegularLabs.EmailProtector.unCloak("ep_902639b8");</script><
 /li><li><span class="gski-evenement-obs">Délégué Technique : WEIBEL JEREMY<
 /span></li></ul><div class="gski-evenement-infos-2"><div class="gski-evenem
 ent-info-inscriptions"><div class="gski-evenement-inscriptions-periodes">Pé
 riode d'inscription à l'evènement du Samedi 11 Février 2023 à 16:00 au Lund
 i 13 Février 2023 à 21:00<div class="gski-evenement-inscriptions-types-titr
 es">Inscriptions ouvertes aux detenteurs des titres Fédéraux valides suivan
 ts : Licenciés Compétiteurs</div></div></div><div class="gskiepreuves-links
 "><ul><li><a href="https://skivosges.net/index.php?option=com_jevents&task=
 icalevent.detail&evid=1994&Itemid=6289">Voir les informations dans l'agenda
 ...</a></li><li>Publications concernant cet évènement :<ul><li><a href="htt
 ps://skivosges.net/index.php?option=com_content&view=article&id=8090&Itemid
 =6289">Lundi 27 Février 2023 à 19:05 : Le 15/02/2023 CHAMP DU FEU/Fond Info
 rmations</a></li></ul></li></ul></div><div class="gski-evenement-epreuves">
 <div class="gski-evenement-epreuves-titres">Epreuves :</div><ul class="gski
 -evenement-epreuves-list"><li><div class="gski-epreuve-date">Le Mercredi 15
  Février 2023</div><ul class="gski-epreuve-liste-infos"><li>Codex épreuve F
 MVM0161</li><li>KO - Sprint QUALIFICATION</li><li>Catégorie(s) : U15 (Garço
 ns)</li></ul></li><li><div class="gski-epreuve-date">Le Mercredi 15 Février
  2023</div><ul class="gski-epreuve-liste-infos"><li>Codex épreuve FMVF0162<
 /li><li>KO - Sprint QUALIFICATION</li><li>Catégorie(s) : U16 (Dames)</li></
 ul></li><li><div class="gski-epreuve-date">Le Mercredi 15 Février 2023</div
 ><ul class="gski-epreuve-liste-infos"><li>Codex épreuve FMVM0162</li><li>KO
  - Sprint QUALIFICATION</li><li>Catégorie(s) : U16 (Hommes)</li></ul></li><
 li><div class="gski-epreuve-date">Le Mercredi 15 Février 2023</div><ul clas
 s="gski-epreuve-liste-infos"><li>Codex épreuve FMVF0163</li><li>KO - Sprint
  QUALIFICATION</li><li>Catégorie(s) : U18 (Dames)</li></ul></li><li><div cl
 ass="gski-epreuve-date">Le Mercredi 15 Février 2023</div><ul class="gski-ep
 reuve-liste-infos"><li>Codex épreuve FMVM0163</li><li>KO - Sprint QUALIFICA
 TION</li><li>Catégorie(s) : U18 (Hommes)</li></ul></li><li><div class="gski
 -epreuve-date">Le Mercredi 15 Février 2023</div><ul class="gski-epreuve-lis
 te-infos"><li>Codex épreuve FMVF0164</li><li>KO - Sprint QUALIFICATION</li>
 <li>Catégorie(s) : U20/SEN (Dames)</li></ul></li><li><div class="gski-epreu
 ve-date">Le Mercredi 15 Février 2023</div><ul class="gski-epreuve-liste-inf
 os"><li>Codex épreuve FMVM0164</li><li>KO - Sprint QUALIFICATION</li><li>Ca
 tégorie(s) : U20/SEN (Hommes)</li></ul></li></ul></div><div class="gskiepre
 uves-links"><ul><li><a href="https://skivosges.net/index.php?option=com_jev
 ents&task=icalevent.detail&evid=1994&Itemid=6289">Voir les informations dan
 s l'agenda...</a></li><li>Publications concernant cet évènement :<ul><li><a
  href="https://skivosges.net/index.php?option=com_content&view=article&id=8
 090&Itemid=6289">Lundi 27 Février 2023 à 19:05 : Le 15/02/2023 CHAMP DU FEU
 /Fond Informations</a></li></ul></li></ul></div></div"><!-- #/gskiepreuve f
 in du dode généré par le plugin jevents pour GskiEpreuves. . Ne pas modifie
 r cette ligne, ni tout le contenu précedant.  #/gskiepreuve --> <a href="ht
 tps://skivosges.net/agenda/a-venir/detailevenement/1999/-/nocturne-champ-du
 -feu-big-mat-salomon-n-10-u13-7-credit-mutuel-sprint-n-6?tmpl=component">Ce
 t évènement a été importé depuis :https://skivosges.net/agenda/a-venir/deta
 ilevenement/1999/-/nocturne-champ-du-feu-big-mat-salomon-n-10-u13-7-credit-
 mutuel-sprint-n-6?tmpl=component</a>DTSTAMP:20260420T185240
DTSTART;TZID=Europe/Paris;VALUE=DATE:20230215
DTEND;TZID=Europe/Paris;VALUE=DATE:20230216
SEQUENCE:0
TRANSP:OPAQUE
END:VEVENT
END:VCALENDAR