BEGIN:VCALENDAR
VERSION:2.0
PRODID:-//jEvents 2.0 for Joomla//EN
CALSCALE:GREGORIAN
METHOD:PUBLISH
BEGIN:VTIMEZONE
TZID:Europe/Paris
BEGIN:STANDARD
DTSTART:20101208T000000
RDATE:20110327T030000
TZOFFSETFROM:+0200
TZOFFSETTO:+0100
TZNAME:Europe/Paris CET
END:STANDARD
BEGIN:STANDARD
DTSTART:20111030T020000
RDATE:20120325T030000
TZOFFSETFROM:+0200
TZOFFSETTO:+0100
TZNAME:Europe/Paris CET
END:STANDARD
BEGIN:STANDARD
DTSTART:20121028T020000
RDATE:20130331T030000
TZOFFSETFROM:+0200
TZOFFSETTO:+0100
TZNAME:Europe/Paris CET
END:STANDARD
BEGIN:STANDARD
DTSTART:20131027T020000
RDATE:20140330T030000
TZOFFSETFROM:+0200
TZOFFSETTO:+0100
TZNAME:Europe/Paris CET
END:STANDARD
BEGIN:STANDARD
DTSTART:20141026T020000
RDATE:20150329T030000
TZOFFSETFROM:+0200
TZOFFSETTO:+0100
TZNAME:Europe/Paris CET
END:STANDARD
BEGIN:STANDARD
DTSTART:20151025T020000
RDATE:20160327T030000
TZOFFSETFROM:+0200
TZOFFSETTO:+0100
TZNAME:Europe/Paris CET
END:STANDARD
BEGIN:STANDARD
DTSTART:20161030T020000
RDATE:20170326T030000
TZOFFSETFROM:+0200
TZOFFSETTO:+0100
TZNAME:Europe/Paris CET
END:STANDARD
BEGIN:STANDARD
DTSTART:20171029T020000
RDATE:20180325T030000
TZOFFSETFROM:+0200
TZOFFSETTO:+0100
TZNAME:Europe/Paris CET
END:STANDARD
BEGIN:STANDARD
DTSTART:20181028T020000
RDATE:20190331T030000
TZOFFSETFROM:+0200
TZOFFSETTO:+0100
TZNAME:Europe/Paris CET
END:STANDARD
BEGIN:STANDARD
DTSTART:20191027T020000
RDATE:20200329T030000
TZOFFSETFROM:+0200
TZOFFSETTO:+0100
TZNAME:Europe/Paris CET
END:STANDARD
BEGIN:STANDARD
DTSTART:20201025T020000
RDATE:20210328T030000
TZOFFSETFROM:+0200
TZOFFSETTO:+0100
TZNAME:Europe/Paris CET
END:STANDARD
BEGIN:STANDARD
DTSTART:20211031T020000
RDATE:20220327T030000
TZOFFSETFROM:+0200
TZOFFSETTO:+0100
TZNAME:Europe/Paris CET
END:STANDARD
BEGIN:STANDARD
DTSTART:20221030T020000
RDATE:20230326T030000
TZOFFSETFROM:+0200
TZOFFSETTO:+0100
TZNAME:Europe/Paris CET
END:STANDARD
BEGIN:STANDARD
DTSTART:20231029T020000
RDATE:20240331T030000
TZOFFSETFROM:+0200
TZOFFSETTO:+0100
TZNAME:Europe/Paris CET
END:STANDARD
BEGIN:STANDARD
DTSTART:20241027T020000
RDATE:20250330T030000
TZOFFSETFROM:+0200
TZOFFSETTO:+0100
TZNAME:Europe/Paris CET
END:STANDARD
BEGIN:STANDARD
DTSTART:20251026T020000
RDATE:20260329T030000
TZOFFSETFROM:+0200
TZOFFSETTO:+0100
TZNAME:Europe/Paris CET
END:STANDARD
BEGIN:STANDARD
DTSTART:20261025T020000
RDATE:20270328T030000
TZOFFSETFROM:+0200
TZOFFSETTO:+0100
TZNAME:Europe/Paris CET
END:STANDARD
BEGIN:DAYLIGHT
DTSTART:20110327T030000
RDATE:20111030T020000
TZOFFSETFROM:+0100
TZOFFSETTO:+0200
TZNAME:Europe/Paris CEST
END:DAYLIGHT
BEGIN:DAYLIGHT
DTSTART:20120325T030000
RDATE:20121028T020000
TZOFFSETFROM:+0100
TZOFFSETTO:+0200
TZNAME:Europe/Paris CEST
END:DAYLIGHT
BEGIN:DAYLIGHT
DTSTART:20130331T030000
RDATE:20131027T020000
TZOFFSETFROM:+0100
TZOFFSETTO:+0200
TZNAME:Europe/Paris CEST
END:DAYLIGHT
BEGIN:DAYLIGHT
DTSTART:20140330T030000
RDATE:20141026T020000
TZOFFSETFROM:+0100
TZOFFSETTO:+0200
TZNAME:Europe/Paris CEST
END:DAYLIGHT
BEGIN:DAYLIGHT
DTSTART:20150329T030000
RDATE:20151025T020000
TZOFFSETFROM:+0100
TZOFFSETTO:+0200
TZNAME:Europe/Paris CEST
END:DAYLIGHT
BEGIN:DAYLIGHT
DTSTART:20160327T030000
RDATE:20161030T020000
TZOFFSETFROM:+0100
TZOFFSETTO:+0200
TZNAME:Europe/Paris CEST
END:DAYLIGHT
BEGIN:DAYLIGHT
DTSTART:20170326T030000
RDATE:20171029T020000
TZOFFSETFROM:+0100
TZOFFSETTO:+0200
TZNAME:Europe/Paris CEST
END:DAYLIGHT
BEGIN:DAYLIGHT
DTSTART:20180325T030000
RDATE:20181028T020000
TZOFFSETFROM:+0100
TZOFFSETTO:+0200
TZNAME:Europe/Paris CEST
END:DAYLIGHT
BEGIN:DAYLIGHT
DTSTART:20190331T030000
RDATE:20191027T020000
TZOFFSETFROM:+0100
TZOFFSETTO:+0200
TZNAME:Europe/Paris CEST
END:DAYLIGHT
BEGIN:DAYLIGHT
DTSTART:20200329T030000
RDATE:20201025T020000
TZOFFSETFROM:+0100
TZOFFSETTO:+0200
TZNAME:Europe/Paris CEST
END:DAYLIGHT
BEGIN:DAYLIGHT
DTSTART:20210328T030000
RDATE:20211031T020000
TZOFFSETFROM:+0100
TZOFFSETTO:+0200
TZNAME:Europe/Paris CEST
END:DAYLIGHT
BEGIN:DAYLIGHT
DTSTART:20220327T030000
RDATE:20221030T020000
TZOFFSETFROM:+0100
TZOFFSETTO:+0200
TZNAME:Europe/Paris CEST
END:DAYLIGHT
BEGIN:DAYLIGHT
DTSTART:20230326T030000
RDATE:20231029T020000
TZOFFSETFROM:+0100
TZOFFSETTO:+0200
TZNAME:Europe/Paris CEST
END:DAYLIGHT
BEGIN:DAYLIGHT
DTSTART:20240331T030000
RDATE:20241027T020000
TZOFFSETFROM:+0100
TZOFFSETTO:+0200
TZNAME:Europe/Paris CEST
END:DAYLIGHT
BEGIN:DAYLIGHT
DTSTART:20250330T030000
RDATE:20251026T020000
TZOFFSETFROM:+0100
TZOFFSETTO:+0200
TZNAME:Europe/Paris CEST
END:DAYLIGHT
BEGIN:DAYLIGHT
DTSTART:20260329T030000
RDATE:20261025T020000
TZOFFSETFROM:+0100
TZOFFSETTO:+0200
TZNAME:Europe/Paris CEST
END:DAYLIGHT
END:VTIMEZONE
BEGIN:VEVENT
UID:a70b839fd07cdb58e3d3aed6fbef0e0c
CATEGORIES:Ski Loisir - Sorties CRMVS
CREATED:20111102T171547
SUMMARY:Critérium de la 1ère Neige **ANNULE**
URL;VALUE=URI:https://skivosges.net/agenda/a-venir/detailevenement/2/-/criterium-de-la-1e
 re-neige-annule?tmpl=component
DESCRIPTION:<p class="attention"> </p><p>Le 01/12/2011 : <span class="observation atten
 tion">** </span> <span class="observation attention"><strong>Epreuve ANNULE
 E</strong> - Déplacement ANNULE **</span></p><p> </p><p>La Commission Régio
 nale Ski Loisirs/ Développement a décidé d’organiser un déplacement à l’occ
 asion du Critérium de la 1ère Neige de VAL D’ISERE.</p><p>Ce déplacement se
 ra réservé <b>prioritairement</b> aux licenciés.</p><p> </p><p>Vous trouver
 ez toutes les informations dans le document : <a class="jcepopup" href="doc
 uments/2012/secretariat/Manifestations_Sorties/111209-11_Val_Isere/programm
 e.pdf" target="_blank">Programme et informations sur la sortie...</a></p><p
 > </p><p><strong>Pré-Inscription obligatoire en complétant le formulaire ci
 -dessous</strong>.<br />Après validation vous recevrez un courriel avec un 
 lien de validation sur lequel il faudra impérativement cliquer pour reserve
 r votre place.</p><p>Il faudra ensuite retourner au siège du CRMVS <strong>
 avant le 30/11/2011 imperativement</strong> :</p><ul><li>Le <a class="jcepo
 pup" href="documents/2012/secretariat/Manifestations_Sorties/111209-11_Val_
 Isere/inscription.pdf" target="_blank">formulaire d'inscription rempli...</
 a></li><li>L'<a class="jcepopup" href="documents/2012/secretariat/Manifesta
 tions_Sorties/111209-11_Val_Isere/decharge.pdf" target="_blank">engagement 
 / décharge rempli et signé...</a></li><li>La <a class="jcepopup" href="docu
 ments/2012/secretariat/Manifestations_Sorties/fiche_sanitaire.pdf" target="
 _blank">Fiche sanitaire de liaison dûment remplie...</a></li><li>Photocopie
  de la carte d'identité (orignal à avoir sur soi lors de déplacement)</li><
 li>Photocopie de l'autorisation de sortie du territoire (original à present
 er lors du déplacement)</li><li>Chèque de 150euros à l'ordre du CRMVS</li><
 /ul><p>Le 01/12/2011 :<span class="attention"> ** <span> </span>Epreuve ANN
 ULEE - Déplacement ANNULE **</span></p><p> </p> <a href="https://skivosges.
 net/agenda/a-venir/detailevenement/2/-/criterium-de-la-1ere-neige-annule?tm
 pl=component">Cet évènement a été importé depuis :https://skivosges.net/age
 nda/a-venir/detailevenement/2/-/criterium-de-la-1ere-neige-annule?tmpl=comp
 onent</a>
X-ALT-DESC;FMTTYPE=text/html:<p class="attention"> </p><p>Le 01/12/2011 : <span class="observation atten
 tion">** </span> <span class="observation attention"><strong>Epreuve ANNULE
 E</strong> - Déplacement ANNULE **</span></p><p> </p><p>La Commission Régio
 nale Ski Loisirs/ Développement a décidé d’organiser un déplacement à l’occ
 asion du Critérium de la 1ère Neige de VAL D’ISERE.</p><p>Ce déplacement se
 ra réservé <b>prioritairement</b> aux licenciés.</p><p> </p><p>Vous trouver
 ez toutes les informations dans le document : <a class="jcepopup" href="htt
 ps://skivosges.net/documents/2012/secretariat/Manifestations_Sorties/111209
 -11_Val_Isere/programme.pdf" target="_blank">Programme et informations sur 
 la sortie...</a></p><p> </p><p><strong>Pré-Inscription obligatoire en compl
 étant le formulaire ci-dessous</strong>.<br />Après validation vous recevre
 z un courriel avec un lien de validation sur lequel il faudra impérativemen
 t cliquer pour reserver votre place.</p><p>Il faudra ensuite retourner au s
 iège du CRMVS <strong>avant le 30/11/2011 imperativement</strong> :</p><ul>
 <li>Le <a class="jcepopup" href="https://skivosges.net/documents/2012/secre
 tariat/Manifestations_Sorties/111209-11_Val_Isere/inscription.pdf" target="
 _blank">formulaire d'inscription rempli...</a></li><li>L'<a class="jcepopup
 " href="https://skivosges.net/documents/2012/secretariat/Manifestations_Sor
 ties/111209-11_Val_Isere/decharge.pdf" target="_blank">engagement / décharg
 e rempli et signé...</a></li><li>La <a class="jcepopup" href="https://skivo
 sges.net/documents/2012/secretariat/Manifestations_Sorties/fiche_sanitaire.
 pdf" target="_blank">Fiche sanitaire de liaison dûment remplie...</a></li><
 li>Photocopie de la carte d'identité (orignal à avoir sur soi lors de dépla
 cement)</li><li>Photocopie de l'autorisation de sortie du territoire (origi
 nal à presenter lors du déplacement)</li><li>Chèque de 150euros à l'ordre d
 u CRMVS</li></ul><p>Le 01/12/2011 :<span class="attention"> ** <span> </spa
 n>Epreuve ANNULEE - Déplacement ANNULE **</span></p><p> </p> <a href="https
 ://skivosges.net/agenda/a-venir/detailevenement/2/-/criterium-de-la-1ere-ne
 ige-annule?tmpl=component">Cet évènement a été importé depuis :https://skiv
 osges.net/agenda/a-venir/detailevenement/2/-/criterium-de-la-1ere-neige-ann
 ule?tmpl=component</a>DTSTAMP:20260420T221554
DTSTART;TZID=Europe/Paris;VALUE=DATE:20111209
DTEND;TZID=Europe/Paris;VALUE=DATE:20111212
SEQUENCE:0
TRANSP:OPAQUE
END:VEVENT
END:VCALENDAR