BEGIN:VCALENDAR
VERSION:2.0
PRODID:-//jEvents 2.0 for Joomla//EN
CALSCALE:GREGORIAN
METHOD:PUBLISH
BEGIN:VTIMEZONE
TZID:Europe/Paris
BEGIN:STANDARD
DTSTART:20220217T000000
RDATE:20220327T030000
TZOFFSETFROM:+0200
TZOFFSETTO:+0100
TZNAME:Europe/Paris CET
END:STANDARD
BEGIN:STANDARD
DTSTART:20221030T020000
RDATE:20230326T030000
TZOFFSETFROM:+0200
TZOFFSETTO:+0100
TZNAME:Europe/Paris CET
END:STANDARD
BEGIN:STANDARD
DTSTART:20231029T020000
RDATE:20240331T030000
TZOFFSETFROM:+0200
TZOFFSETTO:+0100
TZNAME:Europe/Paris CET
END:STANDARD
BEGIN:STANDARD
DTSTART:20241027T020000
RDATE:20250330T030000
TZOFFSETFROM:+0200
TZOFFSETTO:+0100
TZNAME:Europe/Paris CET
END:STANDARD
BEGIN:STANDARD
DTSTART:20251026T020000
RDATE:20260329T030000
TZOFFSETFROM:+0200
TZOFFSETTO:+0100
TZNAME:Europe/Paris CET
END:STANDARD
BEGIN:STANDARD
DTSTART:20261025T020000
RDATE:20270328T030000
TZOFFSETFROM:+0200
TZOFFSETTO:+0100
TZNAME:Europe/Paris CET
END:STANDARD
BEGIN:DAYLIGHT
DTSTART:20220327T030000
RDATE:20221030T020000
TZOFFSETFROM:+0100
TZOFFSETTO:+0200
TZNAME:Europe/Paris CEST
END:DAYLIGHT
BEGIN:DAYLIGHT
DTSTART:20230326T030000
RDATE:20231029T020000
TZOFFSETFROM:+0100
TZOFFSETTO:+0200
TZNAME:Europe/Paris CEST
END:DAYLIGHT
BEGIN:DAYLIGHT
DTSTART:20240331T030000
RDATE:20241027T020000
TZOFFSETFROM:+0100
TZOFFSETTO:+0200
TZNAME:Europe/Paris CEST
END:DAYLIGHT
BEGIN:DAYLIGHT
DTSTART:20250330T030000
RDATE:20251026T020000
TZOFFSETFROM:+0100
TZOFFSETTO:+0200
TZNAME:Europe/Paris CEST
END:DAYLIGHT
BEGIN:DAYLIGHT
DTSTART:20260329T030000
RDATE:20261025T020000
TZOFFSETFROM:+0100
TZOFFSETTO:+0200
TZNAME:Europe/Paris CEST
END:DAYLIGHT
END:VTIMEZONE
BEGIN:VEVENT
UID:3386fc64f86c1903818443ed784951b6
CATEGORIES:Opens et Promos (alpin)
CREATED:20221118T190002
SUMMARY:PROMO Prix du SCOSEG **REPORTE**
URL;VALUE=URI:https://skivosges.net/agenda/a-venir/detailevenement/2003/-/promo-prix-du-s
 coseg-reporte?tmpl=component
DESCRIPTION:PROMO Prix du SCOSEG (Epreuve reportée, date à determiner)\n - Codex évenem
 ent AMVT0560\n - Station : MARKSTEIN\n - Organisateur : 14356 S.C.O.S.E.G. 
 GUEBWILLER\n - Courriel : RegularLabs.EmailProtector.unCloak("ep_10cd12b8")
 ;\n - Téléphone : 03 89 76 09 25\n - Délégué Technique : KOHLER JEAN PIERRE
 Période d'inscription à l'evènement du Samedi 11 Février 2023 à 00:00 au Je
 udi 16 Février 2023 à 12:00Inscriptions ouvertes aux detenteurs des titres 
 Fédéraux valides suivants : Licenciés Compétiteurs et Titres Loisirs et Dir
 igeants\n - Voir les informations dans l'agenda... (/index.php?option=com_j
 events&amp;task=icalevent.detail&amp;evid=1998&amp;Itemid=6289)Epreuves :\n
  - Le Samedi 18 Février 2023\n - Codex épreuve AMVF0561\n - Slalom Geant\n 
 - Catégorie(s) : U8/U10 (Filles)\n - Le Samedi 18 Février 2023\n - Codex ép
 reuve AMVF0562\n - Slalom Geant\n - Catégorie(s) : U12/U14 (Filles)\n - Le 
 Samedi 18 Février 2023\n - Codex épreuve AMVM0562\n - Slalom Geant\n - Caté
 gorie(s) : U12/U14 (Garçons)\n - Voir les informations dans l'agenda... (/i
 ndex.php?option=com_jevents&amp;task=icalevent.detail&amp;evid=1998&amp;Ite
 mid=6289) Cet évènement a été importé depuis :https://skivosges.net/agenda/
 a-venir/detailevenement/2003/-/promo-prix-du-scoseg-reporte?tmpl=component 
 (https://skivosges.net/agenda/a-venir/detailevenement/2003/-/promo-prix-du-
 scoseg-reporte?tmpl=component)
X-ALT-DESC;FMTTYPE=text/html:<!-- #gskiepreuve code généré par le plugin jevents pour GskiEpreuves. Ne p
 as modifier cette ligne, ni tout le contenu suivant  #gskiepreuve --><div c
 lass="gski-evenement_infos"><div class="gski-evenement-nom">PROMO Prix du S
 COSEG</div><div class="gski-evenement-report"> <font class="gskiattention">
 (Epreuve reportée, date à determiner)</font></div><ul class="gski-evenement
 -liste-infos"><li>Codex évenement AMVT0560</li><li>Station : MARKSTEIN</li>
 <li>Organisateur : 14356 S.C.O.S.E.G. GUEBWILLER</li><li>Courriel : <!-- Ce
 tte adresse électronique est protégée contre les robots spammeurs. --><span
  class="cloaked_email ep_10cd12b8"><span data-ep-a="in&#102;" data-ep-b="&#
 46;&#102;&#114;"><span data-ep-b="&#115;&#101;&#103;" data-ep-a="&#111;&#64
 ;&#115;"><span data-ep-b="s&#99;o" data-ep-a="k&#105;&#45;"></span></span><
 /span></span><script>RegularLabs.EmailProtector.unCloak("ep_10cd12b8");</sc
 ript></li><li>Téléphone : 03 89 76 09 25</li><li><span class="gski-evenemen
 t-obs">Délégué Technique : KOHLER JEAN PIERRE</span></li></ul><div class="g
 ski-evenement-infos-2"><div class="gski-evenement-info-inscriptions"><div c
 lass="gski-evenement-inscriptions-periodes">Période d'inscription à l'evène
 ment du Samedi 11 Février 2023 à 00:00 au Jeudi 16 Février 2023 à 12:00<div
  class="gski-evenement-inscriptions-types-titres">Inscriptions ouvertes aux
  detenteurs des titres Fédéraux valides suivants : Licenciés Compétiteurs e
 t Titres Loisirs et Dirigeants</div></div></div><div class="gskiepreuves-li
 nks"><ul><li><a href="https://skivosges.net/index.php?option=com_jevents&ta
 sk=icalevent.detail&evid=1998&Itemid=6289">Voir les informations dans l'age
 nda...</a></li></ul></div><div class="gski-evenement-epreuves"><div class="
 gski-evenement-epreuves-titres">Epreuves :</div><ul class="gski-evenement-e
 preuves-list"><li><div class="gski-epreuve-date">Le Samedi 18 Février 2023<
 /div><ul class="gski-epreuve-liste-infos"><li>Codex épreuve AMVF0561</li><l
 i>Slalom Geant</li><li>Catégorie(s) : U8/U10 (Filles)</li></ul></li><li><di
 v class="gski-epreuve-date">Le Samedi 18 Février 2023</div><ul class="gski-
 epreuve-liste-infos"><li>Codex épreuve AMVF0562</li><li>Slalom Geant</li><l
 i>Catégorie(s) : U12/U14 (Filles)</li></ul></li><li><div class="gski-epreuv
 e-date">Le Samedi 18 Février 2023</div><ul class="gski-epreuve-liste-infos"
 ><li>Codex épreuve AMVM0562</li><li>Slalom Geant</li><li>Catégorie(s) : U12
 /U14 (Garçons)</li></ul></li></ul></div><div class="gskiepreuves-links"><ul
 ><li><a href="https://skivosges.net/index.php?option=com_jevents&task=icale
 vent.detail&evid=1998&Itemid=6289">Voir les informations dans l'agenda...</
 a></li></ul></div></div"><!-- #/gskiepreuve fin du dode généré par le plugi
 n jevents pour GskiEpreuves. . Ne pas modifier cette ligne, ni tout le cont
 enu précedant.  #/gskiepreuve --> <a href="https://skivosges.net/agenda/a-v
 enir/detailevenement/2003/-/promo-prix-du-scoseg-reporte?tmpl=component">Ce
 t évènement a été importé depuis :https://skivosges.net/agenda/a-venir/deta
 ilevenement/2003/-/promo-prix-du-scoseg-reporte?tmpl=component</a>DTSTAMP:20260421T051213
DTSTART;TZID=Europe/Paris;VALUE=DATE:20230218
DTEND;TZID=Europe/Paris;VALUE=DATE:20230219
SEQUENCE:0
TRANSP:OPAQUE
END:VEVENT
END:VCALENDAR