BEGIN:VCALENDAR
VERSION:2.0
PRODID:-//jEvents 2.0 for Joomla//EN
CALSCALE:GREGORIAN
METHOD:PUBLISH
BEGIN:VTIMEZONE
TZID:Europe/Paris
BEGIN:STANDARD
DTSTART:20220218T000000
RDATE:20220327T030000
TZOFFSETFROM:+0200
TZOFFSETTO:+0100
TZNAME:Europe/Paris CET
END:STANDARD
BEGIN:STANDARD
DTSTART:20221030T020000
RDATE:20230326T030000
TZOFFSETFROM:+0200
TZOFFSETTO:+0100
TZNAME:Europe/Paris CET
END:STANDARD
BEGIN:STANDARD
DTSTART:20231029T020000
RDATE:20240331T030000
TZOFFSETFROM:+0200
TZOFFSETTO:+0100
TZNAME:Europe/Paris CET
END:STANDARD
BEGIN:STANDARD
DTSTART:20241027T020000
RDATE:20250330T030000
TZOFFSETFROM:+0200
TZOFFSETTO:+0100
TZNAME:Europe/Paris CET
END:STANDARD
BEGIN:STANDARD
DTSTART:20251026T020000
RDATE:20260329T030000
TZOFFSETFROM:+0200
TZOFFSETTO:+0100
TZNAME:Europe/Paris CET
END:STANDARD
BEGIN:STANDARD
DTSTART:20261025T020000
RDATE:20270328T030000
TZOFFSETFROM:+0200
TZOFFSETTO:+0100
TZNAME:Europe/Paris CET
END:STANDARD
BEGIN:DAYLIGHT
DTSTART:20220327T030000
RDATE:20221030T020000
TZOFFSETFROM:+0100
TZOFFSETTO:+0200
TZNAME:Europe/Paris CEST
END:DAYLIGHT
BEGIN:DAYLIGHT
DTSTART:20230326T030000
RDATE:20231029T020000
TZOFFSETFROM:+0100
TZOFFSETTO:+0200
TZNAME:Europe/Paris CEST
END:DAYLIGHT
BEGIN:DAYLIGHT
DTSTART:20240331T030000
RDATE:20241027T020000
TZOFFSETFROM:+0100
TZOFFSETTO:+0200
TZNAME:Europe/Paris CEST
END:DAYLIGHT
BEGIN:DAYLIGHT
DTSTART:20250330T030000
RDATE:20251026T020000
TZOFFSETFROM:+0100
TZOFFSETTO:+0200
TZNAME:Europe/Paris CEST
END:DAYLIGHT
BEGIN:DAYLIGHT
DTSTART:20260329T030000
RDATE:20261025T020000
TZOFFSETFROM:+0100
TZOFFSETTO:+0200
TZNAME:Europe/Paris CEST
END:DAYLIGHT
END:VTIMEZONE
BEGIN:VEVENT
UID:ca716677014a6bb61fc792d706e177e1
CATEGORIES:Compétition Ski Alpin
CREATED:20221118T190002
SUMMARY:CLJ Prix de la Confiserie Bressaude du SAMEDI 18 Fevrier 2023
URL;VALUE=URI:https://skivosges.net/agenda/a-venir/detailevenement/2007/-/clj-prix-de-la-
 confiserie-bressaude-du-samedi-18-fevrier-2023?tmpl=component
DESCRIPTION:CLJ Prix de la Confiserie Bressaude du SAMEDI 18 Fevrier 2023\n - Codex éve
 nement AMVT0600\n - Lieu : LANGENBERG\n - Station : BALLON d'ALSACE  \n - P
 iste : Rouge Stade de slalom\n - Organisateur : 14063 SKIEURS DE ST MAURICE
 /MOSELLE\n - Courriel : RegularLabs.EmailProtector.unCloak("ep_20e3f3cb");\
 n - Téléphone : 0780028040\n - Délégué Technique : CORNIL PIERRE-YVESPériod
 e d'inscription à l'evènement du Dimanche 12 Février 2023 à 00:01 au Vendre
 di 17 Février 2023 à 12:00Inscriptions ouvertes aux detenteurs des titres F
 édéraux valides suivants : Licenciés Compétiteurs\n - Voir les informations
  dans l'agenda... (/index.php?option=com_jevents&amp;task=icalevent.detail&
 amp;evid=2002&amp;Itemid=6289)\n - Vers les résultats... (/index.php?option
 =com_gskiepreuves&amp;view=afficheresultats&amp;format_option=tous&amp;filt
 er[search]=AMVT0600&amp;filter[date_debut]=18-02-2023&amp;filter[date_fin]=
 18-02-2023&amp;code_activite=ALP&amp;Itemid=6289)Epreuves :\n - Le Dimanche
  19 Février 2023 à 10:00\n - Codex épreuve AMVF0601\n - Slalom\n - Catégori
 e(s) : U8/U10 (Filles)\n - Le Dimanche 19 Février 2023 à 10:00\n - Codex ép
 reuve AMVM0602\n - Slalom\n - Catégorie(s) : U12/U14 (Garçons)\n - Le Diman
 che 19 Février 2023 à 10:00\n - Codex épreuve AMVF0602\n - Slalom\n - Catég
 orie(s) : U12/U14 (Filles)\n - Voir les informations dans l'agenda... (/ind
 ex.php?option=com_jevents&amp;task=icalevent.detail&amp;evid=2002&amp;Itemi
 d=6289)\n - Vers les résultats... (/index.php?option=com_gskiepreuves&amp;v
 iew=afficheresultats&amp;format_option=tous&amp;filter[search]=AMVT0600&amp
 ;filter[date_debut]=18-02-2023&amp;filter[date_fin]=18-02-2023&amp;code_act
 ivite=ALP&amp;Itemid=6289) Cet évènement a été importé depuis :https://skiv
 osges.net/agenda/a-venir/detailevenement/2007/-/clj-prix-de-la-confiserie-b
 ressaude-du-samedi-18-fevrier-2023?tmpl=component
X-ALT-DESC;FMTTYPE=text/html:<!-- #gskiepreuve code généré par le plugin jevents pour GskiEpreuves. Ne p
 as modifier cette ligne, ni tout le contenu suivant  #gskiepreuve --><div c
 lass="gski-evenement_infos"><div class="gski-evenement-nom">CLJ Prix de la 
 Confiserie Bressaude du SAMEDI 18 Fevrier 2023</div><div class="gski-evenem
 ent-report"></div><ul class="gski-evenement-liste-infos"><li>Codex évenemen
 t AMVT0600</li><li>Lieu : LANGENBERG</li><li>Station : BALLON d&#039;ALSACE
   </li><li>Piste : Rouge Stade de slalom</li><li>Organisateur : 14063 SKIEU
 RS DE ST MAURICE/MOSELLE</li><li>Courriel : <!-- Cette adresse électronique
  est protégée contre les robots spammeurs. --><span class="cloaked_email ep
 _20e3f3cb"><span data-ep-b="" data-ep-a="&#100;&#97;&#110;i"><span data-ep-
 a="el&#46;m" data-ep-b="r.&#102;&#114;"><span data-ep-b="&#53;&#64;&#115;&#
 102;" data-ep-a="o&#114;&#101;&#108;"></span></span></span></span><script>R
 egularLabs.EmailProtector.unCloak("ep_20e3f3cb");</script></li><li>Téléphon
 e : 0780028040</li><li><span class="gski-evenement-obs">Délégué Technique :
  CORNIL PIERRE-YVES</span></li></ul><div class="gski-evenement-infos-2"><di
 v class="gski-evenement-info-inscriptions"><div class="gski-evenement-inscr
 iptions-periodes">Période d'inscription à l'evènement du Dimanche 12 Févrie
 r 2023 à 00:01 au Vendredi 17 Février 2023 à 12:00<div class="gski-evenemen
 t-inscriptions-types-titres">Inscriptions ouvertes aux detenteurs des titre
 s Fédéraux valides suivants : Licenciés Compétiteurs</div></div></div><div 
 class="gskiepreuves-links"><ul><li><a href="https://skivosges.net/index.php
 ?option=com_jevents&task=icalevent.detail&evid=2002&Itemid=6289">Voir les i
 nformations dans l'agenda...</a></li><li><a href="https://skivosges.net/ind
 ex.php?option=com_gskiepreuves&view=afficheresultats&format_option=tous&fil
 ter[search]=AMVT0600&filter[date_debut]=18-02-2023&filter[date_fin]=18-02-2
 023&code_activite=ALP&Itemid=6289">Vers les résultats...</a></li></ul></div
 ><div class="gski-evenement-epreuves"><div class="gski-evenement-epreuves-t
 itres">Epreuves :</div><ul class="gski-evenement-epreuves-list"><li><div cl
 ass="gski-epreuve-date">Le Dimanche 19 Février 2023 à 10:00</div><ul class=
 "gski-epreuve-liste-infos"><li>Codex épreuve AMVF0601</li><li>Slalom</li><l
 i>Catégorie(s) : U8/U10 (Filles)</li></ul></li><li><div class="gski-epreuve
 -date">Le Dimanche 19 Février 2023 à 10:00</div><ul class="gski-epreuve-lis
 te-infos"><li>Codex épreuve AMVM0602</li><li>Slalom</li><li>Catégorie(s) : 
 U12/U14 (Garçons)</li></ul></li><li><div class="gski-epreuve-date">Le Diman
 che 19 Février 2023 à 10:00</div><ul class="gski-epreuve-liste-infos"><li>C
 odex épreuve AMVF0602</li><li>Slalom</li><li>Catégorie(s) : U12/U14 (Filles
 )</li></ul></li></ul></div><div class="gskiepreuves-links"><ul><li><a href=
 "https://skivosges.net/index.php?option=com_jevents&task=icalevent.detail&e
 vid=2002&Itemid=6289">Voir les informations dans l'agenda...</a></li><li><a
  href="https://skivosges.net/index.php?option=com_gskiepreuves&view=affiche
 resultats&format_option=tous&filter[search]=AMVT0600&filter[date_debut]=18-
 02-2023&filter[date_fin]=18-02-2023&code_activite=ALP&Itemid=6289">Vers les
  résultats...</a></li></ul></div></div"><!-- #/gskiepreuve fin du dode géné
 ré par le plugin jevents pour GskiEpreuves. . Ne pas modifier cette ligne, 
 ni tout le contenu précedant.  #/gskiepreuve --> <a href="https://skivosges
 .net/agenda/a-venir/detailevenement/2007/-/clj-prix-de-la-confiserie-bressa
 ude-du-samedi-18-fevrier-2023?tmpl=component">Cet évènement a été importé d
 epuis :https://skivosges.net/agenda/a-venir/detailevenement/2007/-/clj-prix
 -de-la-confiserie-bressaude-du-samedi-18-fevrier-2023?tmpl=component</a>DTSTAMP:20260421T051307
DTSTART;TZID=Europe/Paris;VALUE=DATE:20230219
DTEND;TZID=Europe/Paris;VALUE=DATE:20230220
SEQUENCE:0
TRANSP:OPAQUE
END:VEVENT
END:VCALENDAR