BEGIN:VCALENDAR
VERSION:2.0
PRODID:-//jEvents 2.0 for Joomla//EN
CALSCALE:GREGORIAN
METHOD:PUBLISH
BEGIN:VTIMEZONE
TZID:Europe/Paris
BEGIN:STANDARD
DTSTART:20131027T020000
RDATE:20140330T030000
TZOFFSETFROM:+0200
TZOFFSETTO:+0100
TZNAME:Europe/Paris CET
END:STANDARD
BEGIN:STANDARD
DTSTART:20141026T020000
RDATE:20150329T030000
TZOFFSETFROM:+0200
TZOFFSETTO:+0100
TZNAME:Europe/Paris CET
END:STANDARD
BEGIN:STANDARD
DTSTART:20151025T020000
RDATE:20160327T030000
TZOFFSETFROM:+0200
TZOFFSETTO:+0100
TZNAME:Europe/Paris CET
END:STANDARD
BEGIN:STANDARD
DTSTART:20161030T020000
RDATE:20170326T030000
TZOFFSETFROM:+0200
TZOFFSETTO:+0100
TZNAME:Europe/Paris CET
END:STANDARD
BEGIN:STANDARD
DTSTART:20171029T020000
RDATE:20180325T030000
TZOFFSETFROM:+0200
TZOFFSETTO:+0100
TZNAME:Europe/Paris CET
END:STANDARD
BEGIN:STANDARD
DTSTART:20181028T020000
RDATE:20190331T030000
TZOFFSETFROM:+0200
TZOFFSETTO:+0100
TZNAME:Europe/Paris CET
END:STANDARD
BEGIN:STANDARD
DTSTART:20191027T020000
RDATE:20200329T030000
TZOFFSETFROM:+0200
TZOFFSETTO:+0100
TZNAME:Europe/Paris CET
END:STANDARD
BEGIN:STANDARD
DTSTART:20201025T020000
RDATE:20210328T030000
TZOFFSETFROM:+0200
TZOFFSETTO:+0100
TZNAME:Europe/Paris CET
END:STANDARD
BEGIN:STANDARD
DTSTART:20211031T020000
RDATE:20220327T030000
TZOFFSETFROM:+0200
TZOFFSETTO:+0100
TZNAME:Europe/Paris CET
END:STANDARD
BEGIN:STANDARD
DTSTART:20221030T020000
RDATE:20230326T030000
TZOFFSETFROM:+0200
TZOFFSETTO:+0100
TZNAME:Europe/Paris CET
END:STANDARD
BEGIN:STANDARD
DTSTART:20231029T020000
RDATE:20240331T030000
TZOFFSETFROM:+0200
TZOFFSETTO:+0100
TZNAME:Europe/Paris CET
END:STANDARD
BEGIN:STANDARD
DTSTART:20241027T020000
RDATE:20250330T030000
TZOFFSETFROM:+0200
TZOFFSETTO:+0100
TZNAME:Europe/Paris CET
END:STANDARD
BEGIN:STANDARD
DTSTART:20251026T020000
RDATE:20260329T030000
TZOFFSETFROM:+0200
TZOFFSETTO:+0100
TZNAME:Europe/Paris CET
END:STANDARD
BEGIN:STANDARD
DTSTART:20261025T020000
RDATE:20270328T030000
TZOFFSETFROM:+0200
TZOFFSETTO:+0100
TZNAME:Europe/Paris CET
END:STANDARD
BEGIN:DAYLIGHT
DTSTART:20130405T080000
RDATE:20131027T020000
TZOFFSETFROM:+0100
TZOFFSETTO:+0200
TZNAME:Europe/Paris CEST
END:DAYLIGHT
BEGIN:DAYLIGHT
DTSTART:20140330T030000
RDATE:20141026T020000
TZOFFSETFROM:+0100
TZOFFSETTO:+0200
TZNAME:Europe/Paris CEST
END:DAYLIGHT
BEGIN:DAYLIGHT
DTSTART:20150329T030000
RDATE:20151025T020000
TZOFFSETFROM:+0100
TZOFFSETTO:+0200
TZNAME:Europe/Paris CEST
END:DAYLIGHT
BEGIN:DAYLIGHT
DTSTART:20160327T030000
RDATE:20161030T020000
TZOFFSETFROM:+0100
TZOFFSETTO:+0200
TZNAME:Europe/Paris CEST
END:DAYLIGHT
BEGIN:DAYLIGHT
DTSTART:20170326T030000
RDATE:20171029T020000
TZOFFSETFROM:+0100
TZOFFSETTO:+0200
TZNAME:Europe/Paris CEST
END:DAYLIGHT
BEGIN:DAYLIGHT
DTSTART:20180325T030000
RDATE:20181028T020000
TZOFFSETFROM:+0100
TZOFFSETTO:+0200
TZNAME:Europe/Paris CEST
END:DAYLIGHT
BEGIN:DAYLIGHT
DTSTART:20190331T030000
RDATE:20191027T020000
TZOFFSETFROM:+0100
TZOFFSETTO:+0200
TZNAME:Europe/Paris CEST
END:DAYLIGHT
BEGIN:DAYLIGHT
DTSTART:20200329T030000
RDATE:20201025T020000
TZOFFSETFROM:+0100
TZOFFSETTO:+0200
TZNAME:Europe/Paris CEST
END:DAYLIGHT
BEGIN:DAYLIGHT
DTSTART:20210328T030000
RDATE:20211031T020000
TZOFFSETFROM:+0100
TZOFFSETTO:+0200
TZNAME:Europe/Paris CEST
END:DAYLIGHT
BEGIN:DAYLIGHT
DTSTART:20220327T030000
RDATE:20221030T020000
TZOFFSETFROM:+0100
TZOFFSETTO:+0200
TZNAME:Europe/Paris CEST
END:DAYLIGHT
BEGIN:DAYLIGHT
DTSTART:20230326T030000
RDATE:20231029T020000
TZOFFSETFROM:+0100
TZOFFSETTO:+0200
TZNAME:Europe/Paris CEST
END:DAYLIGHT
BEGIN:DAYLIGHT
DTSTART:20240331T030000
RDATE:20241027T020000
TZOFFSETFROM:+0100
TZOFFSETTO:+0200
TZNAME:Europe/Paris CEST
END:DAYLIGHT
BEGIN:DAYLIGHT
DTSTART:20250330T030000
RDATE:20251026T020000
TZOFFSETFROM:+0100
TZOFFSETTO:+0200
TZNAME:Europe/Paris CEST
END:DAYLIGHT
BEGIN:DAYLIGHT
DTSTART:20260329T030000
RDATE:20261025T020000
TZOFFSETFROM:+0100
TZOFFSETTO:+0200
TZNAME:Europe/Paris CEST
END:DAYLIGHT
END:VTIMEZONE
BEGIN:VEVENT
UID:eca8a9749ceeb4e891ac9e981eb1926e
CATEGORIES:Autres Épreuves (alpin)
CREATED:20131203T122100
SUMMARY:Finale de la Cpe d'Alsace Jeunes / Cpe de la Ville de Mulhouse
URL;VALUE=URI:https://skivosges.net/agenda/a-venir/detailevenement/201/-/finale-de-la-cpe
 -dalsace-jeunes-cpe-de-la-ville-de-mulhouse?tmpl=component
DESCRIPTION:Finale de la Cpe d'Alsace Jeunes / Cpe de la Ville de Mulhouse\n\nLieu : MA
 RKSTEIN \nOrganisateur : VOSGES TROTTERS MULHOUSE  (14046 VOSGES TROTTERS M
 ULHOUSE)\nEmail : RegularLabs.EmailProtector.unCloak("ep_cf1f9d0b");\n - AM
 VF0921  Parallele U8 Filles\n  Finale de la Cpe d'Alsace Jeunes / Cpe de la
  Ville de Mulhouse\n - AMVM0921  Parallele U8 Garçons\n  Finale de la Cpe d
 'Alsace Jeunes / Cpe de la Ville de Mulhouse\n - AMVF0922  Parallele de 8 a
  15ans au 31/12/2012(Mic a Min) Filles\n  Finale de la Cpe d'Alsace Jeunes 
 / Cpe de la Ville de Mulhouse\n - AMVM0922  Parallele de 8 a 15ans au 31/12
 /2012(Mic a Min) Garçons\n  Finale de la Cpe d'Alsace Jeunes / Cpe de la Vi
 lle de Mulhouse Cet évènement a été importé depuis :https://skivosges.net/a
 genda/a-venir/detailevenement/201/-/finale-de-la-cpe-dalsace-jeunes-cpe-de-
 la-ville-de-mulhouse?tmpl=component
X-ALT-DESC;FMTTYPE=text/html:<strong>Finale de la Cpe d'Alsace Jeunes / Cpe de la Ville de Mulhouse</str
 ong><br /><br />Lieu : MARKSTEIN <br />Organisateur : VOSGES TROTTERS MULHO
 USE  <small>(14046 VOSGES TROTTERS MULHOUSE)</small><br />Email : <!-- Cett
 e adresse électronique est protégée contre les robots spammeurs. --><span c
 lass="cloaked_email ep_cf1f9d0b"><span data-ep-b="&#110;&#101;&#116;" data-
 ep-a="&#98;&#97;&#108;d"><span data-ep-a="e&#99;&#107;&#46;" data-ep-b="&#1
 18;h&#114;&#46;"><span data-ep-a="&#106;o&#115;e" data-ep-b="&#112;&#104;&#
 64;&#101;"></span></span></span></span><script>RegularLabs.EmailProtector.u
 nCloak("ep_cf1f9d0b");</script><ul type="disc"><li>AMVF0921  Parallele <nob
 r>U8</nobr> Filles<br />&nbsp;&nbsp;Finale de la Cpe d'Alsace Jeunes / Cpe 
 de la Ville de Mulhouse</li><li>AMVM0921  Parallele <nobr>U8</nobr> Garçons
 <br />&nbsp;&nbsp;Finale de la Cpe d'Alsace Jeunes / Cpe de la Ville de Mul
 house</li><li>AMVF0922  Parallele <nobr>de 8 a 15ans au 31/12/2012(Mic a Mi
 n)</nobr> Filles<br />&nbsp;&nbsp;Finale de la Cpe d'Alsace Jeunes / Cpe de
  la Ville de Mulhouse</li><li>AMVM0922  Parallele <nobr>de 8 a 15ans au 31/
 12/2012(Mic a Min)</nobr> Garçons<br />&nbsp;&nbsp;Finale de la Cpe d'Alsac
 e Jeunes / Cpe de la Ville de Mulhouse</li></ul> <a href="https://skivosges
 .net/agenda/a-venir/detailevenement/201/-/finale-de-la-cpe-dalsace-jeunes-c
 pe-de-la-ville-de-mulhouse?tmpl=component">Cet évènement a été importé depu
 is :https://skivosges.net/agenda/a-venir/detailevenement/201/-/finale-de-la
 -cpe-dalsace-jeunes-cpe-de-la-ville-de-mulhouse?tmpl=component</a>DTSTAMP:20260424T015225
DTSTART;TZID=Europe/Paris:20140406T080000
DTEND;TZID=Europe/Paris:20140406T170000
SEQUENCE:0
TRANSP:OPAQUE
END:VEVENT
END:VCALENDAR