BEGIN:VCALENDAR
VERSION:2.0
PRODID:-//jEvents 2.0 for Joomla//EN
CALSCALE:GREGORIAN
METHOD:PUBLISH
BEGIN:VTIMEZONE
TZID:Europe/Paris
BEGIN:STANDARD
DTSTART:20220225T000000
RDATE:20220327T030000
TZOFFSETFROM:+0200
TZOFFSETTO:+0100
TZNAME:Europe/Paris CET
END:STANDARD
BEGIN:STANDARD
DTSTART:20221030T020000
RDATE:20230326T030000
TZOFFSETFROM:+0200
TZOFFSETTO:+0100
TZNAME:Europe/Paris CET
END:STANDARD
BEGIN:STANDARD
DTSTART:20231029T020000
RDATE:20240331T030000
TZOFFSETFROM:+0200
TZOFFSETTO:+0100
TZNAME:Europe/Paris CET
END:STANDARD
BEGIN:STANDARD
DTSTART:20241027T020000
RDATE:20250330T030000
TZOFFSETFROM:+0200
TZOFFSETTO:+0100
TZNAME:Europe/Paris CET
END:STANDARD
BEGIN:STANDARD
DTSTART:20251026T020000
RDATE:20260329T030000
TZOFFSETFROM:+0200
TZOFFSETTO:+0100
TZNAME:Europe/Paris CET
END:STANDARD
BEGIN:STANDARD
DTSTART:20261025T020000
RDATE:20270328T030000
TZOFFSETFROM:+0200
TZOFFSETTO:+0100
TZNAME:Europe/Paris CET
END:STANDARD
BEGIN:DAYLIGHT
DTSTART:20220327T030000
RDATE:20221030T020000
TZOFFSETFROM:+0100
TZOFFSETTO:+0200
TZNAME:Europe/Paris CEST
END:DAYLIGHT
BEGIN:DAYLIGHT
DTSTART:20230326T030000
RDATE:20231029T020000
TZOFFSETFROM:+0100
TZOFFSETTO:+0200
TZNAME:Europe/Paris CEST
END:DAYLIGHT
BEGIN:DAYLIGHT
DTSTART:20240331T030000
RDATE:20241027T020000
TZOFFSETFROM:+0100
TZOFFSETTO:+0200
TZNAME:Europe/Paris CEST
END:DAYLIGHT
BEGIN:DAYLIGHT
DTSTART:20250330T030000
RDATE:20251026T020000
TZOFFSETFROM:+0100
TZOFFSETTO:+0200
TZNAME:Europe/Paris CEST
END:DAYLIGHT
BEGIN:DAYLIGHT
DTSTART:20260329T030000
RDATE:20261025T020000
TZOFFSETFROM:+0100
TZOFFSETTO:+0200
TZNAME:Europe/Paris CEST
END:DAYLIGHT
END:VTIMEZONE
BEGIN:VEVENT
UID:50d87a16dc36d2c086650cade6031027
CATEGORIES:Opens et Promos (alpin)
CREATED:20221118T190002
SUMMARY:PROMO Prix de l'AS Gérardmer **REPORTE**
URL;VALUE=URI:https://skivosges.net/agenda/a-venir/detailevenement/2016/-/promo-prix-de-l
 as-gerardmer-reporte?tmpl=component
DESCRIPTION:PROMO Prix de l'AS Gérardmer (Epreuve reportée, date à determiner)\n - Code
 x évenement AMVT0690\n - Station : GERARDMER\n - Organisateur : 14089 GERAR
 DMER SKI ALPIN\n - Courriel : RegularLabs.EmailProtector.unCloak("ep_50ef5c
 7d");\n - Téléphone : 03 29 60 98 04\n - Délégué Technique : CAEL DOMINIQUE
 Période d'inscription à l'evènement du Dimanche 19 Février 2023 à 00:00 au 
 Vendredi 24 Février 2023 à 12:00Inscriptions ouvertes aux detenteurs des ti
 tres Fédéraux valides suivants : Titres Loisirs et DirigeantsL'épreuve sera
  chronométrée en direct sur https://skivosges.net/live\n - Voir les informa
 tions dans l'agenda... (/index.php?option=com_jevents&amp;task=icalevent.de
 tail&amp;evid=2011&amp;Itemid=6289)Epreuves :\n - Le Dimanche 26 Février 20
 23\n - Codex épreuve AMVF0691\n - Slalom\n - Catégorie(s) : U16 a Masters (
 Filles)\n - Voir les informations dans l'agenda... (/index.php?option=com_j
 events&amp;task=icalevent.detail&amp;evid=2011&amp;Itemid=6289) Cet évèneme
 nt a été importé depuis :https://skivosges.net/agenda/a-venir/detaileveneme
 nt/2016/-/promo-prix-de-las-gerardmer-reporte?tmpl=component
X-ALT-DESC;FMTTYPE=text/html:<!-- #gskiepreuve code généré par le plugin jevents pour GskiEpreuves. Ne p
 as modifier cette ligne, ni tout le contenu suivant  #gskiepreuve --><div c
 lass="gski-evenement_infos"><div class="gski-evenement-nom">PROMO Prix de l
 'AS Gérardmer</div><div class="gski-evenement-report"> <font class="gskiatt
 ention">(Epreuve reportée, date à determiner)</font></div><ul class="gski-e
 venement-liste-infos"><li>Codex évenement AMVT0690</li><li>Station : GERARD
 MER</li><li>Organisateur : 14089 GERARDMER SKI ALPIN</li><li>Courriel : <!-
 - Cette adresse électronique est protégée contre les robots spammeurs. --><
 span class="cloaked_email ep_50ef5c7d"><span data-ep-a="g&#101;r&#97;r" dat
 a-ep-b="&#101;&#46;&#102;&#114;"><span data-ep-a="&#100;&#109;&#101;r&#45;"
  data-ep-b="&#111;&#114;&#97;&#110;&#103;"><span data-ep-b="&#108;&#112;&#1
 05;&#110;&#64;" data-ep-a="&#115;k&#105;&#45;a"></span></span></span></span
 ><script>RegularLabs.EmailProtector.unCloak("ep_50ef5c7d");</script></li><l
 i>Téléphone : 03 29 60 98 04</li><li><span class="gski-evenement-obs">Délég
 ué Technique : CAEL DOMINIQUE</span></li></ul><div class="gski-evenement-in
 fos-2"><div class="gski-evenement-info-inscriptions"><div class="gski-evene
 ment-inscriptions-periodes">Période d'inscription à l'evènement du Dimanche
  19 Février 2023 à 00:00 au Vendredi 24 Février 2023 à 12:00<div class="gsk
 i-evenement-inscriptions-types-titres">Inscriptions ouvertes aux detenteurs
  des titres Fédéraux valides suivants : Titres Loisirs et Dirigeants</div><
 /div></div><div class="gski-evenement-info-live">L'épreuve sera chronométré
 e en direct sur https://skivosges.net/live</div><div class="gskiepreuves-li
 nks"><ul><li><a href="https://skivosges.net/index.php?option=com_jevents&ta
 sk=icalevent.detail&evid=2011&Itemid=6289">Voir les informations dans l'age
 nda...</a></li></ul></div><div class="gski-evenement-epreuves"><div class="
 gski-evenement-epreuves-titres">Epreuves :</div><ul class="gski-evenement-e
 preuves-list"><li><div class="gski-epreuve-date">Le Dimanche 26 Février 202
 3</div><ul class="gski-epreuve-liste-infos"><li>Codex épreuve AMVF0691</li>
 <li>Slalom</li><li>Catégorie(s) : U16 a Masters (Filles)</li></ul></li></ul
 ></div><div class="gskiepreuves-links"><ul><li><a href="https://skivosges.n
 et/index.php?option=com_jevents&task=icalevent.detail&evid=2011&Itemid=6289
 ">Voir les informations dans l'agenda...</a></li></ul></div></div"><!-- #/g
 skiepreuve fin du dode généré par le plugin jevents pour GskiEpreuves. . Ne
  pas modifier cette ligne, ni tout le contenu précedant.  #/gskiepreuve -->
  <a href="https://skivosges.net/agenda/a-venir/detailevenement/2016/-/promo
 -prix-de-las-gerardmer-reporte?tmpl=component">Cet évènement a été importé 
 depuis :https://skivosges.net/agenda/a-venir/detailevenement/2016/-/promo-p
 rix-de-las-gerardmer-reporte?tmpl=component</a>DTSTAMP:20260421T051214
DTSTART;TZID=Europe/Paris;VALUE=DATE:20230226
DTEND;TZID=Europe/Paris;VALUE=DATE:20230227
SEQUENCE:0
TRANSP:OPAQUE
END:VEVENT
END:VCALENDAR