BEGIN:VCALENDAR
VERSION:2.0
PRODID:-//jEvents 2.0 for Joomla//EN
CALSCALE:GREGORIAN
METHOD:PUBLISH
BEGIN:VTIMEZONE
TZID:Europe/Paris
BEGIN:STANDARD
DTSTART:20131027T020000
RDATE:20140330T030000
TZOFFSETFROM:+0200
TZOFFSETTO:+0100
TZNAME:Europe/Paris CET
END:STANDARD
BEGIN:STANDARD
DTSTART:20141026T020000
RDATE:20150329T030000
TZOFFSETFROM:+0200
TZOFFSETTO:+0100
TZNAME:Europe/Paris CET
END:STANDARD
BEGIN:STANDARD
DTSTART:20151025T020000
RDATE:20160327T030000
TZOFFSETFROM:+0200
TZOFFSETTO:+0100
TZNAME:Europe/Paris CET
END:STANDARD
BEGIN:STANDARD
DTSTART:20161030T020000
RDATE:20170326T030000
TZOFFSETFROM:+0200
TZOFFSETTO:+0100
TZNAME:Europe/Paris CET
END:STANDARD
BEGIN:STANDARD
DTSTART:20171029T020000
RDATE:20180325T030000
TZOFFSETFROM:+0200
TZOFFSETTO:+0100
TZNAME:Europe/Paris CET
END:STANDARD
BEGIN:STANDARD
DTSTART:20181028T020000
RDATE:20190331T030000
TZOFFSETFROM:+0200
TZOFFSETTO:+0100
TZNAME:Europe/Paris CET
END:STANDARD
BEGIN:STANDARD
DTSTART:20191027T020000
RDATE:20200329T030000
TZOFFSETFROM:+0200
TZOFFSETTO:+0100
TZNAME:Europe/Paris CET
END:STANDARD
BEGIN:STANDARD
DTSTART:20201025T020000
RDATE:20210328T030000
TZOFFSETFROM:+0200
TZOFFSETTO:+0100
TZNAME:Europe/Paris CET
END:STANDARD
BEGIN:STANDARD
DTSTART:20211031T020000
RDATE:20220327T030000
TZOFFSETFROM:+0200
TZOFFSETTO:+0100
TZNAME:Europe/Paris CET
END:STANDARD
BEGIN:STANDARD
DTSTART:20221030T020000
RDATE:20230326T030000
TZOFFSETFROM:+0200
TZOFFSETTO:+0100
TZNAME:Europe/Paris CET
END:STANDARD
BEGIN:STANDARD
DTSTART:20231029T020000
RDATE:20240331T030000
TZOFFSETFROM:+0200
TZOFFSETTO:+0100
TZNAME:Europe/Paris CET
END:STANDARD
BEGIN:STANDARD
DTSTART:20241027T020000
RDATE:20250330T030000
TZOFFSETFROM:+0200
TZOFFSETTO:+0100
TZNAME:Europe/Paris CET
END:STANDARD
BEGIN:STANDARD
DTSTART:20251026T020000
RDATE:20260329T030000
TZOFFSETFROM:+0200
TZOFFSETTO:+0100
TZNAME:Europe/Paris CET
END:STANDARD
BEGIN:STANDARD
DTSTART:20261025T020000
RDATE:20270328T030000
TZOFFSETFROM:+0200
TZOFFSETTO:+0100
TZNAME:Europe/Paris CET
END:STANDARD
BEGIN:DAYLIGHT
DTSTART:20130418T080000
RDATE:20131027T020000
TZOFFSETFROM:+0100
TZOFFSETTO:+0200
TZNAME:Europe/Paris CEST
END:DAYLIGHT
BEGIN:DAYLIGHT
DTSTART:20140330T030000
RDATE:20141026T020000
TZOFFSETFROM:+0100
TZOFFSETTO:+0200
TZNAME:Europe/Paris CEST
END:DAYLIGHT
BEGIN:DAYLIGHT
DTSTART:20150329T030000
RDATE:20151025T020000
TZOFFSETFROM:+0100
TZOFFSETTO:+0200
TZNAME:Europe/Paris CEST
END:DAYLIGHT
BEGIN:DAYLIGHT
DTSTART:20160327T030000
RDATE:20161030T020000
TZOFFSETFROM:+0100
TZOFFSETTO:+0200
TZNAME:Europe/Paris CEST
END:DAYLIGHT
BEGIN:DAYLIGHT
DTSTART:20170326T030000
RDATE:20171029T020000
TZOFFSETFROM:+0100
TZOFFSETTO:+0200
TZNAME:Europe/Paris CEST
END:DAYLIGHT
BEGIN:DAYLIGHT
DTSTART:20180325T030000
RDATE:20181028T020000
TZOFFSETFROM:+0100
TZOFFSETTO:+0200
TZNAME:Europe/Paris CEST
END:DAYLIGHT
BEGIN:DAYLIGHT
DTSTART:20190331T030000
RDATE:20191027T020000
TZOFFSETFROM:+0100
TZOFFSETTO:+0200
TZNAME:Europe/Paris CEST
END:DAYLIGHT
BEGIN:DAYLIGHT
DTSTART:20200329T030000
RDATE:20201025T020000
TZOFFSETFROM:+0100
TZOFFSETTO:+0200
TZNAME:Europe/Paris CEST
END:DAYLIGHT
BEGIN:DAYLIGHT
DTSTART:20210328T030000
RDATE:20211031T020000
TZOFFSETFROM:+0100
TZOFFSETTO:+0200
TZNAME:Europe/Paris CEST
END:DAYLIGHT
BEGIN:DAYLIGHT
DTSTART:20220327T030000
RDATE:20221030T020000
TZOFFSETFROM:+0100
TZOFFSETTO:+0200
TZNAME:Europe/Paris CEST
END:DAYLIGHT
BEGIN:DAYLIGHT
DTSTART:20230326T030000
RDATE:20231029T020000
TZOFFSETFROM:+0100
TZOFFSETTO:+0200
TZNAME:Europe/Paris CEST
END:DAYLIGHT
BEGIN:DAYLIGHT
DTSTART:20240331T030000
RDATE:20241027T020000
TZOFFSETFROM:+0100
TZOFFSETTO:+0200
TZNAME:Europe/Paris CEST
END:DAYLIGHT
BEGIN:DAYLIGHT
DTSTART:20250330T030000
RDATE:20251026T020000
TZOFFSETFROM:+0100
TZOFFSETTO:+0200
TZNAME:Europe/Paris CEST
END:DAYLIGHT
BEGIN:DAYLIGHT
DTSTART:20260329T030000
RDATE:20261025T020000
TZOFFSETFROM:+0100
TZOFFSETTO:+0200
TZNAME:Europe/Paris CEST
END:DAYLIGHT
END:VTIMEZONE
BEGIN:VEVENT
UID:6b4910c10cb497b24c56a85ec3f15635
CATEGORIES:Opens et Promos (alpin)
CREATED:20131203T122100
SUMMARY:OPEN J     29ème Journées Françaises de Mellau (Aut)
URL;VALUE=URI:https://skivosges.net/agenda/a-venir/detailevenement/203/-/open-j-29eme-jou
 rnees-francaises-de-mellau-aut?tmpl=component
DESCRIPTION:OPEN J     29ème Journées Françaises de Mellau (Aut)\n\nLieu : MELLAU\nPist
 e : WILDGUNTEN\nOrganisateur : ALSACE SKI PLUS COLMAR  (14434 ALSACE SKI PL
 US COLMAR)\nEmail : RegularLabs.EmailProtector.unCloak("ep_64483639");\nTel
 ecopie : 06 14 02 59 53\n\n1 seule inscription pour les 2 courses U12 et U1
 4\n  Piste:MELLAU (Aut)\n - AMVF0941  Slalom Geant de 10 a 13ans au 31/12/2
 012 (Pou/Ben) Filles\n  OPEN J     29ème Journées Françaises de Mellau (Aut
 )\n  Piste:MELLAU (Aut)\n - AMVM0941  Slalom Geant de 10 a 13ans au 31/12/2
 012 (Pou/Ben) Garçons\n  OPEN J     29ème Journées Françaises de Mellau (Au
 t) Cet évènement a été importé depuis :https://skivosges.net/agenda/a-venir
 /detailevenement/203/-/open-j-29eme-journees-francaises-de-mellau-aut?tmpl=
 component (https://skivosges.net/agenda/a-venir/detailevenement/203/-/open-
 j-29eme-journees-francaises-de-mellau-aut?tmpl=component)
X-ALT-DESC;FMTTYPE=text/html:<strong>OPEN J     29ème Journées Françaises de Mellau (Aut)</strong><br />
 <br />Lieu : MELLAU<br />Piste : WILDGUNTEN<br />Organisateur : ALSACE SKI 
 PLUS COLMAR  <small>(14434 ALSACE SKI PLUS COLMAR)</small><br />Email : <!-
 - Cette adresse électronique est protégée contre les robots spammeurs. --><
 span class="cloaked_email ep_64483639"><span data-ep-b="" data-ep-a="&#118;
 t&#110;"><span data-ep-a="&#64;&#119;a" data-ep-b="&#102;r"><span data-ep-a
 ="&#110;a&#100;" data-ep-b="o&#111;."></span></span></span></span><script>R
 egularLabs.EmailProtector.unCloak("ep_64483639");</script><br />Telecopie :
  06 14 02 59 53<br /><br />1 seule inscription pour les 2 courses U12 et U1
 4<ul type="disc"><br />&nbsp;&nbsp;Piste:MELLAU (Aut)<li>AMVF0941  Slalom G
 eant <nobr>de 10 a 13ans au 31/12/2012 (Pou/Ben)</nobr> Filles<br />&nbsp;&
 nbsp;OPEN J     29ème Journées Françaises de Mellau (Aut)</li><br />&nbsp;&
 nbsp;Piste:MELLAU (Aut)<li>AMVM0941  Slalom Geant <nobr>de 10 a 13ans au 31
 /12/2012 (Pou/Ben)</nobr> Garçons<br />&nbsp;&nbsp;OPEN J     29ème Journée
 s Françaises de Mellau (Aut)</li></ul> <a href="https://skivosges.net/agend
 a/a-venir/detailevenement/203/-/open-j-29eme-journees-francaises-de-mellau-
 aut?tmpl=component">Cet évènement a été importé depuis :https://skivosges.n
 et/agenda/a-venir/detailevenement/203/-/open-j-29eme-journees-francaises-de
 -mellau-aut?tmpl=component</a>DTSTAMP:20260424T030520
DTSTART;TZID=Europe/Paris:20140419T080000
DTEND;TZID=Europe/Paris:20140419T170000
SEQUENCE:0
TRANSP:OPAQUE
END:VEVENT
END:VCALENDAR