BEGIN:VCALENDAR
VERSION:2.0
PRODID:-//jEvents 2.0 for Joomla//EN
CALSCALE:GREGORIAN
METHOD:PUBLISH
BEGIN:VTIMEZONE
TZID:Europe/Paris
BEGIN:STANDARD
DTSTART:20220311T000000
RDATE:20220327T030000
TZOFFSETFROM:+0200
TZOFFSETTO:+0100
TZNAME:Europe/Paris CET
END:STANDARD
BEGIN:STANDARD
DTSTART:20221030T020000
RDATE:20230326T030000
TZOFFSETFROM:+0200
TZOFFSETTO:+0100
TZNAME:Europe/Paris CET
END:STANDARD
BEGIN:STANDARD
DTSTART:20231029T020000
RDATE:20240331T030000
TZOFFSETFROM:+0200
TZOFFSETTO:+0100
TZNAME:Europe/Paris CET
END:STANDARD
BEGIN:STANDARD
DTSTART:20241027T020000
RDATE:20250330T030000
TZOFFSETFROM:+0200
TZOFFSETTO:+0100
TZNAME:Europe/Paris CET
END:STANDARD
BEGIN:STANDARD
DTSTART:20251026T020000
RDATE:20260329T030000
TZOFFSETFROM:+0200
TZOFFSETTO:+0100
TZNAME:Europe/Paris CET
END:STANDARD
BEGIN:STANDARD
DTSTART:20261025T020000
RDATE:20270328T030000
TZOFFSETFROM:+0200
TZOFFSETTO:+0100
TZNAME:Europe/Paris CET
END:STANDARD
BEGIN:DAYLIGHT
DTSTART:20220327T030000
RDATE:20221030T020000
TZOFFSETFROM:+0100
TZOFFSETTO:+0200
TZNAME:Europe/Paris CEST
END:DAYLIGHT
BEGIN:DAYLIGHT
DTSTART:20230326T030000
RDATE:20231029T020000
TZOFFSETFROM:+0100
TZOFFSETTO:+0200
TZNAME:Europe/Paris CEST
END:DAYLIGHT
BEGIN:DAYLIGHT
DTSTART:20240331T030000
RDATE:20241027T020000
TZOFFSETFROM:+0100
TZOFFSETTO:+0200
TZNAME:Europe/Paris CEST
END:DAYLIGHT
BEGIN:DAYLIGHT
DTSTART:20250330T030000
RDATE:20251026T020000
TZOFFSETFROM:+0100
TZOFFSETTO:+0200
TZNAME:Europe/Paris CEST
END:DAYLIGHT
BEGIN:DAYLIGHT
DTSTART:20260329T030000
RDATE:20261025T020000
TZOFFSETFROM:+0100
TZOFFSETTO:+0200
TZNAME:Europe/Paris CEST
END:DAYLIGHT
END:VTIMEZONE
BEGIN:VEVENT
UID:6ed3f9846c4c0d91c8fc93e5c3d0b155
CATEGORIES:Compétition Ski de Fond
CREATED:20221118T190002
SUMMARY:CHALLENGE MICHEL DIDIERLAURENT BIG-MAT SALOMON N°13 CREDIT MUTUEL N°10 *** ANNULE(E) ***
URL;VALUE=URI:https://skivosges.net/agenda/a-venir/detailevenement/2033/-/challenge-miche
 l-didierlaurent-big-mat-salomon-n-13-credit-mutuel-n-10-annule-e?tmpl=compo
 nent
DESCRIPTION:CHALLENGE MICHEL DIDIERLAURENT BIG-MAT SALOMON N°13 CREDIT MUTUEL N°10 (Epr
 euve annulée)\n - Codex évenement FMVT0230\n - Lieu : LES CHARMES\n - Organ
 isateur : 14329 SKI CLUB VAGNEY ROCHESSON\n - Courriel : RegularLabs.EmailP
 rotector.unCloak("ep_65234801");\n - Délégué Technique : PHILIPPE ALAINPéri
 ode d'inscription à l'evènement du Dimanche 05 Mars 2023 à 00:00 au Vendred
 i 10 Mars 2023 à 12:00Inscriptions ouvertes aux detenteurs des titres Fédér
 aux valides suivants : Licenciés Compétiteurs\n - Voir les informations dan
 s l'agenda... (/index.php?option=com_jevents&amp;task=icalevent.detail&amp;
 evid=2028&amp;Itemid=6289)Epreuves :\n - Le Dimanche 12 Mars 2023\n - Codex
  épreuve FMVM0231\n - Mass Start (Depart ligne)\n - Catégorie(s) : U15 (Gar
 çons)\n - Le Dimanche 12 Mars 2023\n - Codex épreuve FMVF0232\n - Mass Star
 t (Depart ligne)\n - Catégorie(s) : U15 (Filles)\n - Le Dimanche 12 Mars 20
 23\n - Codex épreuve FMVM0232\n - Mass Start (Depart ligne)\n - Catégorie(s
 ) : U15 (Garçons)\n - Le Dimanche 12 Mars 2023\n - Codex épreuve FMVF0233\n
  - Mass Start (Depart ligne)\n - Catégorie(s) : U18 (Dames)\n - Le Dimanche
  12 Mars 2023\n - Codex épreuve FMVM0233\n - Mass Start (Depart ligne)\n - 
 Catégorie(s) : U18 (Hommes)\n - Le Dimanche 12 Mars 2023\n - Codex épreuve 
 FMVF0234\n - Mass Start (Depart ligne)\n - Catégorie(s) : U20/SEN (Dames)\n
  - Le Dimanche 12 Mars 2023\n - Codex épreuve FMVM0234\n - Mass Start (Depa
 rt ligne)\n - Catégorie(s) : U20/SEN (Hommes)\n - Voir les informations dan
 s l'agenda... (/index.php?option=com_jevents&amp;task=icalevent.detail&amp;
 evid=2028&amp;Itemid=6289) Cet évènement a été importé depuis :https://skiv
 osges.net/agenda/a-venir/detailevenement/2033/-/challenge-michel-didierlaur
 ent-big-mat-salomon-n-13-credit-mutuel-n-10-annule-e?tmpl=component
X-ALT-DESC;FMTTYPE=text/html:<!-- #gskiepreuve code généré par le plugin jevents pour GskiEpreuves. Ne p
 as modifier cette ligne, ni tout le contenu suivant  #gskiepreuve --><div c
 lass="gski-evenement_infos"><div class="gski-evenement-nom">CHALLENGE MICHE
 L DIDIERLAURENT BIG-MAT SALOMON N°13 CREDIT MUTUEL N°10</div><div class="gs
 ki-evenement-report"> <font class="gskiattention">(Epreuve annulée)</font><
 /div><ul class="gski-evenement-liste-infos"><li>Codex évenement FMVT0230</l
 i><li>Lieu : LES CHARMES</li><li>Organisateur : 14329 SKI CLUB VAGNEY ROCHE
 SSON</li><li>Courriel : <!-- Cette adresse électronique est protégée contre
  les robots spammeurs. --><span class="cloaked_email ep_65234801"><span dat
 a-ep-b="&#102;&#114;" data-ep-a="&#116;&#104;i&#98;"><span data-ep-b="&#114
 ;&#101;&#101;." data-ep-a="&#97;&#117;&#108;&#116;"><span data-ep-b="&#111;
 &#116;&#64;f" data-ep-a="p&#111;i&#114;"></span></span></span></span><scrip
 t>RegularLabs.EmailProtector.unCloak("ep_65234801");</script></li><li><span
  class="gski-evenement-obs">Délégué Technique : PHILIPPE ALAIN</span></li><
 /ul><div class="gski-evenement-infos-2"><div class="gski-evenement-info-ins
 criptions"><div class="gski-evenement-inscriptions-periodes">Période d'insc
 ription à l'evènement du Dimanche 05 Mars 2023 à 00:00 au Vendredi 10 Mars 
 2023 à 12:00<div class="gski-evenement-inscriptions-types-titres">Inscripti
 ons ouvertes aux detenteurs des titres Fédéraux valides suivants : Licencié
 s Compétiteurs</div></div></div><div class="gskiepreuves-links"><ul><li><a 
 href="https://skivosges.net/index.php?option=com_jevents&task=icalevent.det
 ail&evid=2028&Itemid=6289">Voir les informations dans l'agenda...</a></li><
 /ul></div><div class="gski-evenement-epreuves"><div class="gski-evenement-e
 preuves-titres">Epreuves :</div><ul class="gski-evenement-epreuves-list"><l
 i><div class="gski-epreuve-date">Le Dimanche 12 Mars 2023</div><ul class="g
 ski-epreuve-liste-infos"><li>Codex épreuve FMVM0231</li><li>Mass Start (Dep
 art ligne)</li><li>Catégorie(s) : U15 (Garçons)</li></ul></li><li><div clas
 s="gski-epreuve-date">Le Dimanche 12 Mars 2023</div><ul class="gski-epreuve
 -liste-infos"><li>Codex épreuve FMVF0232</li><li>Mass Start (Depart ligne)<
 /li><li>Catégorie(s) : U15 (Filles)</li></ul></li><li><div class="gski-epre
 uve-date">Le Dimanche 12 Mars 2023</div><ul class="gski-epreuve-liste-infos
 "><li>Codex épreuve FMVM0232</li><li>Mass Start (Depart ligne)</li><li>Caté
 gorie(s) : U15 (Garçons)</li></ul></li><li><div class="gski-epreuve-date">L
 e Dimanche 12 Mars 2023</div><ul class="gski-epreuve-liste-infos"><li>Codex
  épreuve FMVF0233</li><li>Mass Start (Depart ligne)</li><li>Catégorie(s) : 
 U18 (Dames)</li></ul></li><li><div class="gski-epreuve-date">Le Dimanche 12
  Mars 2023</div><ul class="gski-epreuve-liste-infos"><li>Codex épreuve FMVM
 0233</li><li>Mass Start (Depart ligne)</li><li>Catégorie(s) : U18 (Hommes)<
 /li></ul></li><li><div class="gski-epreuve-date">Le Dimanche 12 Mars 2023</
 div><ul class="gski-epreuve-liste-infos"><li>Codex épreuve FMVF0234</li><li
 >Mass Start (Depart ligne)</li><li>Catégorie(s) : U20/SEN (Dames)</li></ul>
 </li><li><div class="gski-epreuve-date">Le Dimanche 12 Mars 2023</div><ul c
 lass="gski-epreuve-liste-infos"><li>Codex épreuve FMVM0234</li><li>Mass Sta
 rt (Depart ligne)</li><li>Catégorie(s) : U20/SEN (Hommes)</li></ul></li></u
 l></div><div class="gskiepreuves-links"><ul><li><a href="https://skivosges.
 net/index.php?option=com_jevents&task=icalevent.detail&evid=2028&Itemid=628
 9">Voir les informations dans l'agenda...</a></li></ul></div></div"><!-- #/
 gskiepreuve fin du dode généré par le plugin jevents pour GskiEpreuves. . N
 e pas modifier cette ligne, ni tout le contenu précedant.  #/gskiepreuve --
 > <a href="https://skivosges.net/agenda/a-venir/detailevenement/2033/-/chal
 lenge-michel-didierlaurent-big-mat-salomon-n-13-credit-mutuel-n-10-annule-e
 ?tmpl=component">Cet évènement a été importé depuis :https://skivosges.net/
 agenda/a-venir/detailevenement/2033/-/challenge-michel-didierlaurent-big-ma
 t-salomon-n-13-credit-mutuel-n-10-annule-e?tmpl=component</a>DTSTAMP:20260420T185137
DTSTART;TZID=Europe/Paris;VALUE=DATE:20230312
DTEND;TZID=Europe/Paris;VALUE=DATE:20230313
SEQUENCE:0
TRANSP:OPAQUE
END:VEVENT
END:VCALENDAR