BEGIN:VCALENDAR
VERSION:2.0
PRODID:-//jEvents 2.0 for Joomla//EN
CALSCALE:GREGORIAN
METHOD:PUBLISH
BEGIN:VTIMEZONE
TZID:Europe/Paris
BEGIN:STANDARD
DTSTART:20220325T000000
RDATE:20220327T030000
TZOFFSETFROM:+0200
TZOFFSETTO:+0100
TZNAME:Europe/Paris CET
END:STANDARD
BEGIN:STANDARD
DTSTART:20221030T020000
RDATE:20230326T030000
TZOFFSETFROM:+0200
TZOFFSETTO:+0100
TZNAME:Europe/Paris CET
END:STANDARD
BEGIN:STANDARD
DTSTART:20231029T020000
RDATE:20240331T030000
TZOFFSETFROM:+0200
TZOFFSETTO:+0100
TZNAME:Europe/Paris CET
END:STANDARD
BEGIN:STANDARD
DTSTART:20241027T020000
RDATE:20250330T030000
TZOFFSETFROM:+0200
TZOFFSETTO:+0100
TZNAME:Europe/Paris CET
END:STANDARD
BEGIN:STANDARD
DTSTART:20251026T020000
RDATE:20260329T030000
TZOFFSETFROM:+0200
TZOFFSETTO:+0100
TZNAME:Europe/Paris CET
END:STANDARD
BEGIN:STANDARD
DTSTART:20261025T020000
RDATE:20270328T030000
TZOFFSETFROM:+0200
TZOFFSETTO:+0100
TZNAME:Europe/Paris CET
END:STANDARD
BEGIN:DAYLIGHT
DTSTART:20220327T030000
RDATE:20221030T020000
TZOFFSETFROM:+0100
TZOFFSETTO:+0200
TZNAME:Europe/Paris CEST
END:DAYLIGHT
BEGIN:DAYLIGHT
DTSTART:20230326T030000
RDATE:20231029T020000
TZOFFSETFROM:+0100
TZOFFSETTO:+0200
TZNAME:Europe/Paris CEST
END:DAYLIGHT
BEGIN:DAYLIGHT
DTSTART:20240331T030000
RDATE:20241027T020000
TZOFFSETFROM:+0100
TZOFFSETTO:+0200
TZNAME:Europe/Paris CEST
END:DAYLIGHT
BEGIN:DAYLIGHT
DTSTART:20250330T030000
RDATE:20251026T020000
TZOFFSETFROM:+0100
TZOFFSETTO:+0200
TZNAME:Europe/Paris CEST
END:DAYLIGHT
BEGIN:DAYLIGHT
DTSTART:20260329T030000
RDATE:20261025T020000
TZOFFSETFROM:+0100
TZOFFSETTO:+0200
TZNAME:Europe/Paris CEST
END:DAYLIGHT
END:VTIMEZONE
BEGIN:VEVENT
UID:5ff0ea5763bc9c1e7662a36a78ffd0fb
CATEGORIES:Circuit Massif Jeunes (alpin)
CREATED:20221118T190002
SUMMARY:CJM Grand Prix Mémorial Jean BOTT **REPORTE**
URL;VALUE=URI:https://skivosges.net/agenda/a-venir/detailevenement/2045/-/cjm-grand-prix-
 memorial-jean-bott-reporte?tmpl=component
DESCRIPTION:CJM Grand Prix Mémorial Jean BOTT (Epreuve reportée, date à determiner)\n -
  Codex évenement AMVT0900\n - Station : MARKSTEIN\n - Organisateur : 14082 
 SKI CLUB VOSGIEN THANN\n - Courriel : RegularLabs.EmailProtector.unCloak("e
 p_cf586ed8");\n - Téléphone : 03 89 37 92 28\n - Délégué Technique : KOHLER
  JEAN PIERREPériode d'inscription à l'evènement du Dimanche 19 Mars 2023 à 
 00:00 au Vendredi 24 Mars 2023 à 12:00Inscriptions ouvertes aux detenteurs 
 des titres Fédéraux valides suivants : Licenciés Compétiteurs\n - Voir les 
 informations dans l'agenda... (/index.php?option=com_jevents&amp;task=icale
 vent.detail&amp;evid=2040&amp;Itemid=6289)Epreuves :\n - Le Dimanche 26 Mar
 s 2023\n - Codex épreuve AMVF0901\n - Slalom\n - Catégorie(s) : U8/U10 (Fil
 les)\n - Le Dimanche 26 Mars 2023\n - Codex épreuve AMVM0902\n - Slalom\n -
  Catégorie(s) : U12 (Garçons)\n - Le Dimanche 26 Mars 2023\n - Codex épreuv
 e AMVF0902\n - Slalom\n - Catégorie(s) : U12 (Filles)\n - Le Dimanche 26 Ma
 rs 2023\n - Codex épreuve AMVM0903\n - Slalom\n - Catégorie(s) : U14 (Garço
 ns)\n - Le Dimanche 26 Mars 2023\n - Codex épreuve AMVF0903\n - Slalom\n - 
 Catégorie(s) : U14 (Filles)\n - Voir les informations dans l'agenda... (/in
 dex.php?option=com_jevents&amp;task=icalevent.detail&amp;evid=2040&amp;Item
 id=6289) Cet évènement a été importé depuis :https://skivosges.net/agenda/a
 -venir/detailevenement/2045/-/cjm-grand-prix-memorial-jean-bott-reporte?tmp
 l=component (https://skivosges.net/agenda/a-venir/detailevenement/2045/-/cj
 m-grand-prix-memorial-jean-bott-reporte?tmpl=component)
X-ALT-DESC;FMTTYPE=text/html:<!-- #gskiepreuve code généré par le plugin jevents pour GskiEpreuves. Ne p
 as modifier cette ligne, ni tout le contenu suivant  #gskiepreuve --><div c
 lass="gski-evenement_infos"><div class="gski-evenement-nom">CJM Grand Prix 
 Mémorial Jean BOTT</div><div class="gski-evenement-report"> <font class="gs
 kiattention">(Epreuve reportée, date à determiner)</font></div><ul class="g
 ski-evenement-liste-infos"><li>Codex évenement AMVT0900</li><li>Station : M
 ARKSTEIN</li><li>Organisateur : 14082 SKI CLUB VOSGIEN THANN</li><li>Courri
 el : <!-- Cette adresse électronique est protégée contre les robots spammeu
 rs. --><span class="cloaked_email ep_cf586ed8"><span data-ep-b="" data-ep-a
 ="&#99;o&#117;r"><span data-ep-b=".&#99;&#111;&#109;" data-ep-a="&#115;e&#1
 15;&#64;"><span data-ep-b="&#110;&#115;&#107;i" data-ep-a="&#116;han"></spa
 n></span></span></span><script>RegularLabs.EmailProtector.unCloak("ep_cf586
 ed8");</script></li><li>Téléphone : 03 89 37 92 28</li><li><span class="gsk
 i-evenement-obs">Délégué Technique : KOHLER JEAN PIERRE</span></li></ul><di
 v class="gski-evenement-infos-2"><div class="gski-evenement-info-inscriptio
 ns"><div class="gski-evenement-inscriptions-periodes">Période d'inscription
  à l'evènement du Dimanche 19 Mars 2023 à 00:00 au Vendredi 24 Mars 2023 à 
 12:00<div class="gski-evenement-inscriptions-types-titres">Inscriptions ouv
 ertes aux detenteurs des titres Fédéraux valides suivants : Licenciés Compé
 titeurs</div></div></div><div class="gskiepreuves-links"><ul><li><a href="h
 ttps://skivosges.net/index.php?option=com_jevents&task=icalevent.detail&evi
 d=2040&Itemid=6289">Voir les informations dans l'agenda...</a></li></ul></d
 iv><div class="gski-evenement-epreuves"><div class="gski-evenement-epreuves
 -titres">Epreuves :</div><ul class="gski-evenement-epreuves-list"><li><div 
 class="gski-epreuve-date">Le Dimanche 26 Mars 2023</div><ul class="gski-epr
 euve-liste-infos"><li>Codex épreuve AMVF0901</li><li>Slalom</li><li>Catégor
 ie(s) : U8/U10 (Filles)</li></ul></li><li><div class="gski-epreuve-date">Le
  Dimanche 26 Mars 2023</div><ul class="gski-epreuve-liste-infos"><li>Codex 
 épreuve AMVM0902</li><li>Slalom</li><li>Catégorie(s) : U12 (Garçons)</li></
 ul></li><li><div class="gski-epreuve-date">Le Dimanche 26 Mars 2023</div><u
 l class="gski-epreuve-liste-infos"><li>Codex épreuve AMVF0902</li><li>Slalo
 m</li><li>Catégorie(s) : U12 (Filles)</li></ul></li><li><div class="gski-ep
 reuve-date">Le Dimanche 26 Mars 2023</div><ul class="gski-epreuve-liste-inf
 os"><li>Codex épreuve AMVM0903</li><li>Slalom</li><li>Catégorie(s) : U14 (G
 arçons)</li></ul></li><li><div class="gski-epreuve-date">Le Dimanche 26 Mar
 s 2023</div><ul class="gski-epreuve-liste-infos"><li>Codex épreuve AMVF0903
 </li><li>Slalom</li><li>Catégorie(s) : U14 (Filles)</li></ul></li></ul></di
 v><div class="gskiepreuves-links"><ul><li><a href="https://skivosges.net/in
 dex.php?option=com_jevents&task=icalevent.detail&evid=2040&Itemid=6289">Voi
 r les informations dans l'agenda...</a></li></ul></div></div"><!-- #/gskiep
 reuve fin du dode généré par le plugin jevents pour GskiEpreuves. . Ne pas 
 modifier cette ligne, ni tout le contenu précedant.  #/gskiepreuve --> <a h
 ref="https://skivosges.net/agenda/a-venir/detailevenement/2045/-/cjm-grand-
 prix-memorial-jean-bott-reporte?tmpl=component">Cet évènement a été importé
  depuis :https://skivosges.net/agenda/a-venir/detailevenement/2045/-/cjm-gr
 and-prix-memorial-jean-bott-reporte?tmpl=component</a>DTSTAMP:20260420T185149
DTSTART;TZID=Europe/Paris;VALUE=DATE:20230326
DTEND;TZID=Europe/Paris;VALUE=DATE:20230327
SEQUENCE:0
TRANSP:OPAQUE
END:VEVENT
END:VCALENDAR