BEGIN:VCALENDAR
VERSION:2.0
PRODID:-//jEvents 2.0 for Joomla//EN
CALSCALE:GREGORIAN
METHOD:PUBLISH
BEGIN:VTIMEZONE
TZID:Europe/Paris
BEGIN:STANDARD
DTSTART:20131027T020000
RDATE:20140330T030000
TZOFFSETFROM:+0200
TZOFFSETTO:+0100
TZNAME:Europe/Paris CET
END:STANDARD
BEGIN:STANDARD
DTSTART:20141026T020000
RDATE:20150329T030000
TZOFFSETFROM:+0200
TZOFFSETTO:+0100
TZNAME:Europe/Paris CET
END:STANDARD
BEGIN:STANDARD
DTSTART:20151025T020000
RDATE:20160327T030000
TZOFFSETFROM:+0200
TZOFFSETTO:+0100
TZNAME:Europe/Paris CET
END:STANDARD
BEGIN:STANDARD
DTSTART:20161030T020000
RDATE:20170326T030000
TZOFFSETFROM:+0200
TZOFFSETTO:+0100
TZNAME:Europe/Paris CET
END:STANDARD
BEGIN:STANDARD
DTSTART:20171029T020000
RDATE:20180325T030000
TZOFFSETFROM:+0200
TZOFFSETTO:+0100
TZNAME:Europe/Paris CET
END:STANDARD
BEGIN:STANDARD
DTSTART:20181028T020000
RDATE:20190331T030000
TZOFFSETFROM:+0200
TZOFFSETTO:+0100
TZNAME:Europe/Paris CET
END:STANDARD
BEGIN:STANDARD
DTSTART:20191027T020000
RDATE:20200329T030000
TZOFFSETFROM:+0200
TZOFFSETTO:+0100
TZNAME:Europe/Paris CET
END:STANDARD
BEGIN:STANDARD
DTSTART:20201025T020000
RDATE:20210328T030000
TZOFFSETFROM:+0200
TZOFFSETTO:+0100
TZNAME:Europe/Paris CET
END:STANDARD
BEGIN:STANDARD
DTSTART:20211031T020000
RDATE:20220327T030000
TZOFFSETFROM:+0200
TZOFFSETTO:+0100
TZNAME:Europe/Paris CET
END:STANDARD
BEGIN:STANDARD
DTSTART:20221030T020000
RDATE:20230326T030000
TZOFFSETFROM:+0200
TZOFFSETTO:+0100
TZNAME:Europe/Paris CET
END:STANDARD
BEGIN:STANDARD
DTSTART:20231029T020000
RDATE:20240331T030000
TZOFFSETFROM:+0200
TZOFFSETTO:+0100
TZNAME:Europe/Paris CET
END:STANDARD
BEGIN:STANDARD
DTSTART:20241027T020000
RDATE:20250330T030000
TZOFFSETFROM:+0200
TZOFFSETTO:+0100
TZNAME:Europe/Paris CET
END:STANDARD
BEGIN:STANDARD
DTSTART:20251026T020000
RDATE:20260329T030000
TZOFFSETFROM:+0200
TZOFFSETTO:+0100
TZNAME:Europe/Paris CET
END:STANDARD
BEGIN:STANDARD
DTSTART:20261025T020000
RDATE:20270328T030000
TZOFFSETFROM:+0200
TZOFFSETTO:+0100
TZNAME:Europe/Paris CET
END:STANDARD
BEGIN:DAYLIGHT
DTSTART:20130419T080000
RDATE:20131027T020000
TZOFFSETFROM:+0100
TZOFFSETTO:+0200
TZNAME:Europe/Paris CEST
END:DAYLIGHT
BEGIN:DAYLIGHT
DTSTART:20140330T030000
RDATE:20141026T020000
TZOFFSETFROM:+0100
TZOFFSETTO:+0200
TZNAME:Europe/Paris CEST
END:DAYLIGHT
BEGIN:DAYLIGHT
DTSTART:20150329T030000
RDATE:20151025T020000
TZOFFSETFROM:+0100
TZOFFSETTO:+0200
TZNAME:Europe/Paris CEST
END:DAYLIGHT
BEGIN:DAYLIGHT
DTSTART:20160327T030000
RDATE:20161030T020000
TZOFFSETFROM:+0100
TZOFFSETTO:+0200
TZNAME:Europe/Paris CEST
END:DAYLIGHT
BEGIN:DAYLIGHT
DTSTART:20170326T030000
RDATE:20171029T020000
TZOFFSETFROM:+0100
TZOFFSETTO:+0200
TZNAME:Europe/Paris CEST
END:DAYLIGHT
BEGIN:DAYLIGHT
DTSTART:20180325T030000
RDATE:20181028T020000
TZOFFSETFROM:+0100
TZOFFSETTO:+0200
TZNAME:Europe/Paris CEST
END:DAYLIGHT
BEGIN:DAYLIGHT
DTSTART:20190331T030000
RDATE:20191027T020000
TZOFFSETFROM:+0100
TZOFFSETTO:+0200
TZNAME:Europe/Paris CEST
END:DAYLIGHT
BEGIN:DAYLIGHT
DTSTART:20200329T030000
RDATE:20201025T020000
TZOFFSETFROM:+0100
TZOFFSETTO:+0200
TZNAME:Europe/Paris CEST
END:DAYLIGHT
BEGIN:DAYLIGHT
DTSTART:20210328T030000
RDATE:20211031T020000
TZOFFSETFROM:+0100
TZOFFSETTO:+0200
TZNAME:Europe/Paris CEST
END:DAYLIGHT
BEGIN:DAYLIGHT
DTSTART:20220327T030000
RDATE:20221030T020000
TZOFFSETFROM:+0100
TZOFFSETTO:+0200
TZNAME:Europe/Paris CEST
END:DAYLIGHT
BEGIN:DAYLIGHT
DTSTART:20230326T030000
RDATE:20231029T020000
TZOFFSETFROM:+0100
TZOFFSETTO:+0200
TZNAME:Europe/Paris CEST
END:DAYLIGHT
BEGIN:DAYLIGHT
DTSTART:20240331T030000
RDATE:20241027T020000
TZOFFSETFROM:+0100
TZOFFSETTO:+0200
TZNAME:Europe/Paris CEST
END:DAYLIGHT
BEGIN:DAYLIGHT
DTSTART:20250330T030000
RDATE:20251026T020000
TZOFFSETFROM:+0100
TZOFFSETTO:+0200
TZNAME:Europe/Paris CEST
END:DAYLIGHT
BEGIN:DAYLIGHT
DTSTART:20260329T030000
RDATE:20261025T020000
TZOFFSETFROM:+0100
TZOFFSETTO:+0200
TZNAME:Europe/Paris CEST
END:DAYLIGHT
END:VTIMEZONE
BEGIN:VEVENT
UID:2ab7e3226523cd96169a13efe5d2851c
CATEGORIES:Opens et Promos (alpin)
CREATED:20131203T122100
SUMMARY:OPEN Ad.    29ème Journées Françaises de Mellau (Aut)
URL;VALUE=URI:https://skivosges.net/agenda/a-venir/detailevenement/206/-/open-ad-29eme-jo
 urnees-francaises-de-mellau-aut?tmpl=component
DESCRIPTION:OPEN Ad.    29ème Journées Françaises de Mellau (Aut)\nOrganisateur : ALSAC
 E SKI PLUS COLMAR  (14434 ALSACE SKI PLUS COLMAR)\nEmail : RegularLabs.Emai
 lProtector.unCloak("ep_102c3161");\nTelecopie : 03 89 27 22 34\n  Piste:MEL
 LAU (Aut)\n - AMVF0971  Slalom Geant U16-&gt;Mas (Min à Mast/Vet) Dames\n  
 OPEN Ad.    29ème Journées Françaises de Mellau (Aut)\n  Piste:MELLAU (Aut)
 \n - AMVM0971  Slalom Geant U16-&gt;Mas (Min à Mast/Vet) Hommes\n  OPEN Ad.
     29ème Journées Françaises de Mellau (Aut) Cet évènement a été importé d
 epuis :https://skivosges.net/agenda/a-venir/detailevenement/206/-/open-ad-2
 9eme-journees-francaises-de-mellau-aut?tmpl=component (https://skivosges.ne
 t/agenda/a-venir/detailevenement/206/-/open-ad-29eme-journees-francaises-de
 -mellau-aut?tmpl=component)
X-ALT-DESC;FMTTYPE=text/html:<strong>OPEN Ad.    29ème Journées Françaises de Mellau (Aut)</strong><br /
 >Organisateur : ALSACE SKI PLUS COLMAR  <small>(14434 ALSACE SKI PLUS COLMA
 R)</small><br />Email : <!-- Cette adresse électronique est protégée contre
  les robots spammeurs. --><span class="cloaked_email ep_102c3161"><span dat
 a-ep-b="" data-ep-a="v&#116;&#110;"><span data-ep-a="&#64;&#119;&#97;" data
 -ep-b="&#102;&#114;"><span data-ep-a="n&#97;&#100;" data-ep-b="&#111;o&#46;
 "></span></span></span></span><script>RegularLabs.EmailProtector.unCloak("e
 p_102c3161");</script><br />Telecopie : 03 89 27 22 34<ul type="disc"><br /
 >&nbsp;&nbsp;Piste:MELLAU (Aut)<li>AMVF0971  Slalom Geant <nobr>U16->Mas (M
 in à Mast/Vet)</nobr> Dames<br />&nbsp;&nbsp;OPEN Ad.    29ème Journées Fra
 nçaises de Mellau (Aut)</li><br />&nbsp;&nbsp;Piste:MELLAU (Aut)<li>AMVM097
 1  Slalom Geant <nobr>U16->Mas (Min à Mast/Vet)</nobr> Hommes<br />&nbsp;&n
 bsp;OPEN Ad.    29ème Journées Françaises de Mellau (Aut)</li></ul> <a href
 ="https://skivosges.net/agenda/a-venir/detailevenement/206/-/open-ad-29eme-
 journees-francaises-de-mellau-aut?tmpl=component">Cet évènement a été impor
 té depuis :https://skivosges.net/agenda/a-venir/detailevenement/206/-/open-
 ad-29eme-journees-francaises-de-mellau-aut?tmpl=component</a>DTSTAMP:20260424T073913
DTSTART;TZID=Europe/Paris:20140420T080000
DTEND;TZID=Europe/Paris:20140420T170000
SEQUENCE:0
TRANSP:OPAQUE
END:VEVENT
END:VCALENDAR