BEGIN:VCALENDAR
VERSION:2.0
PRODID:-//jEvents 2.0 for Joomla//EN
CALSCALE:GREGORIAN
METHOD:PUBLISH
BEGIN:VTIMEZONE
TZID:Europe/Paris
BEGIN:STANDARD
DTSTART:20220310T000000
RDATE:20220327T030000
TZOFFSETFROM:+0200
TZOFFSETTO:+0100
TZNAME:Europe/Paris CET
END:STANDARD
BEGIN:STANDARD
DTSTART:20221030T020000
RDATE:20230326T030000
TZOFFSETFROM:+0200
TZOFFSETTO:+0100
TZNAME:Europe/Paris CET
END:STANDARD
BEGIN:STANDARD
DTSTART:20231029T020000
RDATE:20240331T030000
TZOFFSETFROM:+0200
TZOFFSETTO:+0100
TZNAME:Europe/Paris CET
END:STANDARD
BEGIN:STANDARD
DTSTART:20241027T020000
RDATE:20250330T030000
TZOFFSETFROM:+0200
TZOFFSETTO:+0100
TZNAME:Europe/Paris CET
END:STANDARD
BEGIN:STANDARD
DTSTART:20251026T020000
RDATE:20260329T030000
TZOFFSETFROM:+0200
TZOFFSETTO:+0100
TZNAME:Europe/Paris CET
END:STANDARD
BEGIN:STANDARD
DTSTART:20261025T020000
RDATE:20270328T030000
TZOFFSETFROM:+0200
TZOFFSETTO:+0100
TZNAME:Europe/Paris CET
END:STANDARD
BEGIN:DAYLIGHT
DTSTART:20220327T030000
RDATE:20221030T020000
TZOFFSETFROM:+0100
TZOFFSETTO:+0200
TZNAME:Europe/Paris CEST
END:DAYLIGHT
BEGIN:DAYLIGHT
DTSTART:20230326T030000
RDATE:20231029T020000
TZOFFSETFROM:+0100
TZOFFSETTO:+0200
TZNAME:Europe/Paris CEST
END:DAYLIGHT
BEGIN:DAYLIGHT
DTSTART:20240331T030000
RDATE:20241027T020000
TZOFFSETFROM:+0100
TZOFFSETTO:+0200
TZNAME:Europe/Paris CEST
END:DAYLIGHT
BEGIN:DAYLIGHT
DTSTART:20250330T030000
RDATE:20251026T020000
TZOFFSETFROM:+0100
TZOFFSETTO:+0200
TZNAME:Europe/Paris CEST
END:DAYLIGHT
BEGIN:DAYLIGHT
DTSTART:20260329T030000
RDATE:20261025T020000
TZOFFSETFROM:+0100
TZOFFSETTO:+0200
TZNAME:Europe/Paris CEST
END:DAYLIGHT
END:VTIMEZONE
BEGIN:VEVENT
UID:a254acc7753aab9b7f638946cae57b1b
CATEGORIES:Combiné Nordique
CREATED:20221221T190003
SUMMARY:K40- Coupe des Vosges Crédit Mutuel
URL;VALUE=URI:https://skivosges.net/agenda/a-venir/detailevenement/2090/-/k40-coupe-des-v
 osges-credit-mutuel?tmpl=component
DESCRIPTION:K40- Coupe des Vosges Crédit Mutuel\n - Codex évenement CMVT0030\n - Lieu :
  TREMPLIN LISPACH K40\n - Organisateur : 14024 LA BRESSAUDE SECTION SKI\n -
  Courriel : RegularLabs.EmailProtector.unCloak("ep_427de538");Période d'ins
 cription à l'evènement du Samedi 04 Mars 2023 à 00:00 au Jeudi 09 Mars 2023
  à 12:00Inscriptions ouvertes aux detenteurs des titres Fédéraux valides su
 ivants : Licenciés Compétiteurs\n - Voir les informations dans l'agenda... 
 (/index.php?option=com_jevents&amp;task=icalevent.detail&amp;evid=2085&amp;
 Itemid=6289)Epreuves :\n - Le Samedi 11 Mars 2023\n - Codex épreuve CMVF003
 1\n - Combine Nordique (Saut-Pours)\n - Catégorie(s) : Toutes les Categorie
 s (Filles)\n - Voir les informations dans l'agenda... (/index.php?option=co
 m_jevents&amp;task=icalevent.detail&amp;evid=2085&amp;Itemid=6289) Cet évèn
 ement a été importé depuis :https://skivosges.net/agenda/a-venir/detaileven
 ement/2090/-/k40-coupe-des-vosges-credit-mutuel?tmpl=component (https://ski
 vosges.net/agenda/a-venir/detailevenement/2090/-/k40-coupe-des-vosges-credi
 t-mutuel?tmpl=component)
X-ALT-DESC;FMTTYPE=text/html:<!-- #gskiepreuve code généré par le plugin jevents pour GskiEpreuves. Ne p
 as modifier cette ligne, ni tout le contenu suivant  #gskiepreuve --><div c
 lass="gski-evenement_infos"><div class="gski-evenement-nom">K40- Coupe des 
 Vosges Crédit Mutuel</div><div class="gski-evenement-report"></div><ul clas
 s="gski-evenement-liste-infos"><li>Codex évenement CMVT0030</li><li>Lieu : 
 TREMPLIN LISPACH K40</li><li>Organisateur : 14024 LA BRESSAUDE SECTION SKI<
 /li><li>Courriel : <!-- Cette adresse électronique est protégée contre les 
 robots spammeurs. --><span class="cloaked_email ep_427de538"><span data-ep-
 b="r" data-ep-a="k&#97;&#114;i&#110;"><span data-ep-b="d&#111;&#111;&#46;f"
  data-ep-a="e&#46;&#102;&#111;&#117;"><span data-ep-a="r&#114;&#97;&#103;e"
  data-ep-b="&#64;w&#97;&#110;&#97;"></span></span></span></span><script>Reg
 ularLabs.EmailProtector.unCloak("ep_427de538");</script></li></ul><div clas
 s="gski-evenement-infos-2"><div class="gski-evenement-info-inscriptions"><d
 iv class="gski-evenement-inscriptions-periodes">Période d'inscription à l'e
 vènement du Samedi 04 Mars 2023 à 00:00 au Jeudi 09 Mars 2023 à 12:00<div c
 lass="gski-evenement-inscriptions-types-titres">Inscriptions ouvertes aux d
 etenteurs des titres Fédéraux valides suivants : Licenciés Compétiteurs</di
 v></div></div><div class="gskiepreuves-links"><ul><li><a href="https://skiv
 osges.net/index.php?option=com_jevents&task=icalevent.detail&evid=2085&Item
 id=6289">Voir les informations dans l'agenda...</a></li></ul></div><div cla
 ss="gski-evenement-epreuves"><div class="gski-evenement-epreuves-titres">Ep
 reuves :</div><ul class="gski-evenement-epreuves-list"><li><div class="gski
 -epreuve-date">Le Samedi 11 Mars 2023</div><ul class="gski-epreuve-liste-in
 fos"><li>Codex épreuve CMVF0031</li><li>Combine Nordique (Saut-Pours)</li><
 li>Catégorie(s) : Toutes les Categories (Filles)</li></ul></li></ul></div><
 div class="gskiepreuves-links"><ul><li><a href="https://skivosges.net/index
 .php?option=com_jevents&task=icalevent.detail&evid=2085&Itemid=6289">Voir l
 es informations dans l'agenda...</a></li></ul></div></div"><!-- #/gskiepreu
 ve fin du dode généré par le plugin jevents pour GskiEpreuves. . Ne pas mod
 ifier cette ligne, ni tout le contenu précedant.  #/gskiepreuve --> <a href
 ="https://skivosges.net/agenda/a-venir/detailevenement/2090/-/k40-coupe-des
 -vosges-credit-mutuel?tmpl=component">Cet évènement a été importé depuis :h
 ttps://skivosges.net/agenda/a-venir/detailevenement/2090/-/k40-coupe-des-vo
 sges-credit-mutuel?tmpl=component</a>DTSTAMP:20260420T185246
DTSTART;TZID=Europe/Paris;VALUE=DATE:20230311
DTEND;TZID=Europe/Paris;VALUE=DATE:20230312
SEQUENCE:0
TRANSP:OPAQUE
END:VEVENT
END:VCALENDAR