BEGIN:VCALENDAR
VERSION:2.0
PRODID:-//jEvents 2.0 for Joomla//EN
CALSCALE:GREGORIAN
METHOD:PUBLISH
BEGIN:VTIMEZONE
TZID:Europe/Paris
BEGIN:STANDARD
DTSTART:20221030T020000
RDATE:20230326T030000
TZOFFSETFROM:+0200
TZOFFSETTO:+0100
TZNAME:Europe/Paris CET
END:STANDARD
BEGIN:STANDARD
DTSTART:20231029T020000
RDATE:20240331T030000
TZOFFSETFROM:+0200
TZOFFSETTO:+0100
TZNAME:Europe/Paris CET
END:STANDARD
BEGIN:STANDARD
DTSTART:20241027T020000
RDATE:20250330T030000
TZOFFSETFROM:+0200
TZOFFSETTO:+0100
TZNAME:Europe/Paris CET
END:STANDARD
BEGIN:STANDARD
DTSTART:20251026T020000
RDATE:20260329T030000
TZOFFSETFROM:+0200
TZOFFSETTO:+0100
TZNAME:Europe/Paris CET
END:STANDARD
BEGIN:STANDARD
DTSTART:20261025T020000
RDATE:20270328T030000
TZOFFSETFROM:+0200
TZOFFSETTO:+0100
TZNAME:Europe/Paris CET
END:STANDARD
BEGIN:DAYLIGHT
DTSTART:20220707T000000
RDATE:20221030T020000
TZOFFSETFROM:+0100
TZOFFSETTO:+0200
TZNAME:Europe/Paris CEST
END:DAYLIGHT
BEGIN:DAYLIGHT
DTSTART:20230326T030000
RDATE:20231029T020000
TZOFFSETFROM:+0100
TZOFFSETTO:+0200
TZNAME:Europe/Paris CEST
END:DAYLIGHT
BEGIN:DAYLIGHT
DTSTART:20240331T030000
RDATE:20241027T020000
TZOFFSETFROM:+0100
TZOFFSETTO:+0200
TZNAME:Europe/Paris CEST
END:DAYLIGHT
BEGIN:DAYLIGHT
DTSTART:20250330T030000
RDATE:20251026T020000
TZOFFSETFROM:+0100
TZOFFSETTO:+0200
TZNAME:Europe/Paris CEST
END:DAYLIGHT
BEGIN:DAYLIGHT
DTSTART:20260329T030000
RDATE:20261025T020000
TZOFFSETFROM:+0100
TZOFFSETTO:+0200
TZNAME:Europe/Paris CEST
END:DAYLIGHT
END:VTIMEZONE
BEGIN:VEVENT
UID:ff0cd5a0afa2009794b41faef277dbd9
CATEGORIES:Roller Ski
CREATED:20230616T190006
SUMMARY:Course La Mauselaine Gérardmer
URL;VALUE=URI:https://skivosges.net/agenda/a-venir/detailevenement/2126/-/course-la-mause
 laine-gerardmer?tmpl=component
DESCRIPTION:<!-- #gskiepreuve code généré par le plugin jevents pour GskiEpreuves. Ne p
 as modifier cette ligne, ni tout le contenu suivant  #gskiepreuve --><div c
 lass="gski-evenement_infos"><div class="gski-evenement-nom">Course La Mause
 laine Gérardmer</div><div class="gski-evenement-report"></div><ul class="gs
 ki-evenement-liste-infos"><li>Codex évenement OMVT0010</li><li>Lieu : La Ma
 uselaine</li><li>Station : GERARDMER</li><li>Organisateur : 14469 A.S GERAR
 DMER SKI NORDIQUE</li><li>Courriel : <!-- Cette adresse électronique est pr
 otégée contre les robots spammeurs. --><span class="cloaked_email ep_91c97f
 e7"><span data-ep-b="&#46;&#102;&#114;" data-ep-a="he&#114;v"><span data-ep
 -b="&#97;&#110;&#103;e" data-ep-a="&#101;&#46;p&#111;"><span data-ep-b="&#5
 1;&#64;&#111;r" data-ep-a="&#105;&#114;&#111;&#116;"></span></span></span><
 /span><script>RegularLabs.EmailProtector.unCloak("ep_91c97fe7");</script></
 li></ul><div class="gski-evenement-infos-2"><div class="gski-evenement-info
 -inscriptions"><div class="gski-evenement-inscriptions-periodes">Période d'
 inscription à l'evènement du Samedi 01 Juillet 2023 à 00:00 au Jeudi 06 Jui
 llet 2023 à 12:00<div class="gski-evenement-inscriptions-types-titres">Le t
 ype de titres Fédéraux autorisé n'est pas défini. Veuillez contacter l'orga
 nisateur et lui signaler le problème.</div></div></div><div class="gskiepre
 uves-links"><ul><li><a href="/index.php?option=com_jevents&task=icalevent.d
 etail&evid=2121&Itemid=6289">Voir les informations dans l'agenda...</a></li
 ><li><a href="/index.php?option=com_gskiepreuves&view=afficheresultats&form
 at_option=tous&filter[search]=OMVT0010&filter[date_debut]=08-07-2023&filter
 [date_fin]=08-07-2023&code_activite=ROL&Itemid=6289">Vers les résultats...<
 /a></li></ul></div><div class="gskiepreuves-links"><ul><li><a href="/index.
 php?option=com_jevents&task=icalevent.detail&evid=2121&Itemid=6289">Voir le
 s informations dans l'agenda...</a></li><li><a href="/index.php?option=com_
 gskiepreuves&view=afficheresultats&format_option=tous&filter[search]=OMVT00
 10&filter[date_debut]=08-07-2023&filter[date_fin]=08-07-2023&code_activite=
 ROL&Itemid=6289">Vers les résultats...</a></li></ul></div></div"><!-- #/gsk
 iepreuve fin du dode généré par le plugin jevents pour GskiEpreuves. . Ne p
 as modifier cette ligne, ni tout le contenu précedant.  #/gskiepreuve --> <
 a href="https://skivosges.net/agenda/a-venir/detailevenement/2126/-/course-
 la-mauselaine-gerardmer?tmpl=component">Cet évènement a été importé depuis 
 :https://skivosges.net/agenda/a-venir/detailevenement/2126/-/course-la-maus
 elaine-gerardmer?tmpl=component</a>
X-ALT-DESC;FMTTYPE=text/html:<!-- #gskiepreuve code généré par le plugin jevents pour GskiEpreuves. Ne p
 as modifier cette ligne, ni tout le contenu suivant  #gskiepreuve --><div c
 lass="gski-evenement_infos"><div class="gski-evenement-nom">Course La Mause
 laine Gérardmer</div><div class="gski-evenement-report"></div><ul class="gs
 ki-evenement-liste-infos"><li>Codex évenement OMVT0010</li><li>Lieu : La Ma
 uselaine</li><li>Station : GERARDMER</li><li>Organisateur : 14469 A.S GERAR
 DMER SKI NORDIQUE</li><li>Courriel : <!-- Cette adresse électronique est pr
 otégée contre les robots spammeurs. --><span class="cloaked_email ep_91c97f
 e7"><span data-ep-b="&#46;&#102;&#114;" data-ep-a="he&#114;v"><span data-ep
 -b="&#97;&#110;&#103;e" data-ep-a="&#101;&#46;p&#111;"><span data-ep-b="&#5
 1;&#64;&#111;r" data-ep-a="&#105;&#114;&#111;&#116;"></span></span></span><
 /span><script>RegularLabs.EmailProtector.unCloak("ep_91c97fe7");</script></
 li></ul><div class="gski-evenement-infos-2"><div class="gski-evenement-info
 -inscriptions"><div class="gski-evenement-inscriptions-periodes">Période d'
 inscription à l'evènement du Samedi 01 Juillet 2023 à 00:00 au Jeudi 06 Jui
 llet 2023 à 12:00<div class="gski-evenement-inscriptions-types-titres">Le t
 ype de titres Fédéraux autorisé n'est pas défini. Veuillez contacter l'orga
 nisateur et lui signaler le problème.</div></div></div><div class="gskiepre
 uves-links"><ul><li><a href="https://skivosges.net/index.php?option=com_jev
 ents&task=icalevent.detail&evid=2121&Itemid=6289">Voir les informations dan
 s l'agenda...</a></li><li><a href="https://skivosges.net/index.php?option=c
 om_gskiepreuves&view=afficheresultats&format_option=tous&filter[search]=OMV
 T0010&filter[date_debut]=08-07-2023&filter[date_fin]=08-07-2023&code_activi
 te=ROL&Itemid=6289">Vers les résultats...</a></li></ul></div><div class="gs
 kiepreuves-links"><ul><li><a href="https://skivosges.net/index.php?option=c
 om_jevents&task=icalevent.detail&evid=2121&Itemid=6289">Voir les informatio
 ns dans l'agenda...</a></li><li><a href="https://skivosges.net/index.php?op
 tion=com_gskiepreuves&view=afficheresultats&format_option=tous&filter[searc
 h]=OMVT0010&filter[date_debut]=08-07-2023&filter[date_fin]=08-07-2023&code_
 activite=ROL&Itemid=6289">Vers les résultats...</a></li></ul></div></div"><
 !-- #/gskiepreuve fin du dode généré par le plugin jevents pour GskiEpreuve
 s. . Ne pas modifier cette ligne, ni tout le contenu précedant.  #/gskiepre
 uve --> <a href="https://skivosges.net/agenda/a-venir/detailevenement/2126/
 -/course-la-mauselaine-gerardmer?tmpl=component">Cet évènement a été import
 é depuis :https://skivosges.net/agenda/a-venir/detailevenement/2126/-/cours
 e-la-mauselaine-gerardmer?tmpl=component</a>DTSTAMP:20260421T051507
DTSTART;TZID=Europe/Paris;VALUE=DATE:20230708
DTEND;TZID=Europe/Paris;VALUE=DATE:20230709
SEQUENCE:0
TRANSP:OPAQUE
END:VEVENT
END:VCALENDAR