BEGIN:VCALENDAR
VERSION:2.0
PRODID:-//jEvents 2.0 for Joomla//EN
CALSCALE:GREGORIAN
METHOD:PUBLISH
BEGIN:VTIMEZONE
TZID:Europe/Paris
BEGIN:STANDARD
DTSTART:20221030T020000
RDATE:20230326T030000
TZOFFSETFROM:+0200
TZOFFSETTO:+0100
TZNAME:Europe/Paris CET
END:STANDARD
BEGIN:STANDARD
DTSTART:20231029T020000
RDATE:20240331T030000
TZOFFSETFROM:+0200
TZOFFSETTO:+0100
TZNAME:Europe/Paris CET
END:STANDARD
BEGIN:STANDARD
DTSTART:20241027T020000
RDATE:20250330T030000
TZOFFSETFROM:+0200
TZOFFSETTO:+0100
TZNAME:Europe/Paris CET
END:STANDARD
BEGIN:STANDARD
DTSTART:20251026T020000
RDATE:20260329T030000
TZOFFSETFROM:+0200
TZOFFSETTO:+0100
TZNAME:Europe/Paris CET
END:STANDARD
BEGIN:STANDARD
DTSTART:20261025T020000
RDATE:20270328T030000
TZOFFSETFROM:+0200
TZOFFSETTO:+0100
TZNAME:Europe/Paris CET
END:STANDARD
BEGIN:DAYLIGHT
DTSTART:20220908T000000
RDATE:20221030T020000
TZOFFSETFROM:+0100
TZOFFSETTO:+0200
TZNAME:Europe/Paris CEST
END:DAYLIGHT
BEGIN:DAYLIGHT
DTSTART:20230326T030000
RDATE:20231029T020000
TZOFFSETFROM:+0100
TZOFFSETTO:+0200
TZNAME:Europe/Paris CEST
END:DAYLIGHT
BEGIN:DAYLIGHT
DTSTART:20240331T030000
RDATE:20241027T020000
TZOFFSETFROM:+0100
TZOFFSETTO:+0200
TZNAME:Europe/Paris CEST
END:DAYLIGHT
BEGIN:DAYLIGHT
DTSTART:20250330T030000
RDATE:20251026T020000
TZOFFSETFROM:+0100
TZOFFSETTO:+0200
TZNAME:Europe/Paris CEST
END:DAYLIGHT
BEGIN:DAYLIGHT
DTSTART:20260329T030000
RDATE:20261025T020000
TZOFFSETFROM:+0100
TZOFFSETTO:+0200
TZNAME:Europe/Paris CEST
END:DAYLIGHT
END:VTIMEZONE
BEGIN:VEVENT
UID:8c1632853f801211c4db561ee1f7dc81
CATEGORIES:Compétition Biathlon
CREATED:20230901T140004
SUMMARY:CHALLENGE CREDIT MUTUEL (La Tenine La Bresse) - 50m
URL;VALUE=URI:https://skivosges.net/agenda/a-venir/detailevenement/2144/-/challenge-credi
 t-mutuel-la-tenine-la-bresse-50m?tmpl=component
DESCRIPTION:CHALLENGE CREDIT MUTUEL (La Tenine La Bresse) - 50m\n - Codex évenement BMV
 T0050\n - Lieu : LA TENINE LA BRESSE\n - Station : LA BRESSE\n - Piste : ST
 ADE VERONIQUE CLAUDEL\n - Organisateur : 14024 LA BRESSAUDE SECTION SKI\n -
  Courriel : RegularLabs.EmailProtector.unCloak("ep_cf8aa750");\n - Téléphon
 e : 06 76 78 27 66\n - Délégué Technique : LEJEUNE DAMIENPériode d'inscript
 ion à l'evènement du Samedi 02 Septembre 2023 à 00:00 au Vendredi 08 Septem
 bre 2023 à 18:00Inscriptions ouvertes aux detenteurs des titres Fédéraux va
 lides suivants : Licenciés Compétiteurs\n - Voir les informations dans l'ag
 enda... (/index.php?option=com_jevents&amp;task=icalevent.detail&amp;evid=2
 139&amp;Itemid=6289)\n - Vers la liste de départs... (/index.php?option=com
 _gskiepreuves&amp;view=affichedeparts&amp;format_option=tous&amp;filter[sea
 rch]=BMVT0050&amp;filter[date_debut]=09-09-2023&amp;filter[date_fin]=09-09-
 2023&amp;Itemid=6289)\n - Publications concernant cet évènement :\n - Vendr
 edi 8 Septembre 2023 à 21:59 : Le 09/09/2023 LA TENINE LA BRESSE/Biathlon L
 iste de départs\n - Vendredi 8 Septembre 2023 à 21:56 : Le 09/09/2023 LA TE
 NINE LA BRESSE/Biathlon Liste de départs\n - Mardi 5 Septembre 2023 à 05:56
  : Le 09/09/2023 LA TENINE LA BRESSE/Biathlon Informations (/index.php?opti
 on=com_content&amp;view=article&amp;id=8204&amp;Itemid=6289)Epreuves :\n - 
 Le Samedi 09 Septembre 2023 à 09:00\n - Codex épreuve BMVM0051\n - Sprint\n
  - Catégorie(s) : U15 (Garçons)\n - Le Samedi 09 Septembre 2023 à 09:00\n -
  Codex épreuve BMVF0052\n - Super Sprint FINAL (Mass)\n - Catégorie(s) : U1
 7 (Filles)\n - Le Samedi 09 Septembre 2023 à 09:00\n - Codex épreuve BMVM00
 52\n - Super Sprint FINAL (Mass)\n - Catégorie(s) : U17 (Garçons)\n - Le Sa
 medi 09 Septembre 2023 à 09:00\n - Codex épreuve BMVF0053\n - Super Sprint 
 FINAL (Mass)\n - Catégorie(s) : U19 a SEN (Dames)\n - Le Samedi 09 Septembr
 e 2023 à 09:00\n - Codex épreuve BMVM0053\n - Super Sprint FINAL (Mass)\n -
  Catégorie(s) : U19 a SEN (Hommes)\n - Voir les informations dans l'agenda.
 .. (/index.php?option=com_jevents&amp;task=icalevent.detail&amp;evid=2139&a
 mp;Itemid=6289)\n - Vers la liste de départs... (/index.php?option=com_gski
 epreuves&amp;view=affichedeparts&amp;format_option=tous&amp;filter[search]=
 BMVT0050&amp;filter[date_debut]=09-09-2023&amp;filter[date_fin]=09-09-2023&
 amp;Itemid=6289)\n - Publications concernant cet évènement :\n - Vendredi 8
  Septembre 2023 à 21:59 : Le 09/09/2023 LA TENINE LA BRESSE/Biathlon Liste 
 de départs\n - Vendredi 8 Septembre 2023 à 21:56 : Le 09/09/2023 LA TENINE 
 LA BRESSE/Biathlon Liste de départs\n - Mardi 5 Septembre 2023 à 05:56 : Le
  09/09/2023 LA TENINE LA BRESSE/Biathlon Informations (/index.php?option=co
 m_content&amp;view=article&amp;id=8204&amp;Itemid=6289) Cet évènement a été
  importé depuis :https://skivosges.net/agenda/a-venir/detailevenement/2144/
 -/challenge-credit-mutuel-la-tenine-la-bresse-50m?tmpl=component
X-ALT-DESC;FMTTYPE=text/html:<!-- #gskiepreuve code généré par le plugin jevents pour GskiEpreuves. Ne p
 as modifier cette ligne, ni tout le contenu suivant  #gskiepreuve --><div c
 lass="gski-evenement_infos"><div class="gski-evenement-nom">CHALLENGE CREDI
 T MUTUEL (La Tenine La Bresse) - 50m</div><div class="gski-evenement-report
 "></div><ul class="gski-evenement-liste-infos"><li>Codex évenement BMVT0050
 </li><li>Lieu : LA TENINE LA BRESSE</li><li>Station : LA BRESSE</li><li>Pis
 te : STADE VERONIQUE CLAUDEL</li><li>Organisateur : 14024 LA BRESSAUDE SECT
 ION SKI</li><li>Courriel : <!-- Cette adresse électronique est protégée con
 tre les robots spammeurs. --><span class="cloaked_email ep_cf8aa750"><span 
 data-ep-b="fr" data-ep-a="o&#100;il&#101;"><span data-ep-a="&#46;&#109;u&#1
 10;&#115;" data-ep-b="an&#103;e&#46;"><span data-ep-a="&#99;&#104;.&#115;c"
  data-ep-b="&#108;b&#64;o&#114;"></span></span></span></span><script>Regula
 rLabs.EmailProtector.unCloak("ep_cf8aa750");</script></li><li>Téléphone : 0
 6 76 78 27 66</li><li><span class="gski-evenement-obs">Délégué Technique : 
 LEJEUNE DAMIEN</span></li></ul><div class="gski-evenement-infos-2"><div cla
 ss="gski-evenement-info-inscriptions"><div class="gski-evenement-inscriptio
 ns-periodes">Période d'inscription à l'evènement du Samedi 02 Septembre 202
 3 à 00:00 au Vendredi 08 Septembre 2023 à 18:00<div class="gski-evenement-i
 nscriptions-types-titres">Inscriptions ouvertes aux detenteurs des titres F
 édéraux valides suivants : Licenciés Compétiteurs</div></div></div><div cla
 ss="gskiepreuves-links"><ul><li><a href="https://skivosges.net/index.php?op
 tion=com_jevents&task=icalevent.detail&evid=2139&Itemid=6289">Voir les info
 rmations dans l'agenda...</a></li><li><a href="https://skivosges.net/index.
 php?option=com_gskiepreuves&view=affichedeparts&format_option=tous&filter[s
 earch]=BMVT0050&filter[date_debut]=09-09-2023&filter[date_fin]=09-09-2023&I
 temid=6289">Vers la liste de départs...</a></li><li>Publications concernant
  cet évènement :<ul><li><a href="https://skivosges.net/index.php?option=com
 _content&view=article&id=8215&Itemid=6289">Vendredi 8 Septembre 2023 à 21:5
 9 : Le 09/09/2023 LA TENINE LA BRESSE/Biathlon Liste de départs</a></li><li
 ><a href="https://skivosges.net/index.php?option=com_content&view=article&i
 d=8214&Itemid=6289">Vendredi 8 Septembre 2023 à 21:56 : Le 09/09/2023 LA TE
 NINE LA BRESSE/Biathlon Liste de départs</a></li><li><a href="https://skivo
 sges.net/index.php?option=com_content&view=article&id=8204&Itemid=6289">Mar
 di 5 Septembre 2023 à 05:56 : Le 09/09/2023 LA TENINE LA BRESSE/Biathlon In
 formations</a></li></ul></li></ul></div><div class="gski-evenement-epreuves
 "><div class="gski-evenement-epreuves-titres">Epreuves :</div><ul class="gs
 ki-evenement-epreuves-list"><li><div class="gski-epreuve-date">Le Samedi 09
  Septembre 2023 à 09:00</div><ul class="gski-epreuve-liste-infos"><li>Codex
  épreuve BMVM0051</li><li>Sprint</li><li>Catégorie(s) : U15 (Garçons)</li><
 /ul></li><li><div class="gski-epreuve-date">Le Samedi 09 Septembre 2023 à 0
 9:00</div><ul class="gski-epreuve-liste-infos"><li>Codex épreuve BMVF0052</
 li><li>Super Sprint FINAL (Mass)</li><li>Catégorie(s) : U17 (Filles)</li></
 ul></li><li><div class="gski-epreuve-date">Le Samedi 09 Septembre 2023 à 09
 :00</div><ul class="gski-epreuve-liste-infos"><li>Codex épreuve BMVM0052</l
 i><li>Super Sprint FINAL (Mass)</li><li>Catégorie(s) : U17 (Garçons)</li></
 ul></li><li><div class="gski-epreuve-date">Le Samedi 09 Septembre 2023 à 09
 :00</div><ul class="gski-epreuve-liste-infos"><li>Codex épreuve BMVF0053</l
 i><li>Super Sprint FINAL (Mass)</li><li>Catégorie(s) : U19 a SEN (Dames)</l
 i></ul></li><li><div class="gski-epreuve-date">Le Samedi 09 Septembre 2023 
 à 09:00</div><ul class="gski-epreuve-liste-infos"><li>Codex épreuve BMVM005
 3</li><li>Super Sprint FINAL (Mass)</li><li>Catégorie(s) : U19 a SEN (Homme
 s)</li></ul></li></ul></div><div class="gskiepreuves-links"><ul><li><a href
 ="https://skivosges.net/index.php?option=com_jevents&task=icalevent.detail&
 evid=2139&Itemid=6289">Voir les informations dans l'agenda...</a></li><li><
 a href="https://skivosges.net/index.php?option=com_gskiepreuves&view=affich
 edeparts&format_option=tous&filter[search]=BMVT0050&filter[date_debut]=09-0
 9-2023&filter[date_fin]=09-09-2023&Itemid=6289">Vers la liste de départs...
 </a></li><li>Publications concernant cet évènement :<ul><li><a href="https:
 //skivosges.net/index.php?option=com_content&view=article&id=8215&Itemid=62
 89">Vendredi 8 Septembre 2023 à 21:59 : Le 09/09/2023 LA TENINE LA BRESSE/B
 iathlon Liste de départs</a></li><li><a href="https://skivosges.net/index.p
 hp?option=com_content&view=article&id=8214&Itemid=6289">Vendredi 8 Septembr
 e 2023 à 21:56 : Le 09/09/2023 LA TENINE LA BRESSE/Biathlon Liste de départ
 s</a></li><li><a href="https://skivosges.net/index.php?option=com_content&v
 iew=article&id=8204&Itemid=6289">Mardi 5 Septembre 2023 à 05:56 : Le 09/09/
 2023 LA TENINE LA BRESSE/Biathlon Informations</a></li></ul></li></ul></div
 ></div"><!-- #/gskiepreuve fin du dode généré par le plugin jevents pour Gs
 kiEpreuves. . Ne pas modifier cette ligne, ni tout le contenu précedant.  #
 /gskiepreuve --> <a href="https://skivosges.net/agenda/a-venir/detailevenem
 ent/2144/-/challenge-credit-mutuel-la-tenine-la-bresse-50m?tmpl=component">
 Cet évènement a été importé depuis :https://skivosges.net/agenda/a-venir/de
 tailevenement/2144/-/challenge-credit-mutuel-la-tenine-la-bresse-50m?tmpl=c
 omponent</a>DTSTAMP:20260423T144618
DTSTART;TZID=Europe/Paris;VALUE=DATE:20230909
DTEND;TZID=Europe/Paris;VALUE=DATE:20230910
SEQUENCE:0
TRANSP:OPAQUE
END:VEVENT
END:VCALENDAR