BEGIN:VCALENDAR
VERSION:2.0
PRODID:-//jEvents 2.0 for Joomla//EN
CALSCALE:GREGORIAN
METHOD:PUBLISH
BEGIN:VTIMEZONE
TZID:Europe/Paris
BEGIN:STANDARD
DTSTART:20221030T020000
RDATE:20230326T030000
TZOFFSETFROM:+0200
TZOFFSETTO:+0100
TZNAME:Europe/Paris CET
END:STANDARD
BEGIN:STANDARD
DTSTART:20231029T020000
RDATE:20240331T030000
TZOFFSETFROM:+0200
TZOFFSETTO:+0100
TZNAME:Europe/Paris CET
END:STANDARD
BEGIN:STANDARD
DTSTART:20241027T020000
RDATE:20250330T030000
TZOFFSETFROM:+0200
TZOFFSETTO:+0100
TZNAME:Europe/Paris CET
END:STANDARD
BEGIN:STANDARD
DTSTART:20251026T020000
RDATE:20260329T030000
TZOFFSETFROM:+0200
TZOFFSETTO:+0100
TZNAME:Europe/Paris CET
END:STANDARD
BEGIN:STANDARD
DTSTART:20261025T020000
RDATE:20270328T030000
TZOFFSETFROM:+0200
TZOFFSETTO:+0100
TZNAME:Europe/Paris CET
END:STANDARD
BEGIN:DAYLIGHT
DTSTART:20221007T000000
RDATE:20221030T020000
TZOFFSETFROM:+0100
TZOFFSETTO:+0200
TZNAME:Europe/Paris CEST
END:DAYLIGHT
BEGIN:DAYLIGHT
DTSTART:20230326T030000
RDATE:20231029T020000
TZOFFSETFROM:+0100
TZOFFSETTO:+0200
TZNAME:Europe/Paris CEST
END:DAYLIGHT
BEGIN:DAYLIGHT
DTSTART:20240331T030000
RDATE:20241027T020000
TZOFFSETFROM:+0100
TZOFFSETTO:+0200
TZNAME:Europe/Paris CEST
END:DAYLIGHT
BEGIN:DAYLIGHT
DTSTART:20250330T030000
RDATE:20251026T020000
TZOFFSETFROM:+0100
TZOFFSETTO:+0200
TZNAME:Europe/Paris CEST
END:DAYLIGHT
BEGIN:DAYLIGHT
DTSTART:20260329T030000
RDATE:20261025T020000
TZOFFSETFROM:+0100
TZOFFSETTO:+0200
TZNAME:Europe/Paris CEST
END:DAYLIGHT
END:VTIMEZONE
BEGIN:VEVENT
UID:9876b143c1c902928218abde61cbc9df
CATEGORIES:Compétition Biathlon
CREATED:20230901T140004
SUMMARY:CHALLENGE CREDIT MUTUEL (Champ du Feu) - 10m et 50m
URL;VALUE=URI:https://skivosges.net/agenda/a-venir/detailevenement/2148/-/challenge-credi
 t-mutuel-champ-du-feu-10m-et-50m?tmpl=component
DESCRIPTION:CHALLENGE CREDIT MUTUEL (Champ du Feu) - 10m et 50m\n - Codex évenement BMV
 T0070\n - Station : CHAMP DU FEU\n - Organisateur : 14448 MOLSHEIM SKI NORD
 IQUE\n - Courriel : RegularLabs.EmailProtector.unCloak("ep_497d989c");\n - 
 Téléphone : 06 73 43 64 09\n - Délégué Technique : CLAUDE CHRISTINEPériode 
 d'inscription à l'evènement du Dimanche 01 Octobre 2023 à 12:00 au Vendredi
  06 Octobre 2023 à 20:24Inscriptions ouvertes aux detenteurs des titres Féd
 éraux valides suivants : Licenciés Compétiteurs et Titres Loisirs et Dirige
 ants\n - Voir les informations dans l'agenda... (/index.php?option=com_jeve
 nts&amp;task=icalevent.detail&amp;evid=2143&amp;Itemid=6289)\n - Vers les r
 ésultats... (/index.php?option=com_gskiepreuves&amp;view=afficheresultats&a
 mp;format_option=tous&amp;filter[search]=BMVT0070&amp;filter[date_debut]=08
 -10-2023&amp;filter[date_fin]=08-10-2023&amp;code_activite=BIATH&amp;Itemid
 =6289)Epreuves :\n - Le Dimanche 08 Octobre 2023\n - Codex épreuve BMVM0071
 \n - Individuel\n - Catégorie(s) : U11 (Garçons)\n - Le Dimanche 08 Octobre
  2023\n - Codex épreuve BMVF0072\n - Individuel\n - Catégorie(s) : U13 (Fil
 les)\n - Le Dimanche 08 Octobre 2023\n - Codex épreuve BMVM0072\n - Individ
 uel\n - Catégorie(s) : U13 (Garçons)\n - Le Dimanche 08 Octobre 2023\n - Co
 dex épreuve BMVF0073\n - Mass start\n - Catégorie(s) : U15 (Filles)\n - Le 
 Dimanche 08 Octobre 2023\n - Codex épreuve BMVM0073\n - Mass start\n - Caté
 gorie(s) : U15 (Garçons)\n - Le Dimanche 08 Octobre 2023\n - Codex épreuve 
 BMVF0074\n - Mass start\n - Catégorie(s) : U17 (Filles)\n - Le Dimanche 08 
 Octobre 2023\n - Codex épreuve BMVF0075\n - Mass start\n - Catégorie(s) : U
 19 a SEN (Dames)\n - Le Dimanche 08 Octobre 2023\n - Codex épreuve BMVM0074
 \n - Mass start\n - Catégorie(s) : U19 a SEN (Hommes)\n - Le Dimanche 08 Oc
 tobre 2023\n - Codex épreuve BMVM0075\n - Mass start\n - Catégorie(s) : U17
  (Garçons)\n - Voir les informations dans l'agenda... (/index.php?option=co
 m_jevents&amp;task=icalevent.detail&amp;evid=2143&amp;Itemid=6289)\n - Vers
  les résultats... (/index.php?option=com_gskiepreuves&amp;view=afficheresul
 tats&amp;format_option=tous&amp;filter[search]=BMVT0070&amp;filter[date_deb
 ut]=08-10-2023&amp;filter[date_fin]=08-10-2023&amp;code_activite=BIATH&amp;
 Itemid=6289) Cet évènement a été importé depuis :https://skivosges.net/agen
 da/a-venir/detailevenement/2148/-/challenge-credit-mutuel-champ-du-feu-10m-
 et-50m?tmpl=component
X-ALT-DESC;FMTTYPE=text/html:<!-- #gskiepreuve code généré par le plugin jevents pour GskiEpreuves. Ne p
 as modifier cette ligne, ni tout le contenu suivant  #gskiepreuve --><div c
 lass="gski-evenement_infos"><div class="gski-evenement-nom">CHALLENGE CREDI
 T MUTUEL (Champ du Feu) - 10m et 50m</div><div class="gski-evenement-report
 "></div><ul class="gski-evenement-liste-infos"><li>Codex évenement BMVT0070
 </li><li>Station : CHAMP DU FEU</li><li>Organisateur : 14448 MOLSHEIM SKI N
 ORDIQUE</li><li>Courriel : <!-- Cette adresse électronique est protégée con
 tre les robots spammeurs. --><span class="cloaked_email ep_497d989c"><span 
 data-ep-b="&#109;" data-ep-a="m&#111;&#108;&#115;&#104;&#101;"><span data-e
 p-b="&#97;i&#108;.&#99;&#111;" data-ep-a="&#105;m&#46;&#115;k&#105;"><span 
 data-ep-a="&#46;&#110;o&#114;&#100;&#105;" data-ep-b="q&#117;&#101;&#64;g&#
 109;"></span></span></span></span><script>RegularLabs.EmailProtector.unCloa
 k("ep_497d989c");</script></li><li>Téléphone : 06 73 43 64 09</li><li><span
  class="gski-evenement-obs">Délégué Technique : CLAUDE CHRISTINE</span></li
 ></ul><div class="gski-evenement-infos-2"><div class="gski-evenement-info-i
 nscriptions"><div class="gski-evenement-inscriptions-periodes">Période d'in
 scription à l'evènement du Dimanche 01 Octobre 2023 à 12:00 au Vendredi 06 
 Octobre 2023 à 20:24<div class="gski-evenement-inscriptions-types-titres">I
 nscriptions ouvertes aux detenteurs des titres Fédéraux valides suivants : 
 Licenciés Compétiteurs et Titres Loisirs et Dirigeants</div></div></div><di
 v class="gskiepreuves-links"><ul><li><a href="https://skivosges.net/index.p
 hp?option=com_jevents&task=icalevent.detail&evid=2143&Itemid=6289">Voir les
  informations dans l'agenda...</a></li><li><a href="https://skivosges.net/i
 ndex.php?option=com_gskiepreuves&view=afficheresultats&format_option=tous&f
 ilter[search]=BMVT0070&filter[date_debut]=08-10-2023&filter[date_fin]=08-10
 -2023&code_activite=BIATH&Itemid=6289">Vers les résultats...</a></li></ul><
 /div><div class="gski-evenement-epreuves"><div class="gski-evenement-epreuv
 es-titres">Epreuves :</div><ul class="gski-evenement-epreuves-list"><li><di
 v class="gski-epreuve-date">Le Dimanche 08 Octobre 2023</div><ul class="gsk
 i-epreuve-liste-infos"><li>Codex épreuve BMVM0071</li><li>Individuel</li><l
 i>Catégorie(s) : U11 (Garçons)</li></ul></li><li><div class="gski-epreuve-d
 ate">Le Dimanche 08 Octobre 2023</div><ul class="gski-epreuve-liste-infos">
 <li>Codex épreuve BMVF0072</li><li>Individuel</li><li>Catégorie(s) : U13 (F
 illes)</li></ul></li><li><div class="gski-epreuve-date">Le Dimanche 08 Octo
 bre 2023</div><ul class="gski-epreuve-liste-infos"><li>Codex épreuve BMVM00
 72</li><li>Individuel</li><li>Catégorie(s) : U13 (Garçons)</li></ul></li><l
 i><div class="gski-epreuve-date">Le Dimanche 08 Octobre 2023</div><ul class
 ="gski-epreuve-liste-infos"><li>Codex épreuve BMVF0073</li><li>Mass start</
 li><li>Catégorie(s) : U15 (Filles)</li></ul></li><li><div class="gski-epreu
 ve-date">Le Dimanche 08 Octobre 2023</div><ul class="gski-epreuve-liste-inf
 os"><li>Codex épreuve BMVM0073</li><li>Mass start</li><li>Catégorie(s) : U1
 5 (Garçons)</li></ul></li><li><div class="gski-epreuve-date">Le Dimanche 08
  Octobre 2023</div><ul class="gski-epreuve-liste-infos"><li>Codex épreuve B
 MVF0074</li><li>Mass start</li><li>Catégorie(s) : U17 (Filles)</li></ul></l
 i><li><div class="gski-epreuve-date">Le Dimanche 08 Octobre 2023</div><ul c
 lass="gski-epreuve-liste-infos"><li>Codex épreuve BMVF0075</li><li>Mass sta
 rt</li><li>Catégorie(s) : U19 a SEN (Dames)</li></ul></li><li><div class="g
 ski-epreuve-date">Le Dimanche 08 Octobre 2023</div><ul class="gski-epreuve-
 liste-infos"><li>Codex épreuve BMVM0074</li><li>Mass start</li><li>Catégori
 e(s) : U19 a SEN (Hommes)</li></ul></li><li><div class="gski-epreuve-date">
 Le Dimanche 08 Octobre 2023</div><ul class="gski-epreuve-liste-infos"><li>C
 odex épreuve BMVM0075</li><li>Mass start</li><li>Catégorie(s) : U17 (Garçon
 s)</li></ul></li></ul></div><div class="gskiepreuves-links"><ul><li><a href
 ="https://skivosges.net/index.php?option=com_jevents&task=icalevent.detail&
 evid=2143&Itemid=6289">Voir les informations dans l'agenda...</a></li><li><
 a href="https://skivosges.net/index.php?option=com_gskiepreuves&view=affich
 eresultats&format_option=tous&filter[search]=BMVT0070&filter[date_debut]=08
 -10-2023&filter[date_fin]=08-10-2023&code_activite=BIATH&Itemid=6289">Vers 
 les résultats...</a></li></ul></div></div"><!-- #/gskiepreuve fin du dode g
 énéré par le plugin jevents pour GskiEpreuves. . Ne pas modifier cette lign
 e, ni tout le contenu précedant.  #/gskiepreuve --> <a href="https://skivos
 ges.net/agenda/a-venir/detailevenement/2148/-/challenge-credit-mutuel-champ
 -du-feu-10m-et-50m?tmpl=component">Cet évènement a été importé depuis :http
 s://skivosges.net/agenda/a-venir/detailevenement/2148/-/challenge-credit-mu
 tuel-champ-du-feu-10m-et-50m?tmpl=component</a>DTSTAMP:20260423T133042
DTSTART;TZID=Europe/Paris;VALUE=DATE:20231008
DTEND;TZID=Europe/Paris;VALUE=DATE:20231009
SEQUENCE:0
TRANSP:OPAQUE
END:VEVENT
END:VCALENDAR