BEGIN:VCALENDAR
VERSION:2.0
PRODID:-//jEvents 2.0 for Joomla//EN
CALSCALE:GREGORIAN
METHOD:PUBLISH
BEGIN:VTIMEZONE
TZID:Europe/Paris
BEGIN:STANDARD
DTSTART:20130117T080000
RDATE:20130331T030000
TZOFFSETFROM:+0200
TZOFFSETTO:+0100
TZNAME:Europe/Paris CET
END:STANDARD
BEGIN:STANDARD
DTSTART:20131027T020000
RDATE:20140330T030000
TZOFFSETFROM:+0200
TZOFFSETTO:+0100
TZNAME:Europe/Paris CET
END:STANDARD
BEGIN:STANDARD
DTSTART:20141026T020000
RDATE:20150329T030000
TZOFFSETFROM:+0200
TZOFFSETTO:+0100
TZNAME:Europe/Paris CET
END:STANDARD
BEGIN:STANDARD
DTSTART:20151025T020000
RDATE:20160327T030000
TZOFFSETFROM:+0200
TZOFFSETTO:+0100
TZNAME:Europe/Paris CET
END:STANDARD
BEGIN:STANDARD
DTSTART:20161030T020000
RDATE:20170326T030000
TZOFFSETFROM:+0200
TZOFFSETTO:+0100
TZNAME:Europe/Paris CET
END:STANDARD
BEGIN:STANDARD
DTSTART:20171029T020000
RDATE:20180325T030000
TZOFFSETFROM:+0200
TZOFFSETTO:+0100
TZNAME:Europe/Paris CET
END:STANDARD
BEGIN:STANDARD
DTSTART:20181028T020000
RDATE:20190331T030000
TZOFFSETFROM:+0200
TZOFFSETTO:+0100
TZNAME:Europe/Paris CET
END:STANDARD
BEGIN:STANDARD
DTSTART:20191027T020000
RDATE:20200329T030000
TZOFFSETFROM:+0200
TZOFFSETTO:+0100
TZNAME:Europe/Paris CET
END:STANDARD
BEGIN:STANDARD
DTSTART:20201025T020000
RDATE:20210328T030000
TZOFFSETFROM:+0200
TZOFFSETTO:+0100
TZNAME:Europe/Paris CET
END:STANDARD
BEGIN:STANDARD
DTSTART:20211031T020000
RDATE:20220327T030000
TZOFFSETFROM:+0200
TZOFFSETTO:+0100
TZNAME:Europe/Paris CET
END:STANDARD
BEGIN:STANDARD
DTSTART:20221030T020000
RDATE:20230326T030000
TZOFFSETFROM:+0200
TZOFFSETTO:+0100
TZNAME:Europe/Paris CET
END:STANDARD
BEGIN:STANDARD
DTSTART:20231029T020000
RDATE:20240331T030000
TZOFFSETFROM:+0200
TZOFFSETTO:+0100
TZNAME:Europe/Paris CET
END:STANDARD
BEGIN:STANDARD
DTSTART:20241027T020000
RDATE:20250330T030000
TZOFFSETFROM:+0200
TZOFFSETTO:+0100
TZNAME:Europe/Paris CET
END:STANDARD
BEGIN:STANDARD
DTSTART:20251026T020000
RDATE:20260329T030000
TZOFFSETFROM:+0200
TZOFFSETTO:+0100
TZNAME:Europe/Paris CET
END:STANDARD
BEGIN:STANDARD
DTSTART:20261025T020000
RDATE:20270328T030000
TZOFFSETFROM:+0200
TZOFFSETTO:+0100
TZNAME:Europe/Paris CET
END:STANDARD
BEGIN:DAYLIGHT
DTSTART:20130331T030000
RDATE:20131027T020000
TZOFFSETFROM:+0100
TZOFFSETTO:+0200
TZNAME:Europe/Paris CEST
END:DAYLIGHT
BEGIN:DAYLIGHT
DTSTART:20140330T030000
RDATE:20141026T020000
TZOFFSETFROM:+0100
TZOFFSETTO:+0200
TZNAME:Europe/Paris CEST
END:DAYLIGHT
BEGIN:DAYLIGHT
DTSTART:20150329T030000
RDATE:20151025T020000
TZOFFSETFROM:+0100
TZOFFSETTO:+0200
TZNAME:Europe/Paris CEST
END:DAYLIGHT
BEGIN:DAYLIGHT
DTSTART:20160327T030000
RDATE:20161030T020000
TZOFFSETFROM:+0100
TZOFFSETTO:+0200
TZNAME:Europe/Paris CEST
END:DAYLIGHT
BEGIN:DAYLIGHT
DTSTART:20170326T030000
RDATE:20171029T020000
TZOFFSETFROM:+0100
TZOFFSETTO:+0200
TZNAME:Europe/Paris CEST
END:DAYLIGHT
BEGIN:DAYLIGHT
DTSTART:20180325T030000
RDATE:20181028T020000
TZOFFSETFROM:+0100
TZOFFSETTO:+0200
TZNAME:Europe/Paris CEST
END:DAYLIGHT
BEGIN:DAYLIGHT
DTSTART:20190331T030000
RDATE:20191027T020000
TZOFFSETFROM:+0100
TZOFFSETTO:+0200
TZNAME:Europe/Paris CEST
END:DAYLIGHT
BEGIN:DAYLIGHT
DTSTART:20200329T030000
RDATE:20201025T020000
TZOFFSETFROM:+0100
TZOFFSETTO:+0200
TZNAME:Europe/Paris CEST
END:DAYLIGHT
BEGIN:DAYLIGHT
DTSTART:20210328T030000
RDATE:20211031T020000
TZOFFSETFROM:+0100
TZOFFSETTO:+0200
TZNAME:Europe/Paris CEST
END:DAYLIGHT
BEGIN:DAYLIGHT
DTSTART:20220327T030000
RDATE:20221030T020000
TZOFFSETFROM:+0100
TZOFFSETTO:+0200
TZNAME:Europe/Paris CEST
END:DAYLIGHT
BEGIN:DAYLIGHT
DTSTART:20230326T030000
RDATE:20231029T020000
TZOFFSETFROM:+0100
TZOFFSETTO:+0200
TZNAME:Europe/Paris CEST
END:DAYLIGHT
BEGIN:DAYLIGHT
DTSTART:20240331T030000
RDATE:20241027T020000
TZOFFSETFROM:+0100
TZOFFSETTO:+0200
TZNAME:Europe/Paris CEST
END:DAYLIGHT
BEGIN:DAYLIGHT
DTSTART:20250330T030000
RDATE:20251026T020000
TZOFFSETFROM:+0100
TZOFFSETTO:+0200
TZNAME:Europe/Paris CEST
END:DAYLIGHT
BEGIN:DAYLIGHT
DTSTART:20260329T030000
RDATE:20261025T020000
TZOFFSETFROM:+0100
TZOFFSETTO:+0200
TZNAME:Europe/Paris CEST
END:DAYLIGHT
END:VTIMEZONE
BEGIN:VEVENT
UID:e354a8d8c71a79bb5a6708d94006510d
CATEGORIES:Compétition Saut
CREATED:20131214T192823
SUMMARY:CHAMPIONNATS FRANCE CADET
URL;VALUE=URI:https://skivosges.net/agenda/a-venir/detailevenement/216/-/championnats-fra
 nce-cadet?tmpl=component
DESCRIPTION:CHAMPIONNATS FRANCE CADET\n\nLieu : GERARDMER \nOrganisateur : A.S GERARDME
 R SKI NORDIQUE  (14469 A.S GERARDMER SKI NORDIQUE)\nEmail : RegularLabs.Ema
 ilProtector.unCloak("ep_6854112b");\nTelecopie : 0329632950\nTelecopie : 03
 29634711\n - Le 18/01/2014\nTNAM0051 épreuve Hommes\n  CHAMPIONNATS FRANCE 
 CADET\n - Le 18/01/2014\nTNAF0051 épreuve Dames\n  CHAMPIONNATS FRANCE CADE
 T Cet évènement a été importé depuis :https://skivosges.net/agenda/a-venir/
 detailevenement/216/-/championnats-france-cadet?tmpl=component
X-ALT-DESC;FMTTYPE=text/html:<strong>CHAMPIONNATS FRANCE CADET</strong><br /><br />Lieu : GERARDMER <br 
 />Organisateur : A.S GERARDMER SKI NORDIQUE  <small>(14469 A.S GERARDMER SK
 I NORDIQUE)</small><br />Email : <!-- Cette adresse électronique est protég
 ée contre les robots spammeurs. --><span class="cloaked_email ep_6854112b">
 <span data-ep-a="&#114;&#101;&#103;&#105;" data-ep-b=".&#102;&#114;"><span 
 data-ep-a="&#115;&#46;&#97;&#110;" data-ep-b="&#97;doo"><span data-ep-a="&#
 100;&#114;e&#54;" data-ep-b="&#64;&#119;a&#110;"></span></span></span></spa
 n><script>RegularLabs.EmailProtector.unCloak("ep_6854112b");</script><br />
 Telecopie : 0329632950<br />Telecopie : 0329634711<ul type="disc"><li><nobr
 >Le 18/01/2014</nobr><br />TNAM0051 épreuve Hommes<br />&nbsp;&nbsp;CHAMPIO
 NNATS FRANCE CADET</li><li><nobr>Le 18/01/2014</nobr><br />TNAF0051 épreuve
  Dames<br />&nbsp;&nbsp;CHAMPIONNATS FRANCE CADET</li></ul> <a href="https:
 //skivosges.net/agenda/a-venir/detailevenement/216/-/championnats-france-ca
 det?tmpl=component">Cet évènement a été importé depuis :https://skivosges.n
 et/agenda/a-venir/detailevenement/216/-/championnats-france-cadet?tmpl=comp
 onent</a>DTSTAMP:20260424T073934
DTSTART;TZID=Europe/Paris:20140118T080000
DTEND;TZID=Europe/Paris:20140119T170000
SEQUENCE:0
TRANSP:OPAQUE
END:VEVENT
END:VCALENDAR