BEGIN:VCALENDAR
VERSION:2.0
PRODID:-//jEvents 2.0 for Joomla//EN
CALSCALE:GREGORIAN
METHOD:PUBLISH
BEGIN:VTIMEZONE
TZID:Europe/Paris
BEGIN:STANDARD
DTSTART:20221213T183000
RDATE:20230326T030000
TZOFFSETFROM:+0200
TZOFFSETTO:+0100
TZNAME:Europe/Paris CET
END:STANDARD
BEGIN:STANDARD
DTSTART:20231029T020000
RDATE:20240331T030000
TZOFFSETFROM:+0200
TZOFFSETTO:+0100
TZNAME:Europe/Paris CET
END:STANDARD
BEGIN:STANDARD
DTSTART:20241027T020000
RDATE:20250330T030000
TZOFFSETFROM:+0200
TZOFFSETTO:+0100
TZNAME:Europe/Paris CET
END:STANDARD
BEGIN:STANDARD
DTSTART:20251026T020000
RDATE:20260329T030000
TZOFFSETFROM:+0200
TZOFFSETTO:+0100
TZNAME:Europe/Paris CET
END:STANDARD
BEGIN:STANDARD
DTSTART:20261025T020000
RDATE:20270328T030000
TZOFFSETFROM:+0200
TZOFFSETTO:+0100
TZNAME:Europe/Paris CET
END:STANDARD
BEGIN:DAYLIGHT
DTSTART:20230326T030000
RDATE:20231029T020000
TZOFFSETFROM:+0100
TZOFFSETTO:+0200
TZNAME:Europe/Paris CEST
END:DAYLIGHT
BEGIN:DAYLIGHT
DTSTART:20240331T030000
RDATE:20241027T020000
TZOFFSETFROM:+0100
TZOFFSETTO:+0200
TZNAME:Europe/Paris CEST
END:DAYLIGHT
BEGIN:DAYLIGHT
DTSTART:20250330T030000
RDATE:20251026T020000
TZOFFSETFROM:+0100
TZOFFSETTO:+0200
TZNAME:Europe/Paris CEST
END:DAYLIGHT
BEGIN:DAYLIGHT
DTSTART:20260329T030000
RDATE:20261025T020000
TZOFFSETFROM:+0100
TZOFFSETTO:+0200
TZNAME:Europe/Paris CEST
END:DAYLIGHT
END:VTIMEZONE
BEGIN:VEVENT
UID:cddf2dc5c775da20035d7baf98fae019
CATEGORIES:Formation Officiels - Chronos - Gestionnaires
CREATED:20231122T121426
SUMMARY:La Bresse : Formation/Recyclage Gestionnaire Nordique
LOCATION:La Bresse : Maison de la Montagne
URL;VALUE=URI:https://skivosges.net/agenda/a-venir/detailevenement/2161/-/la-bresse-forma
 tion-recyclage-gestionnaire-nordique?tmpl=component
DESCRIPTION:<p>Session de formation et de recyclage pour les Gestionnaires Informatique
 s de Compétitions Nordiques.</p><p>Dans cette session, l'ensemble des point
 s de base nécessaires à la gestion d'une épreuve avec le nouveau logiciel F
 édéral skiffs seront vus.</p><p><strong>ATTENTION : </strong></p><ul><li><s
 trong>voir remarques concernant les repas dans la circulaire.</strong></li>
 <li>cette formation est un préalable à celle de chronometreur, mais ne sert
  pas de validation ou de recyclage au titre de chronometreur</li></ul><p><a
  href="index.php?option=com_content&amp;view=article&amp;id=8272:formations
 -gestionnaires-de-competitions-et-chrono-module-2-decembre-2023&amp;catid=8
 :formation-officiels&amp;Itemid=1406">Voir la circulaire d'information...</
 a></p> <a href="https://skivosges.net/agenda/a-venir/detailevenement/2161/-
 /la-bresse-formation-recyclage-gestionnaire-nordique?tmpl=component">Cet év
 ènement a été importé depuis :https://skivosges.net/agenda/a-venir/detailev
 enement/2161/-/la-bresse-formation-recyclage-gestionnaire-nordique?tmpl=com
 ponent</a>
X-ALT-DESC;FMTTYPE=text/html:<p>Session de formation et de recyclage pour les Gestionnaires Informatique
 s de Compétitions Nordiques.</p><p>Dans cette session, l'ensemble des point
 s de base nécessaires à la gestion d'une épreuve avec le nouveau logiciel F
 édéral skiffs seront vus.</p><p><strong>ATTENTION : </strong></p><ul><li><s
 trong>voir remarques concernant les repas dans la circulaire.</strong></li>
 <li>cette formation est un préalable à celle de chronometreur, mais ne sert
  pas de validation ou de recyclage au titre de chronometreur</li></ul><p><a
  href="https://skivosges.net/index.php?option=com_content&amp;view=article&
 amp;id=8272:formations-gestionnaires-de-competitions-et-chrono-module-2-dec
 embre-2023&amp;catid=8:formation-officiels&amp;Itemid=1406">Voir la circula
 ire d'information...</a></p> <a href="https://skivosges.net/agenda/a-venir/
 detailevenement/2161/-/la-bresse-formation-recyclage-gestionnaire-nordique?
 tmpl=component">Cet évènement a été importé depuis :https://skivosges.net/a
 genda/a-venir/detailevenement/2161/-/la-bresse-formation-recyclage-gestionn
 aire-nordique?tmpl=component</a>DTSTAMP:20260424T074008
DTSTART;TZID=Europe/Paris:20231214T183000
SEQUENCE:0
TRANSP:OPAQUE
END:VEVENT
END:VCALENDAR