BEGIN:VCALENDAR
VERSION:2.0
PRODID:-//jEvents 2.0 for Joomla//EN
CALSCALE:GREGORIAN
METHOD:PUBLISH
BEGIN:VTIMEZONE
TZID:Europe/Paris
BEGIN:STANDARD
DTSTART:20221216T000000
RDATE:20230326T030000
TZOFFSETFROM:+0200
TZOFFSETTO:+0100
TZNAME:Europe/Paris CET
END:STANDARD
BEGIN:STANDARD
DTSTART:20231029T020000
RDATE:20240331T030000
TZOFFSETFROM:+0200
TZOFFSETTO:+0100
TZNAME:Europe/Paris CET
END:STANDARD
BEGIN:STANDARD
DTSTART:20241027T020000
RDATE:20250330T030000
TZOFFSETFROM:+0200
TZOFFSETTO:+0100
TZNAME:Europe/Paris CET
END:STANDARD
BEGIN:STANDARD
DTSTART:20251026T020000
RDATE:20260329T030000
TZOFFSETFROM:+0200
TZOFFSETTO:+0100
TZNAME:Europe/Paris CET
END:STANDARD
BEGIN:STANDARD
DTSTART:20261025T020000
RDATE:20270328T030000
TZOFFSETFROM:+0200
TZOFFSETTO:+0100
TZNAME:Europe/Paris CET
END:STANDARD
BEGIN:DAYLIGHT
DTSTART:20230326T030000
RDATE:20231029T020000
TZOFFSETFROM:+0100
TZOFFSETTO:+0200
TZNAME:Europe/Paris CEST
END:DAYLIGHT
BEGIN:DAYLIGHT
DTSTART:20240331T030000
RDATE:20241027T020000
TZOFFSETFROM:+0100
TZOFFSETTO:+0200
TZNAME:Europe/Paris CEST
END:DAYLIGHT
BEGIN:DAYLIGHT
DTSTART:20250330T030000
RDATE:20251026T020000
TZOFFSETFROM:+0100
TZOFFSETTO:+0200
TZNAME:Europe/Paris CEST
END:DAYLIGHT
BEGIN:DAYLIGHT
DTSTART:20260329T030000
RDATE:20261025T020000
TZOFFSETFROM:+0100
TZOFFSETTO:+0200
TZNAME:Europe/Paris CEST
END:DAYLIGHT
END:VTIMEZONE
BEGIN:VEVENT
UID:b153d4079810a46f2df6773f64a40433
CATEGORIES:Circuit Alsace Adultes (alpin)
CREATED:20231122T235558
SUMMARY:CAA Prix du CEVM **REPORTE**
URL;VALUE=URI:https://skivosges.net/agenda/a-venir/detailevenement/2166/-/caa-prix-du-cev
 m-reporte?tmpl=component
DESCRIPTION:<!-- #gskiepreuve code généré par le plugin jevents pour GskiEpreuves. Ne p
 as modifier cette ligne, ni tout le contenu suivant  #gskiepreuve --><div c
 lass="gski-evenement_infos"><div class="gski-evenement-nom">CAA Prix du CEV
 M</div><div class="gski-evenement-report"> <font class="gskiattention">(Epr
 euve reportée, date à determiner)</font></div><ul class="gski-evenement-lis
 te-infos"><li>Codex évenement AMVT0020</li><li>Station : LE TANET</li><li>O
 rganisateur : 14199 SKIEURS DU TANET</li><li>Courriel : <!-- Cette adresse 
 électronique est protégée contre les robots spammeurs. --><span class="cloa
 ked_email ep_88386297"><span data-ep-b="e.&#102;&#114;" data-ep-a="a&#108;&
 #97;i"><span data-ep-a="&#110;&#46;m&#101;" data-ep-b="&#114;v&#105;&#99;">
 <span data-ep-a="&#121;&#101;&#114;&#64;" data-ep-b="&#116;&#112;&#115;&#10
 1;"></span></span></span></span><script>RegularLabs.EmailProtector.unCloak(
 "ep_88386297");</script></li><li>Téléphone : 06.77.87.37.11</li></ul><div c
 lass="gski-evenement-infos-2"><div class="gski-evenement-info-inscriptions"
 ><div class="gski-evenement-inscriptions-periodes">Période d'inscription à 
 l'evènement du Dimanche 10 Décembre 2023 à 00:00 au Vendredi 15 Décembre 20
 23 à 12:00<div class="gski-evenement-inscriptions-types-titres">Inscription
 s ouvertes aux detenteurs des titres Fédéraux valides suivants : Licenciés 
 Compétiteurs</div></div></div><div class="gskiepreuves-links"><ul><li><a hr
 ef="/index.php?option=com_jevents&task=icalevent.detail&evid=2161&Itemid=62
 89">Voir les informations dans l'agenda...</a></li></ul></div><div class="g
 ski-evenement-epreuves"><div class="gski-evenement-epreuves-titres">Epreuve
 s :</div><ul class="gski-evenement-epreuves-list"><li><div class="gski-epre
 uve-date">Le Dimanche 17 Décembre 2023</div><ul class="gski-epreuve-liste-i
 nfos"><li>Codex épreuve AMVM0021</li><li>Slalom Geant</li><li>Catégorie(s) 
 : U16 (Garçons)</li></ul></li><li><div class="gski-epreuve-date">Le Dimanch
 e 17 Décembre 2023</div><ul class="gski-epreuve-liste-infos"><li>Codex épre
 uve AMVF0021</li><li>Slalom Geant</li><li>Catégorie(s) : U16 (Filles)</li><
 /ul></li><li><div class="gski-epreuve-date">Le Dimanche 17 Décembre 2023</d
 iv><ul class="gski-epreuve-liste-infos"><li>Codex épreuve AMVM0022</li><li>
 Slalom Geant</li><li>Catégorie(s) : U18 a Masters (Hommes)</li></ul></li><l
 i><div class="gski-epreuve-date">Le Dimanche 17 Décembre 2023</div><ul clas
 s="gski-epreuve-liste-infos"><li>Codex épreuve AMVF0022</li><li>Slalom Gean
 t</li><li>Catégorie(s) : U18 a Masters (Dames)</li></ul></li></ul></div><di
 v class="gskiepreuves-links"><ul><li><a href="/index.php?option=com_jevents
 &task=icalevent.detail&evid=2161&Itemid=6289">Voir les informations dans l'
 agenda...</a></li></ul></div></div"><!-- #/gskiepreuve fin du dode généré p
 ar le plugin jevents pour GskiEpreuves. . Ne pas modifier cette ligne, ni t
 out le contenu précedant.  #/gskiepreuve --> <a href="https://skivosges.net
 /agenda/a-venir/detailevenement/2166/-/caa-prix-du-cevm-reporte?tmpl=compon
 ent">Cet évènement a été importé depuis :https://skivosges.net/agenda/a-ven
 ir/detailevenement/2166/-/caa-prix-du-cevm-reporte?tmpl=component</a>
X-ALT-DESC;FMTTYPE=text/html:<!-- #gskiepreuve code généré par le plugin jevents pour GskiEpreuves. Ne p
 as modifier cette ligne, ni tout le contenu suivant  #gskiepreuve --><div c
 lass="gski-evenement_infos"><div class="gski-evenement-nom">CAA Prix du CEV
 M</div><div class="gski-evenement-report"> <font class="gskiattention">(Epr
 euve reportée, date à determiner)</font></div><ul class="gski-evenement-lis
 te-infos"><li>Codex évenement AMVT0020</li><li>Station : LE TANET</li><li>O
 rganisateur : 14199 SKIEURS DU TANET</li><li>Courriel : <!-- Cette adresse 
 électronique est protégée contre les robots spammeurs. --><span class="cloa
 ked_email ep_88386297"><span data-ep-b="e.&#102;&#114;" data-ep-a="a&#108;&
 #97;i"><span data-ep-a="&#110;&#46;m&#101;" data-ep-b="&#114;v&#105;&#99;">
 <span data-ep-a="&#121;&#101;&#114;&#64;" data-ep-b="&#116;&#112;&#115;&#10
 1;"></span></span></span></span><script>RegularLabs.EmailProtector.unCloak(
 "ep_88386297");</script></li><li>Téléphone : 06.77.87.37.11</li></ul><div c
 lass="gski-evenement-infos-2"><div class="gski-evenement-info-inscriptions"
 ><div class="gski-evenement-inscriptions-periodes">Période d'inscription à 
 l'evènement du Dimanche 10 Décembre 2023 à 00:00 au Vendredi 15 Décembre 20
 23 à 12:00<div class="gski-evenement-inscriptions-types-titres">Inscription
 s ouvertes aux detenteurs des titres Fédéraux valides suivants : Licenciés 
 Compétiteurs</div></div></div><div class="gskiepreuves-links"><ul><li><a hr
 ef="https://skivosges.net/index.php?option=com_jevents&task=icalevent.detai
 l&evid=2161&Itemid=6289">Voir les informations dans l'agenda...</a></li></u
 l></div><div class="gski-evenement-epreuves"><div class="gski-evenement-epr
 euves-titres">Epreuves :</div><ul class="gski-evenement-epreuves-list"><li>
 <div class="gski-epreuve-date">Le Dimanche 17 Décembre 2023</div><ul class=
 "gski-epreuve-liste-infos"><li>Codex épreuve AMVM0021</li><li>Slalom Geant<
 /li><li>Catégorie(s) : U16 (Garçons)</li></ul></li><li><div class="gski-epr
 euve-date">Le Dimanche 17 Décembre 2023</div><ul class="gski-epreuve-liste-
 infos"><li>Codex épreuve AMVF0021</li><li>Slalom Geant</li><li>Catégorie(s)
  : U16 (Filles)</li></ul></li><li><div class="gski-epreuve-date">Le Dimanch
 e 17 Décembre 2023</div><ul class="gski-epreuve-liste-infos"><li>Codex épre
 uve AMVM0022</li><li>Slalom Geant</li><li>Catégorie(s) : U18 a Masters (Hom
 mes)</li></ul></li><li><div class="gski-epreuve-date">Le Dimanche 17 Décemb
 re 2023</div><ul class="gski-epreuve-liste-infos"><li>Codex épreuve AMVF002
 2</li><li>Slalom Geant</li><li>Catégorie(s) : U18 a Masters (Dames)</li></u
 l></li></ul></div><div class="gskiepreuves-links"><ul><li><a href="https://
 skivosges.net/index.php?option=com_jevents&task=icalevent.detail&evid=2161&
 Itemid=6289">Voir les informations dans l'agenda...</a></li></ul></div></di
 v"><!-- #/gskiepreuve fin du dode généré par le plugin jevents pour GskiEpr
 euves. . Ne pas modifier cette ligne, ni tout le contenu précedant.  #/gski
 epreuve --> <a href="https://skivosges.net/agenda/a-venir/detailevenement/2
 166/-/caa-prix-du-cevm-reporte?tmpl=component">Cet évènement a été importé 
 depuis :https://skivosges.net/agenda/a-venir/detailevenement/2166/-/caa-pri
 x-du-cevm-reporte?tmpl=component</a>DTSTAMP:20260424T074008
DTSTART;TZID=Europe/Paris;VALUE=DATE:20231217
DTEND;TZID=Europe/Paris;VALUE=DATE:20231218
SEQUENCE:0
TRANSP:OPAQUE
END:VEVENT
END:VCALENDAR