BEGIN:VCALENDAR
VERSION:2.0
PRODID:-//jEvents 2.0 for Joomla//EN
CALSCALE:GREGORIAN
METHOD:PUBLISH
BEGIN:VTIMEZONE
TZID:Europe/Paris
BEGIN:STANDARD
DTSTART:20230303T000000
RDATE:20230326T030000
TZOFFSETFROM:+0200
TZOFFSETTO:+0100
TZNAME:Europe/Paris CET
END:STANDARD
BEGIN:STANDARD
DTSTART:20231029T020000
RDATE:20240331T030000
TZOFFSETFROM:+0200
TZOFFSETTO:+0100
TZNAME:Europe/Paris CET
END:STANDARD
BEGIN:STANDARD
DTSTART:20241027T020000
RDATE:20250330T030000
TZOFFSETFROM:+0200
TZOFFSETTO:+0100
TZNAME:Europe/Paris CET
END:STANDARD
BEGIN:STANDARD
DTSTART:20251026T020000
RDATE:20260329T030000
TZOFFSETFROM:+0200
TZOFFSETTO:+0100
TZNAME:Europe/Paris CET
END:STANDARD
BEGIN:STANDARD
DTSTART:20261025T020000
RDATE:20270328T030000
TZOFFSETFROM:+0200
TZOFFSETTO:+0100
TZNAME:Europe/Paris CET
END:STANDARD
BEGIN:DAYLIGHT
DTSTART:20230326T030000
RDATE:20231029T020000
TZOFFSETFROM:+0100
TZOFFSETTO:+0200
TZNAME:Europe/Paris CEST
END:DAYLIGHT
BEGIN:DAYLIGHT
DTSTART:20240331T030000
RDATE:20241027T020000
TZOFFSETFROM:+0100
TZOFFSETTO:+0200
TZNAME:Europe/Paris CEST
END:DAYLIGHT
BEGIN:DAYLIGHT
DTSTART:20250330T030000
RDATE:20251026T020000
TZOFFSETFROM:+0100
TZOFFSETTO:+0200
TZNAME:Europe/Paris CEST
END:DAYLIGHT
BEGIN:DAYLIGHT
DTSTART:20260329T030000
RDATE:20261025T020000
TZOFFSETFROM:+0100
TZOFFSETTO:+0200
TZNAME:Europe/Paris CEST
END:DAYLIGHT
END:VTIMEZONE
BEGIN:VEVENT
UID:7445b0149d9d00dec266a3924bcb5992
CATEGORIES:Opens et Promos (alpin)
CREATED:20231122T235600
SUMMARY:PROMO Prix Décobois/Label gliss'/j'aime mon boucher
URL;VALUE=URI:https://skivosges.net/agenda/a-venir/detailevenement/2231/-/promo-prix-deco
 bois-label-gliss-jaime-mon-boucher?tmpl=component
DESCRIPTION:PROMO Prix Décobois/Label gliss'/j'aime mon boucher\n - Codex évenement AMV
 T0430\n - Lieu : BALLON d ALSACE\n - Station : BALLON D'ALSACE\n - Piste : 
 PETITE GENTIANE\n - Organisateur : 14083 U.S VENTRON\n - Courriel : Regular
 Labs.EmailProtector.unCloak("ep_43aa69dd");\n - Téléphone : 0780028040\n - 
 Délégué Technique : MANGEL FABRICEPériode d'inscription à l'evènement du Di
 manche 25 Février 2024 à 00:00 au Samedi 02 Mars 2024 à 12:00Inscriptions o
 uvertes aux detenteurs des titres Fédéraux valides suivants : Licenciés Com
 pétiteurs et Titres Loisirs et Dirigeants\n - Voir les informations dans l'
 agenda... (/index.php?option=com_jevents&amp;task=icalevent.detail&amp;evid
 =2226&amp;Itemid=6289)\n - Vers les résultats... (/index.php?option=com_gsk
 iepreuves&amp;view=afficheresultats&amp;format_option=tous&amp;filter[searc
 h]=AMVT0430&amp;filter[date_debut]=03-03-2024&amp;filter[date_fin]=03-03-20
 24&amp;code_activite=ALP&amp;Itemid=6289)\n - Publications concernant cet é
 vènement :\n - Dimanche 3 Mars 2024 à 17:27 : Le 03/03/2024 BALLON D'ALSACE
 /Alpin Résultats\n - Mardi 27 Février 2024 à 20:47 : Le 03/03/2024 BALLON D
 'ALSACE/Alpin Informations (/index.php?option=com_content&amp;view=article&
 amp;id=8384&amp;Itemid=6289)Epreuves :\n - Le Dimanche 03 Mars 2024 à 10:00
 \n - Codex épreuve AMVM0432\n - Slalom\n - Catégorie(s) : U12/U14 (Garçons)
 \n - Le Dimanche 03 Mars 2024 à 10:00\n - Codex épreuve AMVF0432\n - Slalom
 \n - Catégorie(s) : U12/U14 (Filles)\n - Le Dimanche 03 Mars 2024 à 10:00\n
  - Codex épreuve AMVM0431\n - Slalom\n - Catégorie(s) : U8/U10 (Garçons)\n 
 - Le Dimanche 03 Mars 2024 à 10:00\n - Codex épreuve AMVF0431\n - Slalom\n 
 - Catégorie(s) : U8/U10 (Filles)\n - Voir les informations dans l'agenda...
  (/index.php?option=com_jevents&amp;task=icalevent.detail&amp;evid=2226&amp
 ;Itemid=6289)\n - Vers les résultats... (/index.php?option=com_gskiepreuves
 &amp;view=afficheresultats&amp;format_option=tous&amp;filter[search]=AMVT04
 30&amp;filter[date_debut]=03-03-2024&amp;filter[date_fin]=03-03-2024&amp;co
 de_activite=ALP&amp;Itemid=6289)\n - Publications concernant cet évènement 
 :\n - Dimanche 3 Mars 2024 à 17:27 : Le 03/03/2024 BALLON D'ALSACE/Alpin Ré
 sultats\n - Mardi 27 Février 2024 à 20:47 : Le 03/03/2024 BALLON D'ALSACE/A
 lpin Informations (/index.php?option=com_content&amp;view=article&amp;id=83
 84&amp;Itemid=6289) Cet évènement a été importé depuis :https://skivosges.n
 et/agenda/a-venir/detailevenement/2231/-/promo-prix-decobois-label-gliss-ja
 ime-mon-boucher?tmpl=component
X-ALT-DESC;FMTTYPE=text/html:<!-- #gskiepreuve code généré par le plugin jevents pour GskiEpreuves. Ne p
 as modifier cette ligne, ni tout le contenu suivant  #gskiepreuve --><div c
 lass="gski-evenement_infos"><div class="gski-evenement-nom">PROMO Prix Déco
 bois/Label gliss'/j'aime mon boucher</div><div class="gski-evenement-report
 "></div><ul class="gski-evenement-liste-infos"><li>Codex évenement AMVT0430
 </li><li>Lieu : BALLON d ALSACE</li><li>Station : BALLON D&#039;ALSACE</li>
 <li>Piste : PETITE GENTIANE</li><li>Organisateur : 14083 U.S VENTRON</li><l
 i>Courriel : <!-- Cette adresse électronique est protégée contre les robots
  spammeurs. --><span class="cloaked_email ep_43aa69dd"><span data-ep-b="" d
 ata-ep-a="&#100;&#97;&#110;&#105;"><span data-ep-a="&#101;l&#46;m" data-ep-
 b="&#114;.&#102;r"><span data-ep-b="&#53;&#64;&#115;f" data-ep-a="or&#101;&
 #108;"></span></span></span></span><script>RegularLabs.EmailProtector.unClo
 ak("ep_43aa69dd");</script></li><li>Téléphone : 0780028040</li><li><span cl
 ass="gski-evenement-obs">Délégué Technique : MANGEL FABRICE</span></li></ul
 ><div class="gski-evenement-infos-2"><div class="gski-evenement-info-inscri
 ptions"><div class="gski-evenement-inscriptions-periodes">Période d'inscrip
 tion à l'evènement du Dimanche 25 Février 2024 à 00:00 au Samedi 02 Mars 20
 24 à 12:00<div class="gski-evenement-inscriptions-types-titres">Inscription
 s ouvertes aux detenteurs des titres Fédéraux valides suivants : Licenciés 
 Compétiteurs et Titres Loisirs et Dirigeants</div></div></div><div class="g
 skiepreuves-links"><ul><li><a href="https://skivosges.net/index.php?option=
 com_jevents&task=icalevent.detail&evid=2226&Itemid=6289">Voir les informati
 ons dans l'agenda...</a></li><li><a href="https://skivosges.net/index.php?o
 ption=com_gskiepreuves&view=afficheresultats&format_option=tous&filter[sear
 ch]=AMVT0430&filter[date_debut]=03-03-2024&filter[date_fin]=03-03-2024&code
 _activite=ALP&Itemid=6289">Vers les résultats...</a></li><li>Publications c
 oncernant cet évènement :<ul><li><a href="https://skivosges.net/index.php?o
 ption=com_content&view=article&id=8393&Itemid=6289">Dimanche 3 Mars 2024 à 
 17:27 : Le 03/03/2024 BALLON D'ALSACE/Alpin Résultats</a></li><li><a href="
 https://skivosges.net/index.php?option=com_content&view=article&id=8384&Ite
 mid=6289">Mardi 27 Février 2024 à 20:47 : Le 03/03/2024 BALLON D'ALSACE/Alp
 in Informations</a></li></ul></li></ul></div><div class="gski-evenement-epr
 euves"><div class="gski-evenement-epreuves-titres">Epreuves :</div><ul clas
 s="gski-evenement-epreuves-list"><li><div class="gski-epreuve-date">Le Dima
 nche 03 Mars 2024 à 10:00</div><ul class="gski-epreuve-liste-infos"><li>Cod
 ex épreuve AMVM0432</li><li>Slalom</li><li>Catégorie(s) : U12/U14 (Garçons)
 </li></ul></li><li><div class="gski-epreuve-date">Le Dimanche 03 Mars 2024 
 à 10:00</div><ul class="gski-epreuve-liste-infos"><li>Codex épreuve AMVF043
 2</li><li>Slalom</li><li>Catégorie(s) : U12/U14 (Filles)</li></ul></li><li>
 <div class="gski-epreuve-date">Le Dimanche 03 Mars 2024 à 10:00</div><ul cl
 ass="gski-epreuve-liste-infos"><li>Codex épreuve AMVM0431</li><li>Slalom</l
 i><li>Catégorie(s) : U8/U10 (Garçons)</li></ul></li><li><div class="gski-ep
 reuve-date">Le Dimanche 03 Mars 2024 à 10:00</div><ul class="gski-epreuve-l
 iste-infos"><li>Codex épreuve AMVF0431</li><li>Slalom</li><li>Catégorie(s) 
 : U8/U10 (Filles)</li></ul></li></ul></div><div class="gskiepreuves-links">
 <ul><li><a href="https://skivosges.net/index.php?option=com_jevents&task=ic
 alevent.detail&evid=2226&Itemid=6289">Voir les informations dans l'agenda..
 .</a></li><li><a href="https://skivosges.net/index.php?option=com_gskiepreu
 ves&view=afficheresultats&format_option=tous&filter[search]=AMVT0430&filter
 [date_debut]=03-03-2024&filter[date_fin]=03-03-2024&code_activite=ALP&Itemi
 d=6289">Vers les résultats...</a></li><li>Publications concernant cet évène
 ment :<ul><li><a href="https://skivosges.net/index.php?option=com_content&v
 iew=article&id=8393&Itemid=6289">Dimanche 3 Mars 2024 à 17:27 : Le 03/03/20
 24 BALLON D'ALSACE/Alpin Résultats</a></li><li><a href="https://skivosges.n
 et/index.php?option=com_content&view=article&id=8384&Itemid=6289">Mardi 27 
 Février 2024 à 20:47 : Le 03/03/2024 BALLON D'ALSACE/Alpin Informations</a>
 </li></ul></li></ul></div></div"><!-- #/gskiepreuve fin du dode généré par 
 le plugin jevents pour GskiEpreuves. . Ne pas modifier cette ligne, ni tout
  le contenu précedant.  #/gskiepreuve --> <a href="https://skivosges.net/ag
 enda/a-venir/detailevenement/2231/-/promo-prix-decobois-label-gliss-jaime-m
 on-boucher?tmpl=component">Cet évènement a été importé depuis :https://skiv
 osges.net/agenda/a-venir/detailevenement/2231/-/promo-prix-decobois-label-g
 liss-jaime-mon-boucher?tmpl=component</a>DTSTAMP:20260420T185242
DTSTART;TZID=Europe/Paris;VALUE=DATE:20240303
DTEND;TZID=Europe/Paris;VALUE=DATE:20240304
SEQUENCE:0
TRANSP:OPAQUE
END:VEVENT
END:VCALENDAR