BEGIN:VCALENDAR
VERSION:2.0
PRODID:-//jEvents 2.0 for Joomla//EN
CALSCALE:GREGORIAN
METHOD:PUBLISH
BEGIN:VTIMEZONE
TZID:Europe/Paris
BEGIN:STANDARD
DTSTART:20230303T000000
RDATE:20230326T030000
TZOFFSETFROM:+0200
TZOFFSETTO:+0100
TZNAME:Europe/Paris CET
END:STANDARD
BEGIN:STANDARD
DTSTART:20231029T020000
RDATE:20240331T030000
TZOFFSETFROM:+0200
TZOFFSETTO:+0100
TZNAME:Europe/Paris CET
END:STANDARD
BEGIN:STANDARD
DTSTART:20241027T020000
RDATE:20250330T030000
TZOFFSETFROM:+0200
TZOFFSETTO:+0100
TZNAME:Europe/Paris CET
END:STANDARD
BEGIN:STANDARD
DTSTART:20251026T020000
RDATE:20260329T030000
TZOFFSETFROM:+0200
TZOFFSETTO:+0100
TZNAME:Europe/Paris CET
END:STANDARD
BEGIN:STANDARD
DTSTART:20261025T020000
RDATE:20270328T030000
TZOFFSETFROM:+0200
TZOFFSETTO:+0100
TZNAME:Europe/Paris CET
END:STANDARD
BEGIN:DAYLIGHT
DTSTART:20230326T030000
RDATE:20231029T020000
TZOFFSETFROM:+0100
TZOFFSETTO:+0200
TZNAME:Europe/Paris CEST
END:DAYLIGHT
BEGIN:DAYLIGHT
DTSTART:20240331T030000
RDATE:20241027T020000
TZOFFSETFROM:+0100
TZOFFSETTO:+0200
TZNAME:Europe/Paris CEST
END:DAYLIGHT
BEGIN:DAYLIGHT
DTSTART:20250330T030000
RDATE:20251026T020000
TZOFFSETFROM:+0100
TZOFFSETTO:+0200
TZNAME:Europe/Paris CEST
END:DAYLIGHT
BEGIN:DAYLIGHT
DTSTART:20260329T030000
RDATE:20261025T020000
TZOFFSETFROM:+0100
TZOFFSETTO:+0200
TZNAME:Europe/Paris CEST
END:DAYLIGHT
END:VTIMEZONE
BEGIN:VEVENT
UID:81ef023d22b6ccfec38c02fa0d1edc13
CATEGORIES:Compétition Ski de Fond
CREATED:20231122T235600
SUMMARY:LA GEROMOISE BIG-MAT SALOMON °11 Crédit Mutuel n°7 **REPORTE**
URL;VALUE=URI:https://skivosges.net/agenda/a-venir/detailevenement/2234/-/la-geromoise-bi
 g-mat-salomon-11-credit-mutuel-n-7-reporte?tmpl=component
DESCRIPTION:LA GEROMOISE BIG-MAT SALOMON °11 Crédit Mutuel n°7 (Epreuve reportée, date 
 à determiner)\n - Codex évenement FMVT0170\n - Station : LE BREIFIRST\n - O
 rganisateur : 14469 A.S GERARDMER SKI NORDIQUE\n - Courriel : RegularLabs.E
 mailProtector.unCloak("ep_18bcd3e1");\n - Délégué Technique : GERARD VINCEN
 TPériode d'inscription à l'evènement du Dimanche 25 Février 2024 à 00:00 au
  Vendredi 01 Mars 2024 à 20:00Inscriptions ouvertes aux detenteurs des titr
 es Fédéraux valides suivants : Licenciés Compétiteurs\n - Voir les informat
 ions dans l'agenda... (/index.php?option=com_jevents&amp;task=icalevent.det
 ail&amp;evid=2229&amp;Itemid=6289)\n - Publications concernant cet évènemen
 t :\n - Vendredi 1 Mars 2024 à 23:20 : Le 03/03/2024 LE BREITFIRST/Fond Inf
 ormationsEpreuves :\n - Le Dimanche 03 Mars 2024\n - Codex épreuve FMVF0171
 \n - Depart Individuel\n - Catégorie(s) : U13 (Filles)\n - Le Dimanche 03 M
 ars 2024\n - Codex épreuve FMVM0171\n - Depart Individuel\n - Catégorie(s) 
 : U13 (Garçons)\n - Le Dimanche 03 Mars 2024\n - Codex épreuve FMVF0172\n -
  Depart Individuel\n - Catégorie(s) : U15 (Filles)\n - Le Dimanche 03 Mars 
 2024\n - Codex épreuve FMVM0172\n - Depart Individuel\n - Catégorie(s) : U1
 5 (Garçons)\n - Le Dimanche 03 Mars 2024\n - Codex épreuve FMVF0173\n - Dep
 art Individuel\n - Catégorie(s) : U16/U18 (Dames)\n - Le Dimanche 03 Mars 2
 024\n - Codex épreuve FMVM0173\n - Depart Individuel\n - Catégorie(s) : U16
  (Hommes)\n - Le Dimanche 03 Mars 2024\n - Codex épreuve FMVM0174\n - Depar
 t Individuel\n - Catégorie(s) : U18 (Hommes)\n - Le Dimanche 03 Mars 2024\n
  - Codex épreuve FMVF0174\n - Depart Individuel\n - Catégorie(s) : U20/SEN 
 (Dames)\n - Le Dimanche 03 Mars 2024\n - Codex épreuve FMVM0175\n - Depart 
 Individuel\n - Catégorie(s) : U20/SEN (Hommes)\n - Voir les informations da
 ns l'agenda... (/index.php?option=com_jevents&amp;task=icalevent.detail&amp
 ;evid=2229&amp;Itemid=6289)\n - Publications concernant cet évènement :\n -
  Vendredi 1 Mars 2024 à 23:20 : Le 03/03/2024 LE BREITFIRST/Fond Informatio
 ns Cet évènement a été importé depuis :https://skivosges.net/agenda/a-venir
 /detailevenement/2234/-/la-geromoise-big-mat-salomon-11-credit-mutuel-n-7-r
 eporte?tmpl=component
X-ALT-DESC;FMTTYPE=text/html:<!-- #gskiepreuve code généré par le plugin jevents pour GskiEpreuves. Ne p
 as modifier cette ligne, ni tout le contenu suivant  #gskiepreuve --><div c
 lass="gski-evenement_infos"><div class="gski-evenement-nom">LA GEROMOISE BI
 G-MAT SALOMON °11 Crédit Mutuel n°7</div><div class="gski-evenement-report"
 > <font class="gskiattention">(Epreuve reportée, date à determiner)</font><
 /div><ul class="gski-evenement-liste-infos"><li>Codex évenement FMVT0170</l
 i><li>Station : LE BREIFIRST</li><li>Organisateur : 14469 A.S GERARDMER SKI
  NORDIQUE</li><li>Courriel : <!-- Cette adresse électronique est protégée c
 ontre les robots spammeurs. --><span class="cloaked_email ep_18bcd3e1"><spa
 n data-ep-b="&#46;&#102;&#114;" data-ep-a="f&#114;&#97;&#110;"><span data-e
 p-a="&#99;i&#115;&#46;" data-ep-b="&#98;&#98;o&#120;"><span data-ep-a="&#10
 7;&#105;e&#110;" data-ep-b="&#116;&#122;&#121;&#64;"></span></span></span><
 /span><script>RegularLabs.EmailProtector.unCloak("ep_18bcd3e1");</script></
 li><li><span class="gski-evenement-obs">Délégué Technique : GERARD VINCENT<
 /span></li></ul><div class="gski-evenement-infos-2"><div class="gski-evenem
 ent-info-inscriptions"><div class="gski-evenement-inscriptions-periodes">Pé
 riode d'inscription à l'evènement du Dimanche 25 Février 2024 à 00:00 au Ve
 ndredi 01 Mars 2024 à 20:00<div class="gski-evenement-inscriptions-types-ti
 tres">Inscriptions ouvertes aux detenteurs des titres Fédéraux valides suiv
 ants : Licenciés Compétiteurs</div></div></div><div class="gskiepreuves-lin
 ks"><ul><li><a href="https://skivosges.net/index.php?option=com_jevents&tas
 k=icalevent.detail&evid=2229&Itemid=6289">Voir les informations dans l'agen
 da...</a></li><li>Publications concernant cet évènement :<ul><li><a href="h
 ttps://skivosges.net/index.php?option=com_content&view=article&id=8391&Item
 id=6289">Vendredi 1 Mars 2024 à 23:20 : Le 03/03/2024 LE BREITFIRST/Fond In
 formations</a></li></ul></li></ul></div><div class="gski-evenement-epreuves
 "><div class="gski-evenement-epreuves-titres">Epreuves :</div><ul class="gs
 ki-evenement-epreuves-list"><li><div class="gski-epreuve-date">Le Dimanche 
 03 Mars 2024</div><ul class="gski-epreuve-liste-infos"><li>Codex épreuve FM
 VF0171</li><li>Depart Individuel</li><li>Catégorie(s) : U13 (Filles)</li></
 ul></li><li><div class="gski-epreuve-date">Le Dimanche 03 Mars 2024</div><u
 l class="gski-epreuve-liste-infos"><li>Codex épreuve FMVM0171</li><li>Depar
 t Individuel</li><li>Catégorie(s) : U13 (Garçons)</li></ul></li><li><div cl
 ass="gski-epreuve-date">Le Dimanche 03 Mars 2024</div><ul class="gski-epreu
 ve-liste-infos"><li>Codex épreuve FMVF0172</li><li>Depart Individuel</li><l
 i>Catégorie(s) : U15 (Filles)</li></ul></li><li><div class="gski-epreuve-da
 te">Le Dimanche 03 Mars 2024</div><ul class="gski-epreuve-liste-infos"><li>
 Codex épreuve FMVM0172</li><li>Depart Individuel</li><li>Catégorie(s) : U15
  (Garçons)</li></ul></li><li><div class="gski-epreuve-date">Le Dimanche 03 
 Mars 2024</div><ul class="gski-epreuve-liste-infos"><li>Codex épreuve FMVF0
 173</li><li>Depart Individuel</li><li>Catégorie(s) : U16/U18 (Dames)</li></
 ul></li><li><div class="gski-epreuve-date">Le Dimanche 03 Mars 2024</div><u
 l class="gski-epreuve-liste-infos"><li>Codex épreuve FMVM0173</li><li>Depar
 t Individuel</li><li>Catégorie(s) : U16 (Hommes)</li></ul></li><li><div cla
 ss="gski-epreuve-date">Le Dimanche 03 Mars 2024</div><ul class="gski-epreuv
 e-liste-infos"><li>Codex épreuve FMVM0174</li><li>Depart Individuel</li><li
 >Catégorie(s) : U18 (Hommes)</li></ul></li><li><div class="gski-epreuve-dat
 e">Le Dimanche 03 Mars 2024</div><ul class="gski-epreuve-liste-infos"><li>C
 odex épreuve FMVF0174</li><li>Depart Individuel</li><li>Catégorie(s) : U20/
 SEN (Dames)</li></ul></li><li><div class="gski-epreuve-date">Le Dimanche 03
  Mars 2024</div><ul class="gski-epreuve-liste-infos"><li>Codex épreuve FMVM
 0175</li><li>Depart Individuel</li><li>Catégorie(s) : U20/SEN (Hommes)</li>
 </ul></li></ul></div><div class="gskiepreuves-links"><ul><li><a href="https
 ://skivosges.net/index.php?option=com_jevents&task=icalevent.detail&evid=22
 29&Itemid=6289">Voir les informations dans l'agenda...</a></li><li>Publicat
 ions concernant cet évènement :<ul><li><a href="https://skivosges.net/index
 .php?option=com_content&view=article&id=8391&Itemid=6289">Vendredi 1 Mars 2
 024 à 23:20 : Le 03/03/2024 LE BREITFIRST/Fond Informations</a></li></ul></
 li></ul></div></div"><!-- #/gskiepreuve fin du dode généré par le plugin je
 vents pour GskiEpreuves. . Ne pas modifier cette ligne, ni tout le contenu 
 précedant.  #/gskiepreuve --> <a href="https://skivosges.net/agenda/a-venir
 /detailevenement/2234/-/la-geromoise-big-mat-salomon-11-credit-mutuel-n-7-r
 eporte?tmpl=component">Cet évènement a été importé depuis :https://skivosge
 s.net/agenda/a-venir/detailevenement/2234/-/la-geromoise-big-mat-salomon-11
 -credit-mutuel-n-7-reporte?tmpl=component</a>DTSTAMP:20260420T185245
DTSTART;TZID=Europe/Paris;VALUE=DATE:20240303
DTEND;TZID=Europe/Paris;VALUE=DATE:20240304
SEQUENCE:0
TRANSP:OPAQUE
END:VEVENT
END:VCALENDAR