BEGIN:VCALENDAR
VERSION:2.0
PRODID:-//jEvents 2.0 for Joomla//EN
CALSCALE:GREGORIAN
METHOD:PUBLISH
BEGIN:VTIMEZONE
TZID:Europe/Paris
BEGIN:STANDARD
DTSTART:20230317T000000
RDATE:20230326T030000
TZOFFSETFROM:+0200
TZOFFSETTO:+0100
TZNAME:Europe/Paris CET
END:STANDARD
BEGIN:STANDARD
DTSTART:20231029T020000
RDATE:20240331T030000
TZOFFSETFROM:+0200
TZOFFSETTO:+0100
TZNAME:Europe/Paris CET
END:STANDARD
BEGIN:STANDARD
DTSTART:20241027T020000
RDATE:20250330T030000
TZOFFSETFROM:+0200
TZOFFSETTO:+0100
TZNAME:Europe/Paris CET
END:STANDARD
BEGIN:STANDARD
DTSTART:20251026T020000
RDATE:20260329T030000
TZOFFSETFROM:+0200
TZOFFSETTO:+0100
TZNAME:Europe/Paris CET
END:STANDARD
BEGIN:STANDARD
DTSTART:20261025T020000
RDATE:20270328T030000
TZOFFSETFROM:+0200
TZOFFSETTO:+0100
TZNAME:Europe/Paris CET
END:STANDARD
BEGIN:DAYLIGHT
DTSTART:20230326T030000
RDATE:20231029T020000
TZOFFSETFROM:+0100
TZOFFSETTO:+0200
TZNAME:Europe/Paris CEST
END:DAYLIGHT
BEGIN:DAYLIGHT
DTSTART:20240331T030000
RDATE:20241027T020000
TZOFFSETFROM:+0100
TZOFFSETTO:+0200
TZNAME:Europe/Paris CEST
END:DAYLIGHT
BEGIN:DAYLIGHT
DTSTART:20250330T030000
RDATE:20251026T020000
TZOFFSETFROM:+0100
TZOFFSETTO:+0200
TZNAME:Europe/Paris CEST
END:DAYLIGHT
BEGIN:DAYLIGHT
DTSTART:20260329T030000
RDATE:20261025T020000
TZOFFSETFROM:+0100
TZOFFSETTO:+0200
TZNAME:Europe/Paris CEST
END:DAYLIGHT
END:VTIMEZONE
BEGIN:VEVENT
UID:7e79c2d9cc9cf2d9fca01491ff75157d
CATEGORIES:Compétition Ski de Fond
CREATED:20231122T235600
SUMMARY:GP COMMERCANTS - Finale CV BIG-MAT SALOMON N°13 U13(9) CREDIT MUTUEL N°9 *** ANNULE(E) ***
URL;VALUE=URI:https://skivosges.net/agenda/a-venir/detailevenement/2249/-/gp-commercants-
 finale-cv-big-mat-salomon-n-13-u13-9-credit-mutuel-n-9-annule-e?tmpl=compon
 ent
DESCRIPTION:GP COMMERCANTS - Finale CV BIG-MAT SALOMON N°13 U13(9) CREDIT MUTUEL N°9 (E
 preuve annulée)\n - Codex évenement FMVT0200\n - Station : MARKSTEIN\n - Or
 ganisateur : 14053 S.C MARKSTEIN RANSPACH\n - Courriel : RegularLabs.EmailP
 rotector.unCloak("ep_b304a567");\n - Délégué Technique : BOUVIER YVESPériod
 e d'inscription à l'evènement du Dimanche 10 Mars 2024 à 00:00 au Vendredi 
 15 Mars 2024 à 12:00Inscriptions ouvertes aux detenteurs des titres Fédérau
 x valides suivants : Licenciés Compétiteurs\n - Voir les informations dans 
 l'agenda... (/index.php?option=com_jevents&amp;task=icalevent.detail&amp;ev
 id=2244&amp;Itemid=6289)\n - Publications concernant cet évènement :\n - Me
 rcredi 13 Mars 2024 à 12:05 : Le 17/03/2024 MARKSTEIN/Fond InformationsEpre
 uves :\n - Le Dimanche 17 Mars 2024\n - Codex épreuve FMVF0201\n - Depart I
 ndividuel\n - Catégorie(s) : U13 (Filles)\n - Le Dimanche 17 Mars 2024\n - 
 Codex épreuve FMVM0201\n - Depart Individuel\n - Catégorie(s) : U13 (Garçon
 s)\n - Le Dimanche 17 Mars 2024\n - Codex épreuve FMVF0202\n - Depart Indiv
 iduel\n - Catégorie(s) : U15 (Filles)\n - Le Dimanche 17 Mars 2024\n - Code
 x épreuve FMVM0202\n - Depart Individuel\n - Catégorie(s) : U15 (Garçons)\n
  - Le Dimanche 17 Mars 2024\n - Codex épreuve FMVF0203\n - Depart Individue
 l\n - Catégorie(s) : U16/U18 (Dames)\n - Le Dimanche 17 Mars 2024\n - Codex
  épreuve FMVM0203\n - Depart Individuel\n - Catégorie(s) : U16/U18 (Hommes)
 \n - Le Dimanche 17 Mars 2024\n - Codex épreuve FMVF0204\n - Depart Individ
 uel\n - Catégorie(s) : U20/SEN (Dames)\n - Le Dimanche 17 Mars 2024\n - Cod
 ex épreuve FMVM0204\n - Depart Individuel\n - Catégorie(s) : U20/SEN (Homme
 s)\n - Voir les informations dans l'agenda... (/index.php?option=com_jevent
 s&amp;task=icalevent.detail&amp;evid=2244&amp;Itemid=6289)\n - Publications
  concernant cet évènement :\n - Mercredi 13 Mars 2024 à 12:05 : Le 17/03/20
 24 MARKSTEIN/Fond Informations Cet évènement a été importé depuis :https://
 skivosges.net/agenda/a-venir/detailevenement/2249/-/gp-commercants-finale-c
 v-big-mat-salomon-n-13-u13-9-credit-mutuel-n-9-annule-e?tmpl=component
X-ALT-DESC;FMTTYPE=text/html:<!-- #gskiepreuve code généré par le plugin jevents pour GskiEpreuves. Ne p
 as modifier cette ligne, ni tout le contenu suivant  #gskiepreuve --><div c
 lass="gski-evenement_infos"><div class="gski-evenement-nom">GP COMMERCANTS 
 - Finale CV BIG-MAT SALOMON N°13 U13(9) CREDIT MUTUEL N°9</div><div class="
 gski-evenement-report"> <font class="gskiattention">(Epreuve annulée)</font
 ></div><ul class="gski-evenement-liste-infos"><li>Codex évenement FMVT0200<
 /li><li>Station : MARKSTEIN</li><li>Organisateur : 14053 S.C MARKSTEIN RANS
 PACH</li><li>Courriel : <!-- Cette adresse électronique est protégée contre
  les robots spammeurs. --><span class="cloaked_email ep_b304a567"><span dat
 a-ep-b="f&#114;" data-ep-a="g&#114;&#111;&#98;"><span data-ep-b="d&#111;&#1
 11;." data-ep-a=".&#115;op"><span data-ep-b="&#119;&#97;n&#97;" data-ep-a="
 &#104;i&#101;&#64;"></span></span></span></span><script>RegularLabs.EmailPr
 otector.unCloak("ep_b304a567");</script></li><li><span class="gski-evenemen
 t-obs">Délégué Technique : BOUVIER YVES</span></li></ul><div class="gski-ev
 enement-infos-2"><div class="gski-evenement-info-inscriptions"><div class="
 gski-evenement-inscriptions-periodes">Période d'inscription à l'evènement d
 u Dimanche 10 Mars 2024 à 00:00 au Vendredi 15 Mars 2024 à 12:00<div class=
 "gski-evenement-inscriptions-types-titres">Inscriptions ouvertes aux detent
 eurs des titres Fédéraux valides suivants : Licenciés Compétiteurs</div></d
 iv></div><div class="gskiepreuves-links"><ul><li><a href="https://skivosges
 .net/index.php?option=com_jevents&task=icalevent.detail&evid=2244&Itemid=62
 89">Voir les informations dans l'agenda...</a></li><li>Publications concern
 ant cet évènement :<ul><li><a href="https://skivosges.net/index.php?option=
 com_content&view=article&id=8405&Itemid=6289">Mercredi 13 Mars 2024 à 12:05
  : Le 17/03/2024 MARKSTEIN/Fond Informations</a></li></ul></li></ul></div><
 div class="gski-evenement-epreuves"><div class="gski-evenement-epreuves-tit
 res">Epreuves :</div><ul class="gski-evenement-epreuves-list"><li><div clas
 s="gski-epreuve-date">Le Dimanche 17 Mars 2024</div><ul class="gski-epreuve
 -liste-infos"><li>Codex épreuve FMVF0201</li><li>Depart Individuel</li><li>
 Catégorie(s) : U13 (Filles)</li></ul></li><li><div class="gski-epreuve-date
 ">Le Dimanche 17 Mars 2024</div><ul class="gski-epreuve-liste-infos"><li>Co
 dex épreuve FMVM0201</li><li>Depart Individuel</li><li>Catégorie(s) : U13 (
 Garçons)</li></ul></li><li><div class="gski-epreuve-date">Le Dimanche 17 Ma
 rs 2024</div><ul class="gski-epreuve-liste-infos"><li>Codex épreuve FMVF020
 2</li><li>Depart Individuel</li><li>Catégorie(s) : U15 (Filles)</li></ul></
 li><li><div class="gski-epreuve-date">Le Dimanche 17 Mars 2024</div><ul cla
 ss="gski-epreuve-liste-infos"><li>Codex épreuve FMVM0202</li><li>Depart Ind
 ividuel</li><li>Catégorie(s) : U15 (Garçons)</li></ul></li><li><div class="
 gski-epreuve-date">Le Dimanche 17 Mars 2024</div><ul class="gski-epreuve-li
 ste-infos"><li>Codex épreuve FMVF0203</li><li>Depart Individuel</li><li>Cat
 égorie(s) : U16/U18 (Dames)</li></ul></li><li><div class="gski-epreuve-date
 ">Le Dimanche 17 Mars 2024</div><ul class="gski-epreuve-liste-infos"><li>Co
 dex épreuve FMVM0203</li><li>Depart Individuel</li><li>Catégorie(s) : U16/U
 18 (Hommes)</li></ul></li><li><div class="gski-epreuve-date">Le Dimanche 17
  Mars 2024</div><ul class="gski-epreuve-liste-infos"><li>Codex épreuve FMVF
 0204</li><li>Depart Individuel</li><li>Catégorie(s) : U20/SEN (Dames)</li><
 /ul></li><li><div class="gski-epreuve-date">Le Dimanche 17 Mars 2024</div><
 ul class="gski-epreuve-liste-infos"><li>Codex épreuve FMVM0204</li><li>Depa
 rt Individuel</li><li>Catégorie(s) : U20/SEN (Hommes)</li></ul></li></ul></
 div><div class="gskiepreuves-links"><ul><li><a href="https://skivosges.net/
 index.php?option=com_jevents&task=icalevent.detail&evid=2244&Itemid=6289">V
 oir les informations dans l'agenda...</a></li><li>Publications concernant c
 et évènement :<ul><li><a href="https://skivosges.net/index.php?option=com_c
 ontent&view=article&id=8405&Itemid=6289">Mercredi 13 Mars 2024 à 12:05 : Le
  17/03/2024 MARKSTEIN/Fond Informations</a></li></ul></li></ul></div></div"
 ><!-- #/gskiepreuve fin du dode généré par le plugin jevents pour GskiEpreu
 ves. . Ne pas modifier cette ligne, ni tout le contenu précedant.  #/gskiep
 reuve --> <a href="https://skivosges.net/agenda/a-venir/detailevenement/224
 9/-/gp-commercants-finale-cv-big-mat-salomon-n-13-u13-9-credit-mutuel-n-9-a
 nnule-e?tmpl=component">Cet évènement a été importé depuis :https://skivosg
 es.net/agenda/a-venir/detailevenement/2249/-/gp-commercants-finale-cv-big-m
 at-salomon-n-13-u13-9-credit-mutuel-n-9-annule-e?tmpl=component</a>DTSTAMP:20260420T184839
DTSTART;TZID=Europe/Paris;VALUE=DATE:20240317
DTEND;TZID=Europe/Paris;VALUE=DATE:20240318
SEQUENCE:0
TRANSP:OPAQUE
END:VEVENT
END:VCALENDAR