BEGIN:VCALENDAR
VERSION:2.0
PRODID:-//jEvents 2.0 for Joomla//EN
CALSCALE:GREGORIAN
METHOD:PUBLISH
BEGIN:VTIMEZONE
TZID:Europe/Paris
BEGIN:STANDARD
DTSTART:20230217T000000
RDATE:20230326T030000
TZOFFSETFROM:+0200
TZOFFSETTO:+0100
TZNAME:Europe/Paris CET
END:STANDARD
BEGIN:STANDARD
DTSTART:20231029T020000
RDATE:20240331T030000
TZOFFSETFROM:+0200
TZOFFSETTO:+0100
TZNAME:Europe/Paris CET
END:STANDARD
BEGIN:STANDARD
DTSTART:20241027T020000
RDATE:20250330T030000
TZOFFSETFROM:+0200
TZOFFSETTO:+0100
TZNAME:Europe/Paris CET
END:STANDARD
BEGIN:STANDARD
DTSTART:20251026T020000
RDATE:20260329T030000
TZOFFSETFROM:+0200
TZOFFSETTO:+0100
TZNAME:Europe/Paris CET
END:STANDARD
BEGIN:STANDARD
DTSTART:20261025T020000
RDATE:20270328T030000
TZOFFSETFROM:+0200
TZOFFSETTO:+0100
TZNAME:Europe/Paris CET
END:STANDARD
BEGIN:DAYLIGHT
DTSTART:20230326T030000
RDATE:20231029T020000
TZOFFSETFROM:+0100
TZOFFSETTO:+0200
TZNAME:Europe/Paris CEST
END:DAYLIGHT
BEGIN:DAYLIGHT
DTSTART:20240331T030000
RDATE:20241027T020000
TZOFFSETFROM:+0100
TZOFFSETTO:+0200
TZNAME:Europe/Paris CEST
END:DAYLIGHT
BEGIN:DAYLIGHT
DTSTART:20250330T030000
RDATE:20251026T020000
TZOFFSETFROM:+0100
TZOFFSETTO:+0200
TZNAME:Europe/Paris CEST
END:DAYLIGHT
BEGIN:DAYLIGHT
DTSTART:20260329T030000
RDATE:20261025T020000
TZOFFSETFROM:+0100
TZOFFSETTO:+0200
TZNAME:Europe/Paris CEST
END:DAYLIGHT
END:VTIMEZONE
BEGIN:VEVENT
UID:38307b8698e3e8b19fda9904268dfc09
CATEGORIES:Opens et Promos (alpin)
CREATED:20240213T103258
SUMMARY:PROMO U8 à U12  Prix de la Ville de St Maurice/Moselle
URL;VALUE=URI:https://skivosges.net/agenda/a-venir/detailevenement/2273/-/promo-u8-a-u12-
 prix-de-la-ville-de-st-maurice-moselle?tmpl=component
DESCRIPTION:PROMO U8 à U12  Prix de la Ville de St Maurice/Moselle\n - Codex évenement 
 AMVT0080\n - Lieu : GENTIANE\n - Station : BALLON D ALSACE\n - Piste : pist
 e de repli PETITE GENTIANE\n - Organisateur : 14063 SKIEURS DE ST MAURICE/M
 OSELLE\n - Courriel : RegularLabs.EmailProtector.unCloak("ep_3bd79342");Pér
 iode d'inscription à l'evènement du Dimanche 11 Février 2024 à 00:00 au Sam
 edi 17 Février 2024 à 17:00Inscriptions ouvertes aux detenteurs des titres 
 Fédéraux valides suivants : Licenciés Compétiteurs, Titres Loisirs et Dirig
 eants et Tickets course\n - Voir les informations dans l'agenda... (/index.
 php?option=com_jevents&amp;task=icalevent.detail&amp;evid=2268&amp;Itemid=6
 289)\n - Vers les résultats... (/index.php?option=com_gskiepreuves&amp;view
 =afficheresultats&amp;format_option=tous&amp;filter[search]=AMVT0080&amp;fi
 lter[date_debut]=18-02-2024&amp;filter[date_fin]=18-02-2024&amp;code_activi
 te=ALP&amp;Itemid=6289)\n - Publications concernant cet évènement :\n - Dim
 anche 18 Février 2024 à 17:31 : Le 18/02/2024 BALLON D'ALSACE/Alpin Résulta
 tsEpreuves :\n - Le Dimanche 18 Février 2024 à 10:00\n - Codex épreuve AMVF
 0081\n - Slalom\n - Catégorie(s) : U8 (Filles)\n - Le Dimanche 18 Février 2
 024 à 10:00\n - Codex épreuve AMVM0081\n - Slalom\n - Catégorie(s) : U8 (Ga
 rçons)\n - Le Dimanche 18 Février 2024 à 10:00\n - Codex épreuve AMVF0082\n
  - Slalom\n - Catégorie(s) : U10/U12 (Filles)\n - Le Dimanche 18 Février 20
 24 à 10:00\n - Codex épreuve AMVM0082\n - Slalom\n - Catégorie(s) : U10/U12
  (Garçons)\n - Voir les informations dans l'agenda... (/index.php?option=co
 m_jevents&amp;task=icalevent.detail&amp;evid=2268&amp;Itemid=6289)\n - Vers
  les résultats... (/index.php?option=com_gskiepreuves&amp;view=afficheresul
 tats&amp;format_option=tous&amp;filter[search]=AMVT0080&amp;filter[date_deb
 ut]=18-02-2024&amp;filter[date_fin]=18-02-2024&amp;code_activite=ALP&amp;It
 emid=6289)\n - Publications concernant cet évènement :\n - Dimanche 18 Févr
 ier 2024 à 17:31 : Le 18/02/2024 BALLON D'ALSACE/Alpin Résultats Cet évènem
 ent a été importé depuis :https://skivosges.net/agenda/a-venir/detailevenem
 ent/2273/-/promo-u8-a-u12-prix-de-la-ville-de-st-maurice-moselle?tmpl=compo
 nent
X-ALT-DESC;FMTTYPE=text/html:<!-- #gskiepreuve code généré par le plugin jevents pour GskiEpreuves. Ne p
 as modifier cette ligne, ni tout le contenu suivant  #gskiepreuve --><div c
 lass="gski-evenement_infos"><div class="gski-evenement-nom">PROMO U8 à U12 
  Prix de la Ville de St Maurice/Moselle</div><div class="gski-evenement-rep
 ort"></div><ul class="gski-evenement-liste-infos"><li>Codex évenement AMVT0
 080</li><li>Lieu : GENTIANE</li><li>Station : BALLON D ALSACE</li><li>Piste
  : piste de repli PETITE GENTIANE</li><li>Organisateur : 14063 SKIEURS DE S
 T MAURICE/MOSELLE</li><li>Courriel : <!-- Cette adresse électronique est pr
 otégée contre les robots spammeurs. --><span class="cloaked_email ep_3bd793
 42"><span data-ep-a="&#100;&#97;&#110;i" data-ep-b=""><span data-ep-b="&#11
 4;&#46;f&#114;" data-ep-a="&#101;&#108;.&#109;"><span data-ep-a="o&#114;&#1
 01;&#108;" data-ep-b="5&#64;&#115;f"></span></span></span></span><script>Re
 gularLabs.EmailProtector.unCloak("ep_3bd79342");</script></li></ul><div cla
 ss="gski-evenement-infos-2"><div class="gski-evenement-info-inscriptions"><
 div class="gski-evenement-inscriptions-periodes">Période d'inscription à l'
 evènement du Dimanche 11 Février 2024 à 00:00 au Samedi 17 Février 2024 à 1
 7:00<div class="gski-evenement-inscriptions-types-titres">Inscriptions ouve
 rtes aux detenteurs des titres Fédéraux valides suivants : Licenciés Compét
 iteurs, Titres Loisirs et Dirigeants et Tickets course</div></div></div><di
 v class="gskiepreuves-links"><ul><li><a href="https://skivosges.net/index.p
 hp?option=com_jevents&task=icalevent.detail&evid=2268&Itemid=6289">Voir les
  informations dans l'agenda...</a></li><li><a href="https://skivosges.net/i
 ndex.php?option=com_gskiepreuves&view=afficheresultats&format_option=tous&f
 ilter[search]=AMVT0080&filter[date_debut]=18-02-2024&filter[date_fin]=18-02
 -2024&code_activite=ALP&Itemid=6289">Vers les résultats...</a></li><li>Publ
 ications concernant cet évènement :<ul><li><a href="https://skivosges.net/i
 ndex.php?option=com_content&view=article&id=8375&Itemid=6289">Dimanche 18 F
 évrier 2024 à 17:31 : Le 18/02/2024 BALLON D'ALSACE/Alpin Résultats</a></li
 ></ul></li></ul></div><div class="gski-evenement-epreuves"><div class="gski
 -evenement-epreuves-titres">Epreuves :</div><ul class="gski-evenement-epreu
 ves-list"><li><div class="gski-epreuve-date">Le Dimanche 18 Février 2024 à 
 10:00</div><ul class="gski-epreuve-liste-infos"><li>Codex épreuve AMVF0081<
 /li><li>Slalom</li><li>Catégorie(s) : U8 (Filles)</li></ul></li><li><div cl
 ass="gski-epreuve-date">Le Dimanche 18 Février 2024 à 10:00</div><ul class=
 "gski-epreuve-liste-infos"><li>Codex épreuve AMVM0081</li><li>Slalom</li><l
 i>Catégorie(s) : U8 (Garçons)</li></ul></li><li><div class="gski-epreuve-da
 te">Le Dimanche 18 Février 2024 à 10:00</div><ul class="gski-epreuve-liste-
 infos"><li>Codex épreuve AMVF0082</li><li>Slalom</li><li>Catégorie(s) : U10
 /U12 (Filles)</li></ul></li><li><div class="gski-epreuve-date">Le Dimanche 
 18 Février 2024 à 10:00</div><ul class="gski-epreuve-liste-infos"><li>Codex
  épreuve AMVM0082</li><li>Slalom</li><li>Catégorie(s) : U10/U12 (Garçons)</
 li></ul></li></ul></div><div class="gskiepreuves-links"><ul><li><a href="ht
 tps://skivosges.net/index.php?option=com_jevents&task=icalevent.detail&evid
 =2268&Itemid=6289">Voir les informations dans l'agenda...</a></li><li><a hr
 ef="https://skivosges.net/index.php?option=com_gskiepreuves&view=afficheres
 ultats&format_option=tous&filter[search]=AMVT0080&filter[date_debut]=18-02-
 2024&filter[date_fin]=18-02-2024&code_activite=ALP&Itemid=6289">Vers les ré
 sultats...</a></li><li>Publications concernant cet évènement :<ul><li><a hr
 ef="https://skivosges.net/index.php?option=com_content&view=article&id=8375
 &Itemid=6289">Dimanche 18 Février 2024 à 17:31 : Le 18/02/2024 BALLON D'ALS
 ACE/Alpin Résultats</a></li></ul></li></ul></div></div"><!-- #/gskiepreuve 
 fin du dode généré par le plugin jevents pour GskiEpreuves. . Ne pas modifi
 er cette ligne, ni tout le contenu précedant.  #/gskiepreuve --> <a href="h
 ttps://skivosges.net/agenda/a-venir/detailevenement/2273/-/promo-u8-a-u12-p
 rix-de-la-ville-de-st-maurice-moselle?tmpl=component">Cet évènement a été i
 mporté depuis :https://skivosges.net/agenda/a-venir/detailevenement/2273/-/
 promo-u8-a-u12-prix-de-la-ville-de-st-maurice-moselle?tmpl=component</a>DTSTAMP:20260420T185213
DTSTART;TZID=Europe/Paris;VALUE=DATE:20240218
DTEND;TZID=Europe/Paris;VALUE=DATE:20240219
SEQUENCE:0
TRANSP:OPAQUE
END:VEVENT
END:VCALENDAR