BEGIN:VCALENDAR
VERSION:2.0
PRODID:-//jEvents 2.0 for Joomla//EN
CALSCALE:GREGORIAN
METHOD:PUBLISH
BEGIN:VTIMEZONE
TZID:Europe/Paris
BEGIN:STANDARD
DTSTART:20230324T000000
RDATE:20230326T030000
TZOFFSETFROM:+0200
TZOFFSETTO:+0100
TZNAME:Europe/Paris CET
END:STANDARD
BEGIN:STANDARD
DTSTART:20231029T020000
RDATE:20240331T030000
TZOFFSETFROM:+0200
TZOFFSETTO:+0100
TZNAME:Europe/Paris CET
END:STANDARD
BEGIN:STANDARD
DTSTART:20241027T020000
RDATE:20250330T030000
TZOFFSETFROM:+0200
TZOFFSETTO:+0100
TZNAME:Europe/Paris CET
END:STANDARD
BEGIN:STANDARD
DTSTART:20251026T020000
RDATE:20260329T030000
TZOFFSETFROM:+0200
TZOFFSETTO:+0100
TZNAME:Europe/Paris CET
END:STANDARD
BEGIN:STANDARD
DTSTART:20261025T020000
RDATE:20270328T030000
TZOFFSETFROM:+0200
TZOFFSETTO:+0100
TZNAME:Europe/Paris CET
END:STANDARD
BEGIN:DAYLIGHT
DTSTART:20230326T030000
RDATE:20231029T020000
TZOFFSETFROM:+0100
TZOFFSETTO:+0200
TZNAME:Europe/Paris CEST
END:DAYLIGHT
BEGIN:DAYLIGHT
DTSTART:20240331T030000
RDATE:20241027T020000
TZOFFSETFROM:+0100
TZOFFSETTO:+0200
TZNAME:Europe/Paris CEST
END:DAYLIGHT
BEGIN:DAYLIGHT
DTSTART:20250330T030000
RDATE:20251026T020000
TZOFFSETFROM:+0100
TZOFFSETTO:+0200
TZNAME:Europe/Paris CEST
END:DAYLIGHT
BEGIN:DAYLIGHT
DTSTART:20260329T030000
RDATE:20261025T020000
TZOFFSETFROM:+0100
TZOFFSETTO:+0200
TZNAME:Europe/Paris CEST
END:DAYLIGHT
END:VTIMEZONE
BEGIN:VEVENT
UID:7d74fcd1fd31d3992a729746fbe69ebb
CATEGORIES:Circuit Massif Jeunes (alpin)
CREATED:20240309T145450
SUMMARY:CJM Finale Coupe d'Argent Jeune Prix de la Confiserie Géromoise
URL;VALUE=URI:https://skivosges.net/agenda/a-venir/detailevenement/2276/-/cjm-finale-coup
 e-dargent-jeune-prix-de-la-confiserie-geromoise?tmpl=component
DESCRIPTION:CJM Finale Coupe d'Argent Jeune Prix de la Confiserie Géromoise (Report de 
 l'épreuve initialement prévue le 17/02/2024)\n - Codex évenement AMVT0590\n
  - Station : MORZINE\n - Piste : Arare\n - Organisateur : 14089 GERARDMER S
 KI ALPIN\n - Courriel : RegularLabs.EmailProtector.unCloak("ep_64c1758c");\
 n - Téléphone : 0665114654\n - Délégué Technique : VONTHRON JEAN MARIEPério
 de d'inscription à l'evènement du Mardi 12 Mars 2024 à 00:00 au Vendredi 22
  Mars 2024 à 12:00Inscriptions ouvertes aux detenteurs des titres Fédéraux 
 valides suivants : Licenciés CompétiteursL'épreuve sera chronométrée en dir
 ect sur https://skivosges.net/live\n - Voir les informations dans l'agenda.
 .. (/index.php?option=com_jevents&amp;task=icalevent.detail&amp;evid=2271&a
 mp;Itemid=6289)\n - Vers les résultats... (/index.php?option=com_gskiepreuv
 es&amp;view=afficheresultats&amp;format_option=tous&amp;filter[search]=AMVT
 0590&amp;filter[date_debut]=24-03-2024&amp;filter[date_fin]=24-03-2024&amp;
 code_activite=ALP&amp;Itemid=6289)Epreuves :\n - Le Dimanche 24 Mars 2024\n
  - Codex épreuve AMVM0591\n - Slalom Geant\n - Catégorie(s) : U8/U10 (Garço
 ns)\n - Le Dimanche 24 Mars 2024\n - Codex épreuve AMVF0591\n - Slalom Gean
 t\n - Catégorie(s) : U8/U10 (Filles)\n - Le Dimanche 24 Mars 2024\n - Codex
  épreuve AMVM0592\n - Slalom Geant\n - Catégorie(s) : U12 (Garçons)\n - Le 
 Dimanche 24 Mars 2024\n - Codex épreuve AMVF0592\n - Slalom Geant\n - Catég
 orie(s) : U12 (Filles)\n - Voir les informations dans l'agenda... (/index.p
 hp?option=com_jevents&amp;task=icalevent.detail&amp;evid=2271&amp;Itemid=62
 89)\n - Vers les résultats... (/index.php?option=com_gskiepreuves&amp;view=
 afficheresultats&amp;format_option=tous&amp;filter[search]=AMVT0590&amp;fil
 ter[date_debut]=24-03-2024&amp;filter[date_fin]=24-03-2024&amp;code_activit
 e=ALP&amp;Itemid=6289) Cet évènement a été importé depuis :https://skivosge
 s.net/agenda/a-venir/detailevenement/2276/-/cjm-finale-coupe-dargent-jeune-
 prix-de-la-confiserie-geromoise?tmpl=component (https://skivosges.net/agend
 a/a-venir/detailevenement/2276/-/cjm-finale-coupe-dargent-jeune-prix-de-la-
 confiserie-geromoise?tmpl=component)
X-ALT-DESC;FMTTYPE=text/html:<!-- #gskiepreuve code généré par le plugin jevents pour GskiEpreuves. Ne p
 as modifier cette ligne, ni tout le contenu suivant  #gskiepreuve --><div c
 lass="gski-evenement_infos"><div class="gski-evenement-nom">CJM Finale Coup
 e d'Argent Jeune Prix de la Confiserie Géromoise</div><div class="gski-even
 ement-report"> <font class="gskiattention">(Report de l'épreuve initialemen
 t prévue le 17/02/2024)</font></div><ul class="gski-evenement-liste-infos">
 <li>Codex évenement AMVT0590</li><li>Station : MORZINE</li><li>Piste : Arar
 e</li><li>Organisateur : 14089 GERARDMER SKI ALPIN</li><li>Courriel : <!-- 
 Cette adresse électronique est protégée contre les robots spammeurs. --><sp
 an class="cloaked_email ep_64c1758c"><span data-ep-b="&#102;&#114;" data-ep
 -a="&#112;&#104;i&#108;&#105;"><span data-ep-b="a&#110;&#103;&#101;&#46;" d
 ata-ep-a="&#112;p&#101;.h"><span data-ep-a="&#111;u&#105;&#108;l" data-ep-b
 ="on&#64;&#111;&#114;"></span></span></span></span><script>RegularLabs.Emai
 lProtector.unCloak("ep_64c1758c");</script></li><li>Téléphone : 0665114654<
 /li><li><span class="gski-evenement-obs">Délégué Technique : VONTHRON JEAN 
 MARIE</span></li></ul><div class="gski-evenement-infos-2"><div class="gski-
 evenement-info-inscriptions"><div class="gski-evenement-inscriptions-period
 es">Période d'inscription à l'evènement du Mardi 12 Mars 2024 à 00:00 au Ve
 ndredi 22 Mars 2024 à 12:00<div class="gski-evenement-inscriptions-types-ti
 tres">Inscriptions ouvertes aux detenteurs des titres Fédéraux valides suiv
 ants : Licenciés Compétiteurs</div></div></div><div class="gski-evenement-i
 nfo-live">L'épreuve sera chronométrée en direct sur https://skivosges.net/l
 ive</div><div class="gskiepreuves-links"><ul><li><a href="https://skivosges
 .net/index.php?option=com_jevents&task=icalevent.detail&evid=2271&Itemid=62
 89">Voir les informations dans l'agenda...</a></li><li><a href="https://ski
 vosges.net/index.php?option=com_gskiepreuves&view=afficheresultats&format_o
 ption=tous&filter[search]=AMVT0590&filter[date_debut]=24-03-2024&filter[dat
 e_fin]=24-03-2024&code_activite=ALP&Itemid=6289">Vers les résultats...</a><
 /li></ul></div><div class="gski-evenement-epreuves"><div class="gski-evenem
 ent-epreuves-titres">Epreuves :</div><ul class="gski-evenement-epreuves-lis
 t"><li><div class="gski-epreuve-date">Le Dimanche 24 Mars 2024</div><ul cla
 ss="gski-epreuve-liste-infos"><li>Codex épreuve AMVM0591</li><li>Slalom Gea
 nt</li><li>Catégorie(s) : U8/U10 (Garçons)</li></ul></li><li><div class="gs
 ki-epreuve-date">Le Dimanche 24 Mars 2024</div><ul class="gski-epreuve-list
 e-infos"><li>Codex épreuve AMVF0591</li><li>Slalom Geant</li><li>Catégorie(
 s) : U8/U10 (Filles)</li></ul></li><li><div class="gski-epreuve-date">Le Di
 manche 24 Mars 2024</div><ul class="gski-epreuve-liste-infos"><li>Codex épr
 euve AMVM0592</li><li>Slalom Geant</li><li>Catégorie(s) : U12 (Garçons)</li
 ></ul></li><li><div class="gski-epreuve-date">Le Dimanche 24 Mars 2024</div
 ><ul class="gski-epreuve-liste-infos"><li>Codex épreuve AMVF0592</li><li>Sl
 alom Geant</li><li>Catégorie(s) : U12 (Filles)</li></ul></li></ul></div><di
 v class="gskiepreuves-links"><ul><li><a href="https://skivosges.net/index.p
 hp?option=com_jevents&task=icalevent.detail&evid=2271&Itemid=6289">Voir les
  informations dans l'agenda...</a></li><li><a href="https://skivosges.net/i
 ndex.php?option=com_gskiepreuves&view=afficheresultats&format_option=tous&f
 ilter[search]=AMVT0590&filter[date_debut]=24-03-2024&filter[date_fin]=24-03
 -2024&code_activite=ALP&Itemid=6289">Vers les résultats...</a></li></ul></d
 iv></div"><!-- #/gskiepreuve fin du dode généré par le plugin jevents pour 
 GskiEpreuves. . Ne pas modifier cette ligne, ni tout le contenu précedant. 
  #/gskiepreuve --> <a href="https://skivosges.net/agenda/a-venir/detaileven
 ement/2276/-/cjm-finale-coupe-dargent-jeune-prix-de-la-confiserie-geromoise
 ?tmpl=component">Cet évènement a été importé depuis :https://skivosges.net/
 agenda/a-venir/detailevenement/2276/-/cjm-finale-coupe-dargent-jeune-prix-d
 e-la-confiserie-geromoise?tmpl=component</a>DTSTAMP:20260420T185008
DTSTART;TZID=Europe/Paris;VALUE=DATE:20240324
DTEND;TZID=Europe/Paris;VALUE=DATE:20240325
SEQUENCE:0
TRANSP:OPAQUE
END:VEVENT
END:VCALENDAR