BEGIN:VCALENDAR
VERSION:2.0
PRODID:-//jEvents 2.0 for Joomla//EN
CALSCALE:GREGORIAN
METHOD:PUBLISH
BEGIN:VTIMEZONE
TZID:Europe/Paris
BEGIN:STANDARD
DTSTART:20130214T080000
RDATE:20130331T030000
TZOFFSETFROM:+0200
TZOFFSETTO:+0100
TZNAME:Europe/Paris CET
END:STANDARD
BEGIN:STANDARD
DTSTART:20131027T020000
RDATE:20140330T030000
TZOFFSETFROM:+0200
TZOFFSETTO:+0100
TZNAME:Europe/Paris CET
END:STANDARD
BEGIN:STANDARD
DTSTART:20141026T020000
RDATE:20150329T030000
TZOFFSETFROM:+0200
TZOFFSETTO:+0100
TZNAME:Europe/Paris CET
END:STANDARD
BEGIN:STANDARD
DTSTART:20151025T020000
RDATE:20160327T030000
TZOFFSETFROM:+0200
TZOFFSETTO:+0100
TZNAME:Europe/Paris CET
END:STANDARD
BEGIN:STANDARD
DTSTART:20161030T020000
RDATE:20170326T030000
TZOFFSETFROM:+0200
TZOFFSETTO:+0100
TZNAME:Europe/Paris CET
END:STANDARD
BEGIN:STANDARD
DTSTART:20171029T020000
RDATE:20180325T030000
TZOFFSETFROM:+0200
TZOFFSETTO:+0100
TZNAME:Europe/Paris CET
END:STANDARD
BEGIN:STANDARD
DTSTART:20181028T020000
RDATE:20190331T030000
TZOFFSETFROM:+0200
TZOFFSETTO:+0100
TZNAME:Europe/Paris CET
END:STANDARD
BEGIN:STANDARD
DTSTART:20191027T020000
RDATE:20200329T030000
TZOFFSETFROM:+0200
TZOFFSETTO:+0100
TZNAME:Europe/Paris CET
END:STANDARD
BEGIN:STANDARD
DTSTART:20201025T020000
RDATE:20210328T030000
TZOFFSETFROM:+0200
TZOFFSETTO:+0100
TZNAME:Europe/Paris CET
END:STANDARD
BEGIN:STANDARD
DTSTART:20211031T020000
RDATE:20220327T030000
TZOFFSETFROM:+0200
TZOFFSETTO:+0100
TZNAME:Europe/Paris CET
END:STANDARD
BEGIN:STANDARD
DTSTART:20221030T020000
RDATE:20230326T030000
TZOFFSETFROM:+0200
TZOFFSETTO:+0100
TZNAME:Europe/Paris CET
END:STANDARD
BEGIN:STANDARD
DTSTART:20231029T020000
RDATE:20240331T030000
TZOFFSETFROM:+0200
TZOFFSETTO:+0100
TZNAME:Europe/Paris CET
END:STANDARD
BEGIN:STANDARD
DTSTART:20241027T020000
RDATE:20250330T030000
TZOFFSETFROM:+0200
TZOFFSETTO:+0100
TZNAME:Europe/Paris CET
END:STANDARD
BEGIN:STANDARD
DTSTART:20251026T020000
RDATE:20260329T030000
TZOFFSETFROM:+0200
TZOFFSETTO:+0100
TZNAME:Europe/Paris CET
END:STANDARD
BEGIN:STANDARD
DTSTART:20261025T020000
RDATE:20270328T030000
TZOFFSETFROM:+0200
TZOFFSETTO:+0100
TZNAME:Europe/Paris CET
END:STANDARD
BEGIN:DAYLIGHT
DTSTART:20130331T030000
RDATE:20131027T020000
TZOFFSETFROM:+0100
TZOFFSETTO:+0200
TZNAME:Europe/Paris CEST
END:DAYLIGHT
BEGIN:DAYLIGHT
DTSTART:20140330T030000
RDATE:20141026T020000
TZOFFSETFROM:+0100
TZOFFSETTO:+0200
TZNAME:Europe/Paris CEST
END:DAYLIGHT
BEGIN:DAYLIGHT
DTSTART:20150329T030000
RDATE:20151025T020000
TZOFFSETFROM:+0100
TZOFFSETTO:+0200
TZNAME:Europe/Paris CEST
END:DAYLIGHT
BEGIN:DAYLIGHT
DTSTART:20160327T030000
RDATE:20161030T020000
TZOFFSETFROM:+0100
TZOFFSETTO:+0200
TZNAME:Europe/Paris CEST
END:DAYLIGHT
BEGIN:DAYLIGHT
DTSTART:20170326T030000
RDATE:20171029T020000
TZOFFSETFROM:+0100
TZOFFSETTO:+0200
TZNAME:Europe/Paris CEST
END:DAYLIGHT
BEGIN:DAYLIGHT
DTSTART:20180325T030000
RDATE:20181028T020000
TZOFFSETFROM:+0100
TZOFFSETTO:+0200
TZNAME:Europe/Paris CEST
END:DAYLIGHT
BEGIN:DAYLIGHT
DTSTART:20190331T030000
RDATE:20191027T020000
TZOFFSETFROM:+0100
TZOFFSETTO:+0200
TZNAME:Europe/Paris CEST
END:DAYLIGHT
BEGIN:DAYLIGHT
DTSTART:20200329T030000
RDATE:20201025T020000
TZOFFSETFROM:+0100
TZOFFSETTO:+0200
TZNAME:Europe/Paris CEST
END:DAYLIGHT
BEGIN:DAYLIGHT
DTSTART:20210328T030000
RDATE:20211031T020000
TZOFFSETFROM:+0100
TZOFFSETTO:+0200
TZNAME:Europe/Paris CEST
END:DAYLIGHT
BEGIN:DAYLIGHT
DTSTART:20220327T030000
RDATE:20221030T020000
TZOFFSETFROM:+0100
TZOFFSETTO:+0200
TZNAME:Europe/Paris CEST
END:DAYLIGHT
BEGIN:DAYLIGHT
DTSTART:20230326T030000
RDATE:20231029T020000
TZOFFSETFROM:+0100
TZOFFSETTO:+0200
TZNAME:Europe/Paris CEST
END:DAYLIGHT
BEGIN:DAYLIGHT
DTSTART:20240331T030000
RDATE:20241027T020000
TZOFFSETFROM:+0100
TZOFFSETTO:+0200
TZNAME:Europe/Paris CEST
END:DAYLIGHT
BEGIN:DAYLIGHT
DTSTART:20250330T030000
RDATE:20251026T020000
TZOFFSETFROM:+0100
TZOFFSETTO:+0200
TZNAME:Europe/Paris CEST
END:DAYLIGHT
BEGIN:DAYLIGHT
DTSTART:20260329T030000
RDATE:20261025T020000
TZOFFSETFROM:+0100
TZOFFSETTO:+0200
TZNAME:Europe/Paris CEST
END:DAYLIGHT
END:VTIMEZONE
BEGIN:VEVENT
UID:d254501c1d8e56c79b3c4785364a637a
CATEGORIES:Circuit Lorraine Jeunes (alpin)
CREATED:20140210T184356
SUMMARY:CLJ U10 à U14 Prix CEERI / Cpe de Bronze
URL;VALUE=URI:https://skivosges.net/agenda/a-venir/detailevenement/228/-/clj-u10-a-u14-pr
 ix-ceeri-cpe-de-bronze?tmpl=component
DESCRIPTION:CLJ U10 à U14 Prix CEERI / Cpe de Bronze \n(Coupe de Lorraine Jeunes)\n\nLi
 eu : FRERE JOSEPH \nPiste : THERESE LEDUC\nOrganisateur : U.S VENTRON  (140
 83 U.S VENTRON)\nEmail : RegularLabs.EmailProtector.unCloak("ep_f901ef88");
 \nTelecopie : 03 29 24 08 26\n\nInscriptions closes, les listes de départ s
 ont visualisables sur ce site\n - Le 15/02/2014 à 00:00:00\nAMVF0151  Slalo
 m (Coupe de Bronze) U10 Filles\n  CLJ U10 à U14 Prix CEERI / Cpe de Bronze\
 n - Le 15/02/2014 à 00:00:00\nAMVM0151  Slalom (Coupe de Bronze) U10 Garçon
 s\n  CLJ U10 à U14 Prix CEERI / Cpe de Bronze\n - Le 15/02/2014 à 00:00:00\
 nAMVF0152  Slalom (Coupe de Bronze) U12 Filles\n  CLJ U10 à U14 Prix CEERI 
 / Cpe de Bronze\n - Le 15/02/2014 à 00:00:00\nAMVM0152  Slalom (Coupe de Br
 onze) U12 Garçons\n  CLJ U10 à U14 Prix CEERI / Cpe de Bronze\n - Le 15/02/
 2014 à 00:00:00\nAMVF0153  Slalom (Coupe de Bronze) U14 Filles\n  CLJ U10 à
  U14 Prix CEERI / Cpe de Bronze\n - Le 15/02/2014 à 00:00:00\nAMVM0153  Sla
 lom (Coupe de Bronze) U14 Garçons\n  CLJ U10 à U14 Prix CEERI / Cpe de Bron
 ze Cet évènement a été importé depuis :https://skivosges.net/agenda/a-venir
 /detailevenement/228/-/clj-u10-a-u14-prix-ceeri-cpe-de-bronze?tmpl=componen
 t
X-ALT-DESC;FMTTYPE=text/html:<strong>CLJ U10 à U14 Prix CEERI / Cpe de Bronze</strong> <br /><i>(Coupe d
 e Lorraine Jeunes)</i><br /><br />Lieu : FRERE JOSEPH <br />Piste : THERESE
  LEDUC<br />Organisateur : U.S VENTRON  <small>(14083 U.S VENTRON)</small><
 br />Email : <!-- Cette adresse électronique est protégée contre les robots
  spammeurs. --><span class="cloaked_email ep_f901ef88"><span data-ep-a="&#1
 17;&#115;&#118;&#101;" data-ep-b=""><span data-ep-a="&#110;&#116;&#114;&#11
 1;" data-ep-b="&#46;&#102;&#114;"><span data-ep-a="&#110;&#64;&#111;r" data
 -ep-b="&#97;&#110;&#103;&#101;"></span></span></span></span><script>Regular
 Labs.EmailProtector.unCloak("ep_f901ef88");</script><br />Telecopie : 03 29
  24 08 26<br /><br />Inscriptions closes, les listes de départ sont visuali
 sables sur ce site<ul type="disc"><li><nobr>Le 15/02/2014 à 00:00:00</nobr>
 <br />AMVF0151  Slalom <nobr><i>(Coupe de Bronze)</i></nobr> <nobr>U10</nob
 r> Filles<br />&nbsp;&nbsp;CLJ U10 à U14 Prix CEERI / Cpe de Bronze</li><li
 ><nobr>Le 15/02/2014 à 00:00:00</nobr><br />AMVM0151  Slalom <nobr><i>(Coup
 e de Bronze)</i></nobr> <nobr>U10</nobr> Garçons<br />&nbsp;&nbsp;CLJ U10 à
  U14 Prix CEERI / Cpe de Bronze</li><li><nobr>Le 15/02/2014 à 00:00:00</nob
 r><br />AMVF0152  Slalom <nobr><i>(Coupe de Bronze)</i></nobr> <nobr>U12</n
 obr> Filles<br />&nbsp;&nbsp;CLJ U10 à U14 Prix CEERI / Cpe de Bronze</li><
 li><nobr>Le 15/02/2014 à 00:00:00</nobr><br />AMVM0152  Slalom <nobr><i>(Co
 upe de Bronze)</i></nobr> <nobr>U12</nobr> Garçons<br />&nbsp;&nbsp;CLJ U10
  à U14 Prix CEERI / Cpe de Bronze</li><li><nobr>Le 15/02/2014 à 00:00:00</n
 obr><br />AMVF0153  Slalom <nobr><i>(Coupe de Bronze)</i></nobr> <nobr>U14<
 /nobr> Filles<br />&nbsp;&nbsp;CLJ U10 à U14 Prix CEERI / Cpe de Bronze</li
 ><li><nobr>Le 15/02/2014 à 00:00:00</nobr><br />AMVM0153  Slalom <nobr><i>(
 Coupe de Bronze)</i></nobr> <nobr>U14</nobr> Garçons<br />&nbsp;&nbsp;CLJ U
 10 à U14 Prix CEERI / Cpe de Bronze</li></ul> <a href="https://skivosges.ne
 t/agenda/a-venir/detailevenement/228/-/clj-u10-a-u14-prix-ceeri-cpe-de-bron
 ze?tmpl=component">Cet évènement a été importé depuis :https://skivosges.ne
 t/agenda/a-venir/detailevenement/228/-/clj-u10-a-u14-prix-ceeri-cpe-de-bron
 ze?tmpl=component</a>DTSTAMP:20260424T060653
DTSTART;TZID=Europe/Paris:20140215T080000
DTEND;TZID=Europe/Paris:20140215T170000
SEQUENCE:0
TRANSP:OPAQUE
END:VEVENT
END:VCALENDAR