BEGIN:VCALENDAR
VERSION:2.0
PRODID:-//jEvents 2.0 for Joomla//EN
CALSCALE:GREGORIAN
METHOD:PUBLISH
BEGIN:VTIMEZONE
TZID:Europe/Paris
BEGIN:STANDARD
DTSTART:20130215T080000
RDATE:20130331T030000
TZOFFSETFROM:+0200
TZOFFSETTO:+0100
TZNAME:Europe/Paris CET
END:STANDARD
BEGIN:STANDARD
DTSTART:20131027T020000
RDATE:20140330T030000
TZOFFSETFROM:+0200
TZOFFSETTO:+0100
TZNAME:Europe/Paris CET
END:STANDARD
BEGIN:STANDARD
DTSTART:20141026T020000
RDATE:20150329T030000
TZOFFSETFROM:+0200
TZOFFSETTO:+0100
TZNAME:Europe/Paris CET
END:STANDARD
BEGIN:STANDARD
DTSTART:20151025T020000
RDATE:20160327T030000
TZOFFSETFROM:+0200
TZOFFSETTO:+0100
TZNAME:Europe/Paris CET
END:STANDARD
BEGIN:STANDARD
DTSTART:20161030T020000
RDATE:20170326T030000
TZOFFSETFROM:+0200
TZOFFSETTO:+0100
TZNAME:Europe/Paris CET
END:STANDARD
BEGIN:STANDARD
DTSTART:20171029T020000
RDATE:20180325T030000
TZOFFSETFROM:+0200
TZOFFSETTO:+0100
TZNAME:Europe/Paris CET
END:STANDARD
BEGIN:STANDARD
DTSTART:20181028T020000
RDATE:20190331T030000
TZOFFSETFROM:+0200
TZOFFSETTO:+0100
TZNAME:Europe/Paris CET
END:STANDARD
BEGIN:STANDARD
DTSTART:20191027T020000
RDATE:20200329T030000
TZOFFSETFROM:+0200
TZOFFSETTO:+0100
TZNAME:Europe/Paris CET
END:STANDARD
BEGIN:STANDARD
DTSTART:20201025T020000
RDATE:20210328T030000
TZOFFSETFROM:+0200
TZOFFSETTO:+0100
TZNAME:Europe/Paris CET
END:STANDARD
BEGIN:STANDARD
DTSTART:20211031T020000
RDATE:20220327T030000
TZOFFSETFROM:+0200
TZOFFSETTO:+0100
TZNAME:Europe/Paris CET
END:STANDARD
BEGIN:STANDARD
DTSTART:20221030T020000
RDATE:20230326T030000
TZOFFSETFROM:+0200
TZOFFSETTO:+0100
TZNAME:Europe/Paris CET
END:STANDARD
BEGIN:STANDARD
DTSTART:20231029T020000
RDATE:20240331T030000
TZOFFSETFROM:+0200
TZOFFSETTO:+0100
TZNAME:Europe/Paris CET
END:STANDARD
BEGIN:STANDARD
DTSTART:20241027T020000
RDATE:20250330T030000
TZOFFSETFROM:+0200
TZOFFSETTO:+0100
TZNAME:Europe/Paris CET
END:STANDARD
BEGIN:STANDARD
DTSTART:20251026T020000
RDATE:20260329T030000
TZOFFSETFROM:+0200
TZOFFSETTO:+0100
TZNAME:Europe/Paris CET
END:STANDARD
BEGIN:STANDARD
DTSTART:20261025T020000
RDATE:20270328T030000
TZOFFSETFROM:+0200
TZOFFSETTO:+0100
TZNAME:Europe/Paris CET
END:STANDARD
BEGIN:DAYLIGHT
DTSTART:20130331T030000
RDATE:20131027T020000
TZOFFSETFROM:+0100
TZOFFSETTO:+0200
TZNAME:Europe/Paris CEST
END:DAYLIGHT
BEGIN:DAYLIGHT
DTSTART:20140330T030000
RDATE:20141026T020000
TZOFFSETFROM:+0100
TZOFFSETTO:+0200
TZNAME:Europe/Paris CEST
END:DAYLIGHT
BEGIN:DAYLIGHT
DTSTART:20150329T030000
RDATE:20151025T020000
TZOFFSETFROM:+0100
TZOFFSETTO:+0200
TZNAME:Europe/Paris CEST
END:DAYLIGHT
BEGIN:DAYLIGHT
DTSTART:20160327T030000
RDATE:20161030T020000
TZOFFSETFROM:+0100
TZOFFSETTO:+0200
TZNAME:Europe/Paris CEST
END:DAYLIGHT
BEGIN:DAYLIGHT
DTSTART:20170326T030000
RDATE:20171029T020000
TZOFFSETFROM:+0100
TZOFFSETTO:+0200
TZNAME:Europe/Paris CEST
END:DAYLIGHT
BEGIN:DAYLIGHT
DTSTART:20180325T030000
RDATE:20181028T020000
TZOFFSETFROM:+0100
TZOFFSETTO:+0200
TZNAME:Europe/Paris CEST
END:DAYLIGHT
BEGIN:DAYLIGHT
DTSTART:20190331T030000
RDATE:20191027T020000
TZOFFSETFROM:+0100
TZOFFSETTO:+0200
TZNAME:Europe/Paris CEST
END:DAYLIGHT
BEGIN:DAYLIGHT
DTSTART:20200329T030000
RDATE:20201025T020000
TZOFFSETFROM:+0100
TZOFFSETTO:+0200
TZNAME:Europe/Paris CEST
END:DAYLIGHT
BEGIN:DAYLIGHT
DTSTART:20210328T030000
RDATE:20211031T020000
TZOFFSETFROM:+0100
TZOFFSETTO:+0200
TZNAME:Europe/Paris CEST
END:DAYLIGHT
BEGIN:DAYLIGHT
DTSTART:20220327T030000
RDATE:20221030T020000
TZOFFSETFROM:+0100
TZOFFSETTO:+0200
TZNAME:Europe/Paris CEST
END:DAYLIGHT
BEGIN:DAYLIGHT
DTSTART:20230326T030000
RDATE:20231029T020000
TZOFFSETFROM:+0100
TZOFFSETTO:+0200
TZNAME:Europe/Paris CEST
END:DAYLIGHT
BEGIN:DAYLIGHT
DTSTART:20240331T030000
RDATE:20241027T020000
TZOFFSETFROM:+0100
TZOFFSETTO:+0200
TZNAME:Europe/Paris CEST
END:DAYLIGHT
BEGIN:DAYLIGHT
DTSTART:20250330T030000
RDATE:20251026T020000
TZOFFSETFROM:+0100
TZOFFSETTO:+0200
TZNAME:Europe/Paris CEST
END:DAYLIGHT
BEGIN:DAYLIGHT
DTSTART:20260329T030000
RDATE:20261025T020000
TZOFFSETFROM:+0100
TZOFFSETTO:+0200
TZNAME:Europe/Paris CEST
END:DAYLIGHT
END:VTIMEZONE
BEGIN:VEVENT
UID:8f97dafb981a40d763a77a9fdce34ff4
CATEGORIES:Circuit Alsace Adultes (alpin)
CREATED:20140212T105335
SUMMARY:CAA Coupe de laVallée du Florival / Championnats d´Alsace **REPORTE**
URL;VALUE=URI:https://skivosges.net/agenda/a-venir/detailevenement/229/-/caa-coupe-de-lav
 allee-du-florival-championnats-dalsace-reporte?tmpl=component
DESCRIPTION:CAA Coupe de laVallée du Florival / Championnats d´Alsace (Epreuve reportée
 ) \n(Coupe d'Alsace Adultes)\n\nLieu : MARKSTEIN \nOrganisateur : S.C.O.S.E
 .G. GUEBWILLER  (14356 S.C.O.S.E.G. GUEBWILLER)\nEmail : RegularLabs.EmailP
 rotector.unCloak("ep_7f81eb97");\nTelecopie : 03 89 76 09 25\n\nCourse repo
 rtée du 16/02\n\nInscriptions en cours sur ce site\n - AMVF0181  Slalom (Co
 urses FFS) U16-&gt;Mas (Min à Mast/Vet) Dames\n  CAA        Coupe de la Val
 lée du Florival / Championnats d'Alsace\n - AMVM0181  Slalom (Courses FFS) 
 U16-&gt;Mas (Min à Mast/Vet) Hommes\n  CAA        Coupe de la Vallée du Flo
 rival / Championnats d'Alsace Cet évènement a été importé depuis :https://s
 kivosges.net/agenda/a-venir/detailevenement/229/-/caa-coupe-de-lavallee-du-
 florival-championnats-dalsace-reporte?tmpl=component (https://skivosges.net
 /agenda/a-venir/detailevenement/229/-/caa-coupe-de-lavallee-du-florival-cha
 mpionnats-dalsace-reporte?tmpl=component)
X-ALT-DESC;FMTTYPE=text/html:<strong>CAA Coupe de laVallée du Florival / Championnats d´Alsace</strong> 
 <font class="attention4">(Epreuve reportée)</font> <br /><i>(Coupe d'Alsace
  Adultes)</i><br /><br />Lieu : MARKSTEIN <br />Organisateur : S.C.O.S.E.G.
  GUEBWILLER  <small>(14356 S.C.O.S.E.G. GUEBWILLER)</small><br />Email : <!
 -- Cette adresse électronique est protégée contre les robots spammeurs. -->
 <span class="cloaked_email ep_7f81eb97"><span data-ep-a="&#115;&#99;o" data
 -ep-b="f&#114;"><span data-ep-b="oo&#46;" data-ep-a="&#115;&#101;&#103;"><s
 pan data-ep-a="&#64;w&#97;" data-ep-b="n&#97;&#100;"></span></span></span><
 /span><script>RegularLabs.EmailProtector.unCloak("ep_7f81eb97");</script><b
 r />Telecopie : 03 89 76 09 25<br /><br />Course reportée du 16/02<br /><br
  />Inscriptions en cours sur ce site<ul type="disc"><li>AMVF0181  Slalom <n
 obr><i>(Courses FFS)</i></nobr> <nobr>U16->Mas (Min à Mast/Vet)</nobr> Dame
 s<br />&nbsp;&nbsp;CAA        Coupe de la Vallée du Florival / Championnats
  d'Alsace</li><li>AMVM0181  Slalom <nobr><i>(Courses FFS)</i></nobr> <nobr>
 U16->Mas (Min à Mast/Vet)</nobr> Hommes<br />&nbsp;&nbsp;CAA        Coupe d
 e la Vallée du Florival / Championnats d'Alsace</li></ul> <a href="https://
 skivosges.net/agenda/a-venir/detailevenement/229/-/caa-coupe-de-lavallee-du
 -florival-championnats-dalsace-reporte?tmpl=component">Cet évènement a été 
 importé depuis :https://skivosges.net/agenda/a-venir/detailevenement/229/-/
 caa-coupe-de-lavallee-du-florival-championnats-dalsace-reporte?tmpl=compone
 nt</a>DTSTAMP:20260424T030405
DTSTART;TZID=Europe/Paris:20140216T080000
DTEND;TZID=Europe/Paris:20140216T170000
SEQUENCE:0
TRANSP:OPAQUE
END:VEVENT
END:VCALENDAR