BEGIN:VCALENDAR
VERSION:2.0
PRODID:-//jEvents 2.0 for Joomla//EN
CALSCALE:GREGORIAN
METHOD:PUBLISH
BEGIN:VTIMEZONE
TZID:Europe/Paris
BEGIN:STANDARD
DTSTART:20130215T080000
RDATE:20130331T030000
TZOFFSETFROM:+0200
TZOFFSETTO:+0100
TZNAME:Europe/Paris CET
END:STANDARD
BEGIN:STANDARD
DTSTART:20131027T020000
RDATE:20140330T030000
TZOFFSETFROM:+0200
TZOFFSETTO:+0100
TZNAME:Europe/Paris CET
END:STANDARD
BEGIN:STANDARD
DTSTART:20141026T020000
RDATE:20150329T030000
TZOFFSETFROM:+0200
TZOFFSETTO:+0100
TZNAME:Europe/Paris CET
END:STANDARD
BEGIN:STANDARD
DTSTART:20151025T020000
RDATE:20160327T030000
TZOFFSETFROM:+0200
TZOFFSETTO:+0100
TZNAME:Europe/Paris CET
END:STANDARD
BEGIN:STANDARD
DTSTART:20161030T020000
RDATE:20170326T030000
TZOFFSETFROM:+0200
TZOFFSETTO:+0100
TZNAME:Europe/Paris CET
END:STANDARD
BEGIN:STANDARD
DTSTART:20171029T020000
RDATE:20180325T030000
TZOFFSETFROM:+0200
TZOFFSETTO:+0100
TZNAME:Europe/Paris CET
END:STANDARD
BEGIN:STANDARD
DTSTART:20181028T020000
RDATE:20190331T030000
TZOFFSETFROM:+0200
TZOFFSETTO:+0100
TZNAME:Europe/Paris CET
END:STANDARD
BEGIN:STANDARD
DTSTART:20191027T020000
RDATE:20200329T030000
TZOFFSETFROM:+0200
TZOFFSETTO:+0100
TZNAME:Europe/Paris CET
END:STANDARD
BEGIN:STANDARD
DTSTART:20201025T020000
RDATE:20210328T030000
TZOFFSETFROM:+0200
TZOFFSETTO:+0100
TZNAME:Europe/Paris CET
END:STANDARD
BEGIN:STANDARD
DTSTART:20211031T020000
RDATE:20220327T030000
TZOFFSETFROM:+0200
TZOFFSETTO:+0100
TZNAME:Europe/Paris CET
END:STANDARD
BEGIN:STANDARD
DTSTART:20221030T020000
RDATE:20230326T030000
TZOFFSETFROM:+0200
TZOFFSETTO:+0100
TZNAME:Europe/Paris CET
END:STANDARD
BEGIN:STANDARD
DTSTART:20231029T020000
RDATE:20240331T030000
TZOFFSETFROM:+0200
TZOFFSETTO:+0100
TZNAME:Europe/Paris CET
END:STANDARD
BEGIN:STANDARD
DTSTART:20241027T020000
RDATE:20250330T030000
TZOFFSETFROM:+0200
TZOFFSETTO:+0100
TZNAME:Europe/Paris CET
END:STANDARD
BEGIN:STANDARD
DTSTART:20251026T020000
RDATE:20260329T030000
TZOFFSETFROM:+0200
TZOFFSETTO:+0100
TZNAME:Europe/Paris CET
END:STANDARD
BEGIN:STANDARD
DTSTART:20261025T020000
RDATE:20270328T030000
TZOFFSETFROM:+0200
TZOFFSETTO:+0100
TZNAME:Europe/Paris CET
END:STANDARD
BEGIN:DAYLIGHT
DTSTART:20130331T030000
RDATE:20131027T020000
TZOFFSETFROM:+0100
TZOFFSETTO:+0200
TZNAME:Europe/Paris CEST
END:DAYLIGHT
BEGIN:DAYLIGHT
DTSTART:20140330T030000
RDATE:20141026T020000
TZOFFSETFROM:+0100
TZOFFSETTO:+0200
TZNAME:Europe/Paris CEST
END:DAYLIGHT
BEGIN:DAYLIGHT
DTSTART:20150329T030000
RDATE:20151025T020000
TZOFFSETFROM:+0100
TZOFFSETTO:+0200
TZNAME:Europe/Paris CEST
END:DAYLIGHT
BEGIN:DAYLIGHT
DTSTART:20160327T030000
RDATE:20161030T020000
TZOFFSETFROM:+0100
TZOFFSETTO:+0200
TZNAME:Europe/Paris CEST
END:DAYLIGHT
BEGIN:DAYLIGHT
DTSTART:20170326T030000
RDATE:20171029T020000
TZOFFSETFROM:+0100
TZOFFSETTO:+0200
TZNAME:Europe/Paris CEST
END:DAYLIGHT
BEGIN:DAYLIGHT
DTSTART:20180325T030000
RDATE:20181028T020000
TZOFFSETFROM:+0100
TZOFFSETTO:+0200
TZNAME:Europe/Paris CEST
END:DAYLIGHT
BEGIN:DAYLIGHT
DTSTART:20190331T030000
RDATE:20191027T020000
TZOFFSETFROM:+0100
TZOFFSETTO:+0200
TZNAME:Europe/Paris CEST
END:DAYLIGHT
BEGIN:DAYLIGHT
DTSTART:20200329T030000
RDATE:20201025T020000
TZOFFSETFROM:+0100
TZOFFSETTO:+0200
TZNAME:Europe/Paris CEST
END:DAYLIGHT
BEGIN:DAYLIGHT
DTSTART:20210328T030000
RDATE:20211031T020000
TZOFFSETFROM:+0100
TZOFFSETTO:+0200
TZNAME:Europe/Paris CEST
END:DAYLIGHT
BEGIN:DAYLIGHT
DTSTART:20220327T030000
RDATE:20221030T020000
TZOFFSETFROM:+0100
TZOFFSETTO:+0200
TZNAME:Europe/Paris CEST
END:DAYLIGHT
BEGIN:DAYLIGHT
DTSTART:20230326T030000
RDATE:20231029T020000
TZOFFSETFROM:+0100
TZOFFSETTO:+0200
TZNAME:Europe/Paris CEST
END:DAYLIGHT
BEGIN:DAYLIGHT
DTSTART:20240331T030000
RDATE:20241027T020000
TZOFFSETFROM:+0100
TZOFFSETTO:+0200
TZNAME:Europe/Paris CEST
END:DAYLIGHT
BEGIN:DAYLIGHT
DTSTART:20250330T030000
RDATE:20251026T020000
TZOFFSETFROM:+0100
TZOFFSETTO:+0200
TZNAME:Europe/Paris CEST
END:DAYLIGHT
BEGIN:DAYLIGHT
DTSTART:20260329T030000
RDATE:20261025T020000
TZOFFSETFROM:+0100
TZOFFSETTO:+0200
TZNAME:Europe/Paris CEST
END:DAYLIGHT
END:VTIMEZONE
BEGIN:VEVENT
UID:6b7774824c69f38d3e321aabbc866259
CATEGORIES:Circuit Lorraine Jeunes (alpin)
CREATED:20140212T105335
SUMMARY:CLJ U10 a U14  Cp du Crédit Agricole-Mémorial Gilles Lemaire / Cpe de Bronze 
URL;VALUE=URI:https://skivosges.net/agenda/a-venir/detailevenement/230/-/clj-u10-a-u14-cp
 -du-credit-agricole-memorial-gilles-lemaire-cpe-de-bronze?tmpl=component
DESCRIPTION:CLJ U10 a U14  Cp du Crédit Agricole-Mémorial Gilles Lemaire / Cpe de Bronz
 e  \n(Coupe de Lorraine Jeunes)\n\nLieu : LA BRESSE \nPiste : Stade de Slal
 om\nOrganisateur : LA BRESSAUDE SECTION SKI  (14024 LA BRESSAUDE SECTION SK
 I)\nEmail : RegularLabs.EmailProtector.unCloak("ep_6e012a45");\nTelecopie :
  0329255100\n\nREPORT de la course 5 janvier\nDiscipline: Géant\n\nInscript
 ions closes, les listes de départ sont visualisables sur ce site\n - Le 16/
 02/2014 à 00:00:00\nAMVF0112  Slalom (Coupe de Bronze) U12 Filles\n  CLJ U1
 0 a U14  Cp du Crédit Agricole-Mémorial Gilles Lemaire / Cpe de Bronze \n -
  Le 16/02/2014 à 00:00:00\nAMVF0111  Slalom (Coupe de Bronze) U10 Filles\n 
  CLJ U10 a U14  Cp du Crédit Agricole-Mémorial Gilles Lemaire / Cpe de Bron
 ze \n - Le 16/02/2014 à 00:00:00\nAMVM0111  Slalom (Coupe de Bronze) U10 Ga
 rçons\n  CLJ U10 a U14  Cp du Crédit Agricole-Mémorial Gilles Lemaire / Cpe
  de Bronze \n - Le 16/02/2014 à 00:00:00\nAMVM0112  Slalom (Coupe de Bronze
 ) U12 Garçons\n  CLJ U10 a U14  Cp du Crédit Agricole-Mémorial Gilles Lemai
 re / Cpe de Bronze \n - Le 16/02/2014 à 00:00:00\nAMVF0113  Slalom (Coupe d
 e Bronze) U14 Filles\n  CLJ U10 a U14  Cp du Crédit Agricole-Mémorial Gille
 s Lemaire / Cpe de Bronze \n - Le 16/02/2014 à 00:00:00\nAMVM0113  Slalom (
 Coupe de Bronze) U14 Garçons\n  CLJ U10 a U14  Cp du Crédit Agricole-Mémori
 al Gilles Lemaire / Cpe de Bronze  Cet évènement a été importé depuis :http
 s://skivosges.net/agenda/a-venir/detailevenement/230/-/clj-u10-a-u14-cp-du-
 credit-agricole-memorial-gilles-lemaire-cpe-de-bronze?tmpl=component
X-ALT-DESC;FMTTYPE=text/html:<strong>CLJ U10 a U14  Cp du Crédit Agricole-Mémorial Gilles Lemaire / Cpe 
 de Bronze </strong> <br /><i>(Coupe de Lorraine Jeunes)</i><br /><br />Lieu
  : LA BRESSE <br />Piste : Stade de Slalom<br />Organisateur : LA BRESSAUDE
  SECTION SKI  <small>(14024 LA BRESSAUDE SECTION SKI)</small><br />Email : 
 <!-- Cette adresse électronique est protégée contre les robots spammeurs. -
 -><span class="cloaked_email ep_6e012a45"><span data-ep-b="r" data-ep-a="yd
 o"><span data-ep-b="e&#46;f" data-ep-a="&#100;&#105;n"><span data-ep-b="&#9
 7;&#110;&#103;" data-ep-a="&#64;&#111;r"></span></span></span></span><scrip
 t>RegularLabs.EmailProtector.unCloak("ep_6e012a45");</script><br />Telecopi
 e : 0329255100<br /><br />REPORT de la course 5 janvier<br>Discipline: Géan
 t<br /><br />Inscriptions closes, les listes de départ sont visualisables s
 ur ce site<ul type="disc"><li><nobr>Le 16/02/2014 à 00:00:00</nobr><br />AM
 VF0112  Slalom <nobr><i>(Coupe de Bronze)</i></nobr> <nobr>U12</nobr> Fille
 s<br />&nbsp;&nbsp;CLJ U10 a U14  Cp du Crédit Agricole-Mémorial Gilles Lem
 aire / Cpe de Bronze </li><li><nobr>Le 16/02/2014 à 00:00:00</nobr><br />AM
 VF0111  Slalom <nobr><i>(Coupe de Bronze)</i></nobr> <nobr>U10</nobr> Fille
 s<br />&nbsp;&nbsp;CLJ U10 a U14  Cp du Crédit Agricole-Mémorial Gilles Lem
 aire / Cpe de Bronze </li><li><nobr>Le 16/02/2014 à 00:00:00</nobr><br />AM
 VM0111  Slalom <nobr><i>(Coupe de Bronze)</i></nobr> <nobr>U10</nobr> Garço
 ns<br />&nbsp;&nbsp;CLJ U10 a U14  Cp du Crédit Agricole-Mémorial Gilles Le
 maire / Cpe de Bronze </li><li><nobr>Le 16/02/2014 à 00:00:00</nobr><br />A
 MVM0112  Slalom <nobr><i>(Coupe de Bronze)</i></nobr> <nobr>U12</nobr> Garç
 ons<br />&nbsp;&nbsp;CLJ U10 a U14  Cp du Crédit Agricole-Mémorial Gilles L
 emaire / Cpe de Bronze </li><li><nobr>Le 16/02/2014 à 00:00:00</nobr><br />
 AMVF0113  Slalom <nobr><i>(Coupe de Bronze)</i></nobr> <nobr>U14</nobr> Fil
 les<br />&nbsp;&nbsp;CLJ U10 a U14  Cp du Crédit Agricole-Mémorial Gilles L
 emaire / Cpe de Bronze </li><li><nobr>Le 16/02/2014 à 00:00:00</nobr><br />
 AMVM0113  Slalom <nobr><i>(Coupe de Bronze)</i></nobr> <nobr>U14</nobr> Gar
 çons<br />&nbsp;&nbsp;CLJ U10 a U14  Cp du Crédit Agricole-Mémorial Gilles 
 Lemaire / Cpe de Bronze </li></ul> <a href="https://skivosges.net/agenda/a-
 venir/detailevenement/230/-/clj-u10-a-u14-cp-du-credit-agricole-memorial-gi
 lles-lemaire-cpe-de-bronze?tmpl=component">Cet évènement a été importé depu
 is :https://skivosges.net/agenda/a-venir/detailevenement/230/-/clj-u10-a-u1
 4-cp-du-credit-agricole-memorial-gilles-lemaire-cpe-de-bronze?tmpl=componen
 t</a>DTSTAMP:20260424T012459
DTSTART;TZID=Europe/Paris:20140216T080000
DTEND;TZID=Europe/Paris:20140216T170000
SEQUENCE:0
TRANSP:OPAQUE
END:VEVENT
END:VCALENDAR