BEGIN:VCALENDAR
VERSION:2.0
PRODID:-//jEvents 2.0 for Joomla//EN
CALSCALE:GREGORIAN
METHOD:PUBLISH
BEGIN:VTIMEZONE
TZID:Europe/Paris
BEGIN:STANDARD
DTSTART:20130201T080000
RDATE:20130331T030000
TZOFFSETFROM:+0200
TZOFFSETTO:+0100
TZNAME:Europe/Paris CET
END:STANDARD
BEGIN:STANDARD
DTSTART:20131027T020000
RDATE:20140330T030000
TZOFFSETFROM:+0200
TZOFFSETTO:+0100
TZNAME:Europe/Paris CET
END:STANDARD
BEGIN:STANDARD
DTSTART:20141026T020000
RDATE:20150329T030000
TZOFFSETFROM:+0200
TZOFFSETTO:+0100
TZNAME:Europe/Paris CET
END:STANDARD
BEGIN:STANDARD
DTSTART:20151025T020000
RDATE:20160327T030000
TZOFFSETFROM:+0200
TZOFFSETTO:+0100
TZNAME:Europe/Paris CET
END:STANDARD
BEGIN:STANDARD
DTSTART:20161030T020000
RDATE:20170326T030000
TZOFFSETFROM:+0200
TZOFFSETTO:+0100
TZNAME:Europe/Paris CET
END:STANDARD
BEGIN:STANDARD
DTSTART:20171029T020000
RDATE:20180325T030000
TZOFFSETFROM:+0200
TZOFFSETTO:+0100
TZNAME:Europe/Paris CET
END:STANDARD
BEGIN:STANDARD
DTSTART:20181028T020000
RDATE:20190331T030000
TZOFFSETFROM:+0200
TZOFFSETTO:+0100
TZNAME:Europe/Paris CET
END:STANDARD
BEGIN:STANDARD
DTSTART:20191027T020000
RDATE:20200329T030000
TZOFFSETFROM:+0200
TZOFFSETTO:+0100
TZNAME:Europe/Paris CET
END:STANDARD
BEGIN:STANDARD
DTSTART:20201025T020000
RDATE:20210328T030000
TZOFFSETFROM:+0200
TZOFFSETTO:+0100
TZNAME:Europe/Paris CET
END:STANDARD
BEGIN:STANDARD
DTSTART:20211031T020000
RDATE:20220327T030000
TZOFFSETFROM:+0200
TZOFFSETTO:+0100
TZNAME:Europe/Paris CET
END:STANDARD
BEGIN:STANDARD
DTSTART:20221030T020000
RDATE:20230326T030000
TZOFFSETFROM:+0200
TZOFFSETTO:+0100
TZNAME:Europe/Paris CET
END:STANDARD
BEGIN:STANDARD
DTSTART:20231029T020000
RDATE:20240331T030000
TZOFFSETFROM:+0200
TZOFFSETTO:+0100
TZNAME:Europe/Paris CET
END:STANDARD
BEGIN:STANDARD
DTSTART:20241027T020000
RDATE:20250330T030000
TZOFFSETFROM:+0200
TZOFFSETTO:+0100
TZNAME:Europe/Paris CET
END:STANDARD
BEGIN:STANDARD
DTSTART:20251026T020000
RDATE:20260329T030000
TZOFFSETFROM:+0200
TZOFFSETTO:+0100
TZNAME:Europe/Paris CET
END:STANDARD
BEGIN:STANDARD
DTSTART:20261025T020000
RDATE:20270328T030000
TZOFFSETFROM:+0200
TZOFFSETTO:+0100
TZNAME:Europe/Paris CET
END:STANDARD
BEGIN:DAYLIGHT
DTSTART:20130331T030000
RDATE:20131027T020000
TZOFFSETFROM:+0100
TZOFFSETTO:+0200
TZNAME:Europe/Paris CEST
END:DAYLIGHT
BEGIN:DAYLIGHT
DTSTART:20140330T030000
RDATE:20141026T020000
TZOFFSETFROM:+0100
TZOFFSETTO:+0200
TZNAME:Europe/Paris CEST
END:DAYLIGHT
BEGIN:DAYLIGHT
DTSTART:20150329T030000
RDATE:20151025T020000
TZOFFSETFROM:+0100
TZOFFSETTO:+0200
TZNAME:Europe/Paris CEST
END:DAYLIGHT
BEGIN:DAYLIGHT
DTSTART:20160327T030000
RDATE:20161030T020000
TZOFFSETFROM:+0100
TZOFFSETTO:+0200
TZNAME:Europe/Paris CEST
END:DAYLIGHT
BEGIN:DAYLIGHT
DTSTART:20170326T030000
RDATE:20171029T020000
TZOFFSETFROM:+0100
TZOFFSETTO:+0200
TZNAME:Europe/Paris CEST
END:DAYLIGHT
BEGIN:DAYLIGHT
DTSTART:20180325T030000
RDATE:20181028T020000
TZOFFSETFROM:+0100
TZOFFSETTO:+0200
TZNAME:Europe/Paris CEST
END:DAYLIGHT
BEGIN:DAYLIGHT
DTSTART:20190331T030000
RDATE:20191027T020000
TZOFFSETFROM:+0100
TZOFFSETTO:+0200
TZNAME:Europe/Paris CEST
END:DAYLIGHT
BEGIN:DAYLIGHT
DTSTART:20200329T030000
RDATE:20201025T020000
TZOFFSETFROM:+0100
TZOFFSETTO:+0200
TZNAME:Europe/Paris CEST
END:DAYLIGHT
BEGIN:DAYLIGHT
DTSTART:20210328T030000
RDATE:20211031T020000
TZOFFSETFROM:+0100
TZOFFSETTO:+0200
TZNAME:Europe/Paris CEST
END:DAYLIGHT
BEGIN:DAYLIGHT
DTSTART:20220327T030000
RDATE:20221030T020000
TZOFFSETFROM:+0100
TZOFFSETTO:+0200
TZNAME:Europe/Paris CEST
END:DAYLIGHT
BEGIN:DAYLIGHT
DTSTART:20230326T030000
RDATE:20231029T020000
TZOFFSETFROM:+0100
TZOFFSETTO:+0200
TZNAME:Europe/Paris CEST
END:DAYLIGHT
BEGIN:DAYLIGHT
DTSTART:20240331T030000
RDATE:20241027T020000
TZOFFSETFROM:+0100
TZOFFSETTO:+0200
TZNAME:Europe/Paris CEST
END:DAYLIGHT
BEGIN:DAYLIGHT
DTSTART:20250330T030000
RDATE:20251026T020000
TZOFFSETFROM:+0100
TZOFFSETTO:+0200
TZNAME:Europe/Paris CEST
END:DAYLIGHT
BEGIN:DAYLIGHT
DTSTART:20260329T030000
RDATE:20261025T020000
TZOFFSETFROM:+0100
TZOFFSETTO:+0200
TZNAME:Europe/Paris CEST
END:DAYLIGHT
END:VTIMEZONE
BEGIN:VEVENT
UID:227ed02109f93e44ab5a3eb40654001b
CATEGORIES:Circuit Alsace Jeunes (alpin)
CREATED:20140212T213614
SUMMARY:CAJ U10 à U14 Coupe du SC Hohneck / Cp de Bronze
URL;VALUE=URI:https://skivosges.net/agenda/a-venir/detailevenement/231/-/caj-u10-a-u14-co
 upe-du-sc-hohneck-cp-de-bronze?tmpl=component
DESCRIPTION:<strong>CAJ U10 à U14 Coupe du SC Hohneck / Cp de Bronze</strong> <br /><i>
 (Coupe d'Alsace Jeunes)</i><br /><br />Lieu : GASCHNEY <br />Organisateur :
  SKI CLUB HOHNECK  <small>(14087 SKI CLUB HOHNECK)</small><br />Email : <!-
 - Cette adresse électronique est protégée contre les robots spammeurs. --><
 span class="cloaked_email ep_e7be904e"><span data-ep-a="&#115;&#121;&#108;&
 #118;" data-ep-b=".&#102;r"><span data-ep-a="ain&#46;" data-ep-b="&#97;n&#1
 03;e"><span data-ep-b="&#111;&#64;&#111;&#114;" data-ep-a="&#99;&#111;&#115
 ;&#109;"></span></span></span></span><script>RegularLabs.EmailProtector.unC
 loak("ep_e7be904e");</script><br />Telecopie : 03 89 49 31 51<ul type="disc
 "><li>AMVF1081  Slalom Geant <nobr><i>(Coupe de Bronze)</i></nobr> <nobr>U1
 0</nobr> Filles<br />&nbsp;&nbsp;CAJ U10 à U14 Coupe du SC Hohneck / Cp de 
 Bronze</li><li>AMVM1081  Slalom Geant <nobr><i>(Coupe de Bronze)</i></nobr>
  <nobr>U10</nobr> Garçons<br />&nbsp;&nbsp;CAJ U10 à U14 Coupe du SC Hohnec
 k / Cp de Bronze</li><li>AMVF1082  Slalom Geant <nobr><i>(Coupe de Bronze)<
 /i></nobr> <nobr>de 10 a 13ans au 31/12/2012 (Pou/Ben)</nobr> Filles<br />&
 nbsp;&nbsp;CAJ U10 à U14 Coupe du SC Hohneck / Cp de Bronze</li><li>AMVM108
 2  Slalom Geant <nobr><i>(Coupe de Bronze)</i></nobr> <nobr>de 10 a 13ans a
 u 31/12/2012 (Pou/Ben)</nobr> Garçons<br />&nbsp;&nbsp;CAJ U10 à U14 Coupe 
 du SC Hohneck / Cp de Bronze</li></ul> <a href="https://skivosges.net/agend
 a/a-venir/detailevenement/231/-/caj-u10-a-u14-coupe-du-sc-hohneck-cp-de-bro
 nze?tmpl=component">Cet évènement a été importé depuis :https://skivosges.n
 et/agenda/a-venir/detailevenement/231/-/caj-u10-a-u14-coupe-du-sc-hohneck-c
 p-de-bronze?tmpl=component</a>DTSTAMP:20260424T012610
DTSTART;TZID=Europe/Paris:20140202T080000
DTEND;TZID=Europe/Paris:20140202T170000
SEQUENCE:0
TRANSP:OPAQUE
END:VEVENT
END:VCALENDAR