BEGIN:VCALENDAR
VERSION:2.0
PRODID:-//jEvents 2.0 for Joomla//EN
CALSCALE:GREGORIAN
METHOD:PUBLISH
BEGIN:VTIMEZONE
TZID:Europe/Paris
BEGIN:STANDARD
DTSTART:20130322T080000
RDATE:20130331T030000
TZOFFSETFROM:+0200
TZOFFSETTO:+0100
TZNAME:Europe/Paris CET
END:STANDARD
BEGIN:STANDARD
DTSTART:20131027T020000
RDATE:20140330T030000
TZOFFSETFROM:+0200
TZOFFSETTO:+0100
TZNAME:Europe/Paris CET
END:STANDARD
BEGIN:STANDARD
DTSTART:20141026T020000
RDATE:20150329T030000
TZOFFSETFROM:+0200
TZOFFSETTO:+0100
TZNAME:Europe/Paris CET
END:STANDARD
BEGIN:STANDARD
DTSTART:20151025T020000
RDATE:20160327T030000
TZOFFSETFROM:+0200
TZOFFSETTO:+0100
TZNAME:Europe/Paris CET
END:STANDARD
BEGIN:STANDARD
DTSTART:20161030T020000
RDATE:20170326T030000
TZOFFSETFROM:+0200
TZOFFSETTO:+0100
TZNAME:Europe/Paris CET
END:STANDARD
BEGIN:STANDARD
DTSTART:20171029T020000
RDATE:20180325T030000
TZOFFSETFROM:+0200
TZOFFSETTO:+0100
TZNAME:Europe/Paris CET
END:STANDARD
BEGIN:STANDARD
DTSTART:20181028T020000
RDATE:20190331T030000
TZOFFSETFROM:+0200
TZOFFSETTO:+0100
TZNAME:Europe/Paris CET
END:STANDARD
BEGIN:STANDARD
DTSTART:20191027T020000
RDATE:20200329T030000
TZOFFSETFROM:+0200
TZOFFSETTO:+0100
TZNAME:Europe/Paris CET
END:STANDARD
BEGIN:STANDARD
DTSTART:20201025T020000
RDATE:20210328T030000
TZOFFSETFROM:+0200
TZOFFSETTO:+0100
TZNAME:Europe/Paris CET
END:STANDARD
BEGIN:STANDARD
DTSTART:20211031T020000
RDATE:20220327T030000
TZOFFSETFROM:+0200
TZOFFSETTO:+0100
TZNAME:Europe/Paris CET
END:STANDARD
BEGIN:STANDARD
DTSTART:20221030T020000
RDATE:20230326T030000
TZOFFSETFROM:+0200
TZOFFSETTO:+0100
TZNAME:Europe/Paris CET
END:STANDARD
BEGIN:STANDARD
DTSTART:20231029T020000
RDATE:20240331T030000
TZOFFSETFROM:+0200
TZOFFSETTO:+0100
TZNAME:Europe/Paris CET
END:STANDARD
BEGIN:STANDARD
DTSTART:20241027T020000
RDATE:20250330T030000
TZOFFSETFROM:+0200
TZOFFSETTO:+0100
TZNAME:Europe/Paris CET
END:STANDARD
BEGIN:STANDARD
DTSTART:20251026T020000
RDATE:20260329T030000
TZOFFSETFROM:+0200
TZOFFSETTO:+0100
TZNAME:Europe/Paris CET
END:STANDARD
BEGIN:STANDARD
DTSTART:20261025T020000
RDATE:20270328T030000
TZOFFSETFROM:+0200
TZOFFSETTO:+0100
TZNAME:Europe/Paris CET
END:STANDARD
BEGIN:DAYLIGHT
DTSTART:20130331T030000
RDATE:20131027T020000
TZOFFSETFROM:+0100
TZOFFSETTO:+0200
TZNAME:Europe/Paris CEST
END:DAYLIGHT
BEGIN:DAYLIGHT
DTSTART:20140330T030000
RDATE:20141026T020000
TZOFFSETFROM:+0100
TZOFFSETTO:+0200
TZNAME:Europe/Paris CEST
END:DAYLIGHT
BEGIN:DAYLIGHT
DTSTART:20150329T030000
RDATE:20151025T020000
TZOFFSETFROM:+0100
TZOFFSETTO:+0200
TZNAME:Europe/Paris CEST
END:DAYLIGHT
BEGIN:DAYLIGHT
DTSTART:20160327T030000
RDATE:20161030T020000
TZOFFSETFROM:+0100
TZOFFSETTO:+0200
TZNAME:Europe/Paris CEST
END:DAYLIGHT
BEGIN:DAYLIGHT
DTSTART:20170326T030000
RDATE:20171029T020000
TZOFFSETFROM:+0100
TZOFFSETTO:+0200
TZNAME:Europe/Paris CEST
END:DAYLIGHT
BEGIN:DAYLIGHT
DTSTART:20180325T030000
RDATE:20181028T020000
TZOFFSETFROM:+0100
TZOFFSETTO:+0200
TZNAME:Europe/Paris CEST
END:DAYLIGHT
BEGIN:DAYLIGHT
DTSTART:20190331T030000
RDATE:20191027T020000
TZOFFSETFROM:+0100
TZOFFSETTO:+0200
TZNAME:Europe/Paris CEST
END:DAYLIGHT
BEGIN:DAYLIGHT
DTSTART:20200329T030000
RDATE:20201025T020000
TZOFFSETFROM:+0100
TZOFFSETTO:+0200
TZNAME:Europe/Paris CEST
END:DAYLIGHT
BEGIN:DAYLIGHT
DTSTART:20210328T030000
RDATE:20211031T020000
TZOFFSETFROM:+0100
TZOFFSETTO:+0200
TZNAME:Europe/Paris CEST
END:DAYLIGHT
BEGIN:DAYLIGHT
DTSTART:20220327T030000
RDATE:20221030T020000
TZOFFSETFROM:+0100
TZOFFSETTO:+0200
TZNAME:Europe/Paris CEST
END:DAYLIGHT
BEGIN:DAYLIGHT
DTSTART:20230326T030000
RDATE:20231029T020000
TZOFFSETFROM:+0100
TZOFFSETTO:+0200
TZNAME:Europe/Paris CEST
END:DAYLIGHT
BEGIN:DAYLIGHT
DTSTART:20240331T030000
RDATE:20241027T020000
TZOFFSETFROM:+0100
TZOFFSETTO:+0200
TZNAME:Europe/Paris CEST
END:DAYLIGHT
BEGIN:DAYLIGHT
DTSTART:20250330T030000
RDATE:20251026T020000
TZOFFSETFROM:+0100
TZOFFSETTO:+0200
TZNAME:Europe/Paris CEST
END:DAYLIGHT
BEGIN:DAYLIGHT
DTSTART:20260329T030000
RDATE:20261025T020000
TZOFFSETFROM:+0100
TZOFFSETTO:+0200
TZNAME:Europe/Paris CEST
END:DAYLIGHT
END:VTIMEZONE
BEGIN:VEVENT
UID:258e8f2fc084dd73a0e42b4340b661b6
CATEGORIES:Opens et Promos (alpin)
CREATED:20140212T213615
SUMMARY:OPEN J      Mémorial Jacky Voison *** ANNULE(E) ***
URL;VALUE=URI:https://skivosges.net/agenda/a-venir/detailevenement/233/-/open-j-memorial-
 jacky-voison-annule-e?tmpl=component
DESCRIPTION:OPEN J      Mémorial Jacky Voison (Epreuve annulée)\n\nLieu : LAC BLANC \nO
 rganisateur : SKI TEAM AVENIR VALLEE DE WEISS  (14343 SKI TEAM AVENIR VALLE
 E DE WEISS)\nEmail : RegularLabs.EmailProtector.unCloak("ep_06a1ec17");\nTe
 lecopie : 03 89 78 23 01\n  Organisateur:SKI TEAM AVENIR VALLEE DE WEIS\n -
  AMVF1091  Slalom Geant U8+U10 Filles\n  OPEN J      Mémorial Jacky Voison\
 n  Organisateur:SKI TEAM AVENIR VALLEE DE WEIS\n - AMVM1091  Slalom Geant U
 8+U10 Garçons\n  OPEN J      Mémorial Jacky Voison\n  Organisateur:SKI TEAM
  AVENIR VALLEE DE WEIS\n - AMVF1092  Slalom Geant de 10 a 13ans au 31/12/20
 12 (Pou/Ben) Filles\n  OPEN J      Mémorial Jacky Voison\n  Organisateur:SK
 I TEAM AVENIR VALLEE DE WEIS\n - AMVM1092  Slalom Geant de 10 a 13ans au 31
 /12/2012 (Pou/Ben) Garçons\n  OPEN J      Mémorial Jacky Voison Cet évèneme
 nt a été importé depuis :https://skivosges.net/agenda/a-venir/detaileveneme
 nt/233/-/open-j-memorial-jacky-voison-annule-e?tmpl=component (https://skiv
 osges.net/agenda/a-venir/detailevenement/233/-/open-j-memorial-jacky-voison
 -annule-e?tmpl=component)
X-ALT-DESC;FMTTYPE=text/html:<strong>OPEN J      Mémorial Jacky Voison</strong> <font class="attention4"
 >(Epreuve annulée)</font><br /><br />Lieu : LAC BLANC <br />Organisateur : 
 SKI TEAM AVENIR VALLEE DE WEISS  <small>(14343 SKI TEAM AVENIR VALLEE DE WE
 ISS)</small><br />Email : <!-- Cette adresse électronique est protégée cont
 re les robots spammeurs. --><span class="cloaked_email ep_06a1ec17"><span d
 ata-ep-a="&#115;&#116;&#97;" data-ep-b="&#114;"><span data-ep-a="&#118;&#11
 9;&#64;" data-ep-b="o.f"><span data-ep-b="&#97;&#100;&#111;" data-ep-a="&#1
 19;&#97;&#110;"></span></span></span></span><script>RegularLabs.EmailProtec
 tor.unCloak("ep_06a1ec17");</script><br />Telecopie : 03 89 78 23 01<ul typ
 e="disc"><br />&nbsp;&nbsp;Organisateur:SKI TEAM AVENIR VALLEE DE WEIS<li>A
 MVF1091  Slalom Geant <nobr>U8+U10</nobr> Filles<br />&nbsp;&nbsp;OPEN J   
    Mémorial Jacky Voison</li><br />&nbsp;&nbsp;Organisateur:SKI TEAM AVENIR
  VALLEE DE WEIS<li>AMVM1091  Slalom Geant <nobr>U8+U10</nobr> Garçons<br />
 &nbsp;&nbsp;OPEN J      Mémorial Jacky Voison</li><br />&nbsp;&nbsp;Organis
 ateur:SKI TEAM AVENIR VALLEE DE WEIS<li>AMVF1092  Slalom Geant <nobr>de 10 
 a 13ans au 31/12/2012 (Pou/Ben)</nobr> Filles<br />&nbsp;&nbsp;OPEN J      
 Mémorial Jacky Voison</li><br />&nbsp;&nbsp;Organisateur:SKI TEAM AVENIR VA
 LLEE DE WEIS<li>AMVM1092  Slalom Geant <nobr>de 10 a 13ans au 31/12/2012 (P
 ou/Ben)</nobr> Garçons<br />&nbsp;&nbsp;OPEN J      Mémorial Jacky Voison</
 li></ul> <a href="https://skivosges.net/agenda/a-venir/detailevenement/233/
 -/open-j-memorial-jacky-voison-annule-e?tmpl=component">Cet évènement a été
  importé depuis :https://skivosges.net/agenda/a-venir/detailevenement/233/-
 /open-j-memorial-jacky-voison-annule-e?tmpl=component</a>DTSTAMP:20260424T015217
DTSTART;TZID=Europe/Paris:20140323T080000
DTEND;TZID=Europe/Paris:20140323T170000
SEQUENCE:0
TRANSP:OPAQUE
END:VEVENT
END:VCALENDAR