BEGIN:VCALENDAR
VERSION:2.0
PRODID:-//jEvents 2.0 for Joomla//EN
CALSCALE:GREGORIAN
METHOD:PUBLISH
BEGIN:VTIMEZONE
TZID:Europe/Paris
BEGIN:STANDARD
DTSTART:20240118T000000
RDATE:20240331T030000
TZOFFSETFROM:+0200
TZOFFSETTO:+0100
TZNAME:Europe/Paris CET
END:STANDARD
BEGIN:STANDARD
DTSTART:20241027T020000
RDATE:20250330T030000
TZOFFSETFROM:+0200
TZOFFSETTO:+0100
TZNAME:Europe/Paris CET
END:STANDARD
BEGIN:STANDARD
DTSTART:20251026T020000
RDATE:20260329T030000
TZOFFSETFROM:+0200
TZOFFSETTO:+0100
TZNAME:Europe/Paris CET
END:STANDARD
BEGIN:STANDARD
DTSTART:20261025T020000
RDATE:20270328T030000
TZOFFSETFROM:+0200
TZOFFSETTO:+0100
TZNAME:Europe/Paris CET
END:STANDARD
BEGIN:DAYLIGHT
DTSTART:20240331T030000
RDATE:20241027T020000
TZOFFSETFROM:+0100
TZOFFSETTO:+0200
TZNAME:Europe/Paris CEST
END:DAYLIGHT
BEGIN:DAYLIGHT
DTSTART:20250330T030000
RDATE:20251026T020000
TZOFFSETFROM:+0100
TZOFFSETTO:+0200
TZNAME:Europe/Paris CEST
END:DAYLIGHT
BEGIN:DAYLIGHT
DTSTART:20260329T030000
RDATE:20261025T020000
TZOFFSETFROM:+0100
TZOFFSETTO:+0200
TZNAME:Europe/Paris CEST
END:DAYLIGHT
END:VTIMEZONE
BEGIN:VEVENT
UID:c468387687911ef0ac4d260886296e28
CATEGORIES:Circuit Massif Adultes (alpin)
CREATED:20241111T135605
SUMMARY:CAM Coupe du Crédit Mutuel **REPORTE(E) au 07/02/2025**
URL;VALUE=URI:https://skivosges.net/agenda/a-venir/detailevenement/2337/-/cam-coupe-du-cr
 edit-mutuel-reporte-e-au-07-02-2025?tmpl=component
DESCRIPTION:CAM Coupe du Crédit Mutuel (Epreuve reportée au 07/02/2025)\n - Codex évene
 ment AMVT0160\n - Station : LA BRESSE\n - Organisateur : 14024 LA BRESSAUDE
  SECTION SKI\n - Courriel : RegularLabs.EmailProtector.unCloak("ep_6721ceb9
 ");\n - Délégué Technique : HOUILLON PHILIPPEPériode d'inscription à l'evèn
 ement du Samedi 11 Janvier 2025 à 00:00 au Jeudi 16 Janvier 2025 à 12:00Ins
 criptions ouvertes aux detenteurs des titres Fédéraux valides suivants : Li
 cenciés Compétiteurs\n - Voir les informations dans l'agenda... (/index.php
 ?option=com_jevents&amp;task=icalevent.detail&amp;evid=2332&amp;Itemid=6289
 )\n - Vers les résultats... (/index.php?option=com_gskiepreuves&amp;view=af
 ficheresultats&amp;format_option=tous&amp;filter[search]=AMVT0160&amp;filte
 r[date_debut]=07-02-2025&amp;filter[date_fin]=07-02-2025&amp;code_activite=
 ALP&amp;Itemid=6289)Epreuves :\n - Le Samedi 18 Janvier 2025\n - Codex épre
 uve AMVM0161\n - Catégorie(s) : U16 (Garçons)\n - Slalom\n - Le Samedi 18 J
 anvier 2025\n - Codex épreuve AMVF0161\n - Catégorie(s) : U16 (Filles)\n - 
 Slalom\n - Le Samedi 18 Janvier 2025\n - Codex épreuve AMVM0162\n - Catégor
 ie(s) : U18 a Masters (Hommes)\n - Slalom\n - Le Samedi 18 Janvier 2025\n -
  Codex épreuve AMVF0162\n - Catégorie(s) : U18 a Masters (Dames)\n - Slalom
 \n - Voir les informations dans l'agenda... (/index.php?option=com_jevents&
 amp;task=icalevent.detail&amp;evid=2332&amp;Itemid=6289)\n - Vers les résul
 tats... (/index.php?option=com_gskiepreuves&amp;view=afficheresultats&amp;f
 ormat_option=tous&amp;filter[search]=AMVT0160&amp;filter[date_debut]=07-02-
 2025&amp;filter[date_fin]=07-02-2025&amp;code_activite=ALP&amp;Itemid=6289)
  Cet évènement a été importé depuis :https://skivosges.net/agenda/a-venir/d
 etailevenement/2337/-/cam-coupe-du-credit-mutuel-reporte-e-au-07-02-2025?tm
 pl=component (https://skivosges.net/agenda/a-venir/detailevenement/2337/-/c
 am-coupe-du-credit-mutuel-reporte-e-au-07-02-2025?tmpl=component)
X-ALT-DESC;FMTTYPE=text/html:<!-- #gskiepreuve code généré par le plugin jevents pour GskiEpreuves. Ne p
 as modifier cette ligne, ni tout le contenu suivant  #gskiepreuve --><div c
 lass="gski-evenement_infos"><div class="gski-evenement-nom">CAM Coupe du Cr
 édit Mutuel</div><div class="gski-evenement-report"> <font class="gskiatten
 tion">(Epreuve reportée au 07/02/2025)</font></div><ul class="gski-evenemen
 t-liste-infos"><li>Codex évenement AMVT0160</li><li>Station : LA BRESSE</li
 ><li>Organisateur : 14024 LA BRESSAUDE SECTION SKI</li><li>Courriel : <!-- 
 Cette adresse électronique est protégée contre les robots spammeurs. --><sp
 an class="cloaked_email ep_6721ceb9"><span data-ep-b="&#114;" data-ep-a="&#
 121;&#100;o"><span data-ep-a="&#100;in" data-ep-b="e&#46;&#102;"><span data
 -ep-b="&#97;n&#103;" data-ep-a="&#64;o&#114;"></span></span></span></span><
 script>RegularLabs.EmailProtector.unCloak("ep_6721ceb9");</script></li><li>
 <span class="gski-evenement-obs">Délégué Technique : HOUILLON PHILIPPE</spa
 n></li></ul><div class="gski-evenement-infos-2"><div class="gski-evenement-
 info-inscriptions"><div class="gski-evenement-inscriptions-periodes">Périod
 e d'inscription à l'evènement du Samedi 11 Janvier 2025 à 00:00 au Jeudi 16
  Janvier 2025 à 12:00<div class="gski-evenement-inscriptions-types-titres">
 Inscriptions ouvertes aux detenteurs des titres Fédéraux valides suivants :
  Licenciés Compétiteurs</div></div></div><div class="gskiepreuves-links"><u
 l><li><a href="https://skivosges.net/index.php?option=com_jevents&task=ical
 event.detail&evid=2332&Itemid=6289">Voir les informations dans l'agenda...<
 /a></li><li><a href="https://skivosges.net/index.php?option=com_gskiepreuve
 s&view=afficheresultats&format_option=tous&filter[search]=AMVT0160&filter[d
 ate_debut]=07-02-2025&filter[date_fin]=07-02-2025&code_activite=ALP&Itemid=
 6289">Vers les résultats...</a></li></ul></div><div class="gski-evenement-e
 preuves"><div class="gski-evenement-epreuves-titres">Epreuves :</div><ul cl
 ass="gski-evenement-epreuves-list"><li><div class="gski-epreuve-date">Le Sa
 medi 18 Janvier 2025</div><ul class="gski-epreuve-liste-infos"><li>Codex ép
 reuve AMVM0161</li><li>Catégorie(s) : U16 (Garçons)</li><li>Slalom</li></ul
 ></li><li><div class="gski-epreuve-date">Le Samedi 18 Janvier 2025</div><ul
  class="gski-epreuve-liste-infos"><li>Codex épreuve AMVF0161</li><li>Catégo
 rie(s) : U16 (Filles)</li><li>Slalom</li></ul></li><li><div class="gski-epr
 euve-date">Le Samedi 18 Janvier 2025</div><ul class="gski-epreuve-liste-inf
 os"><li>Codex épreuve AMVM0162</li><li>Catégorie(s) : U18 a Masters (Hommes
 )</li><li>Slalom</li></ul></li><li><div class="gski-epreuve-date">Le Samedi
  18 Janvier 2025</div><ul class="gski-epreuve-liste-infos"><li>Codex épreuv
 e AMVF0162</li><li>Catégorie(s) : U18 a Masters (Dames)</li><li>Slalom</li>
 </ul></li></ul></div><div class="gskiepreuves-links"><ul><li><a href="https
 ://skivosges.net/index.php?option=com_jevents&task=icalevent.detail&evid=23
 32&Itemid=6289">Voir les informations dans l'agenda...</a></li><li><a href=
 "https://skivosges.net/index.php?option=com_gskiepreuves&view=afficheresult
 ats&format_option=tous&filter[search]=AMVT0160&filter[date_debut]=07-02-202
 5&filter[date_fin]=07-02-2025&code_activite=ALP&Itemid=6289">Vers les résul
 tats...</a></li></ul></div></div"><!-- #/gskiepreuve fin du dode généré par
  le plugin jevents pour GskiEpreuves. . Ne pas modifier cette ligne, ni tou
 t le contenu précedant.  #/gskiepreuve --> <a href="https://skivosges.net/a
 genda/a-venir/detailevenement/2337/-/cam-coupe-du-credit-mutuel-reporte-e-a
 u-07-02-2025?tmpl=component">Cet évènement a été importé depuis :https://sk
 ivosges.net/agenda/a-venir/detailevenement/2337/-/cam-coupe-du-credit-mutue
 l-reporte-e-au-07-02-2025?tmpl=component</a>DTSTAMP:20260420T221502
DTSTART;TZID=Europe/Paris;VALUE=DATE:20250118
DTEND;TZID=Europe/Paris;VALUE=DATE:20250119
SEQUENCE:0
TRANSP:OPAQUE
END:VEVENT
END:VCALENDAR