BEGIN:VCALENDAR
VERSION:2.0
PRODID:-//jEvents 2.0 for Joomla//EN
CALSCALE:GREGORIAN
METHOD:PUBLISH
BEGIN:VTIMEZONE
TZID:Europe/Paris
BEGIN:STANDARD
DTSTART:20240118T000000
RDATE:20240331T030000
TZOFFSETFROM:+0200
TZOFFSETTO:+0100
TZNAME:Europe/Paris CET
END:STANDARD
BEGIN:STANDARD
DTSTART:20241027T020000
RDATE:20250330T030000
TZOFFSETFROM:+0200
TZOFFSETTO:+0100
TZNAME:Europe/Paris CET
END:STANDARD
BEGIN:STANDARD
DTSTART:20251026T020000
RDATE:20260329T030000
TZOFFSETFROM:+0200
TZOFFSETTO:+0100
TZNAME:Europe/Paris CET
END:STANDARD
BEGIN:STANDARD
DTSTART:20261025T020000
RDATE:20270328T030000
TZOFFSETFROM:+0200
TZOFFSETTO:+0100
TZNAME:Europe/Paris CET
END:STANDARD
BEGIN:DAYLIGHT
DTSTART:20240331T030000
RDATE:20241027T020000
TZOFFSETFROM:+0100
TZOFFSETTO:+0200
TZNAME:Europe/Paris CEST
END:DAYLIGHT
BEGIN:DAYLIGHT
DTSTART:20250330T030000
RDATE:20251026T020000
TZOFFSETFROM:+0100
TZOFFSETTO:+0200
TZNAME:Europe/Paris CEST
END:DAYLIGHT
BEGIN:DAYLIGHT
DTSTART:20260329T030000
RDATE:20261025T020000
TZOFFSETFROM:+0100
TZOFFSETTO:+0200
TZNAME:Europe/Paris CEST
END:DAYLIGHT
END:VTIMEZONE
BEGIN:VEVENT
UID:b1960045777647866f8c18844e9eb354
CATEGORIES:Compétition Ski Alpin
CREATED:20241111T135605
SUMMARY:Promo Coupe Crédit Agricole
URL;VALUE=URI:https://skivosges.net/agenda/a-venir/detailevenement/2339/-/promo-coupe-cre
 dit-agricole?tmpl=component
DESCRIPTION:<!-- #gskiepreuve code généré par le plugin jevents pour GskiEpreuves. Ne p
 as modifier cette ligne, ni tout le contenu suivant  #gskiepreuve --><div c
 lass="gski-evenement_infos"><div class="gski-evenement-nom">Promo Coupe Cré
 dit Agricole</div><div class="gski-evenement-report"></div><ul class="gski-
 evenement-liste-infos"><li>Codex évenement AMVT0190</li><li>Station : LA BR
 ESSE</li><li>Piste : VOLOGNE</li><li>Organisateur : 14024 LA BRESSAUDE SECT
 ION SKI</li><li>Courriel : <!-- Cette adresse électronique est protégée con
 tre les robots spammeurs. --><span class="cloaked_email ep_0332050b"><span 
 data-ep-a="&#111;d&#105;l&#101;" data-ep-b="&#102;&#114;"><span data-ep-a="
 &#46;&#109;u&#110;s" data-ep-b="an&#103;&#101;."><span data-ep-b="&#108;&#9
 8;&#64;&#111;r" data-ep-a="&#99;h&#46;&#115;c"></span></span></span></span>
 <script>RegularLabs.EmailProtector.unCloak("ep_0332050b");</script></li><li
 ><span class="gski-evenement-obs">Délégué Technique : HOUILLON PHILIPPE</sp
 an></li></ul><div class="gski-evenement-infos-2"><div class="gski-evenement
 -info-inscriptions"><div class="gski-evenement-inscriptions-periodes">Pério
 de d'inscription à l'evènement du Samedi 11 Janvier 2025 à 00:00 au Vendred
 i 17 Janvier 2025 à 17:00<div class="gski-evenement-inscriptions-types-titr
 es">Inscriptions ouvertes aux detenteurs des titres Fédéraux valides suivan
 ts : Licenciés Compétiteurs et Titres Loisirs et Dirigeants</div></div></di
 v><div class="gskiepreuves-links"><ul><li><a href="/index.php?option=com_je
 vents&task=icalevent.detail&evid=2334&Itemid=6289">Voir les informations da
 ns l'agenda...</a></li><li><a href="/index.php?option=com_gskiepreuves&view
 =afficheresultats&format_option=tous&filter[search]=AMVT0190&filter[date_de
 but]=18-01-2025&filter[date_fin]=18-01-2025&code_activite=ALP&Itemid=6289">
 Vers les résultats...</a></li><li>Publications concernant cet évènement :<u
 l><li><a href="/index.php?option=com_content&view=article&id=8556&Itemid=62
 89">Samedi 18 Janvier 2025 à 16:30 : Le 18/01/2025 LA BRESSE/Alpin Résultat
 s</a></li></ul></li></ul></div><div class="gski-evenement-epreuves"><div cl
 ass="gski-evenement-epreuves-titres">Epreuves :</div><ul class="gski-evenem
 ent-epreuves-list"><li><div class="gski-epreuve-date">Le Samedi 18 Janvier 
 2025 à 09:30</div><ul class="gski-epreuve-liste-infos"><li>Codex épreuve AM
 VM0191</li><li>Catégorie(s) : U8/U10 (Garçons)</li><li>Slalom Geant</li></u
 l></li><li><div class="gski-epreuve-date">Le Samedi 18 Janvier 2025 à 09:30
 </div><ul class="gski-epreuve-liste-infos"><li>Codex épreuve AMVF0191</li><
 li>Catégorie(s) : U8/U10 (Filles)</li><li>Slalom Geant</li></ul></li><li><d
 iv class="gski-epreuve-date">Le Samedi 18 Janvier 2025 à 09:30</div><ul cla
 ss="gski-epreuve-liste-infos"><li>Codex épreuve AMVM0192</li><li>Catégorie(
 s) : U12/U14 (Garçons)</li><li>Slalom Geant</li></ul></li><li><div class="g
 ski-epreuve-date">Le Samedi 18 Janvier 2025 à 09:30</div><ul class="gski-ep
 reuve-liste-infos"><li>Codex épreuve AMVF0192</li><li>Catégorie(s) : U12/U1
 4 (Filles)</li><li>Slalom Geant</li></ul></li></ul></div><div class="gskiep
 reuves-links"><ul><li><a href="/index.php?option=com_jevents&task=icalevent
 .detail&evid=2334&Itemid=6289">Voir les informations dans l'agenda...</a></
 li><li><a href="/index.php?option=com_gskiepreuves&view=afficheresultats&fo
 rmat_option=tous&filter[search]=AMVT0190&filter[date_debut]=18-01-2025&filt
 er[date_fin]=18-01-2025&code_activite=ALP&Itemid=6289">Vers les résultats..
 .</a></li><li>Publications concernant cet évènement :<ul><li><a href="/inde
 x.php?option=com_content&view=article&id=8556&Itemid=6289">Samedi 18 Janvie
 r 2025 à 16:30 : Le 18/01/2025 LA BRESSE/Alpin Résultats</a></li></ul></li>
 </ul></div></div"><!-- #/gskiepreuve fin du dode généré par le plugin jeven
 ts pour GskiEpreuves. . Ne pas modifier cette ligne, ni tout le contenu pré
 cedant.  #/gskiepreuve --> <a href="https://skivosges.net/agenda/a-venir/de
 tailevenement/2339/-/promo-coupe-credit-agricole?tmpl=component">Cet évènem
 ent a été importé depuis :https://skivosges.net/agenda/a-venir/detailevenem
 ent/2339/-/promo-coupe-credit-agricole?tmpl=component</a>
X-ALT-DESC;FMTTYPE=text/html:<!-- #gskiepreuve code généré par le plugin jevents pour GskiEpreuves. Ne p
 as modifier cette ligne, ni tout le contenu suivant  #gskiepreuve --><div c
 lass="gski-evenement_infos"><div class="gski-evenement-nom">Promo Coupe Cré
 dit Agricole</div><div class="gski-evenement-report"></div><ul class="gski-
 evenement-liste-infos"><li>Codex évenement AMVT0190</li><li>Station : LA BR
 ESSE</li><li>Piste : VOLOGNE</li><li>Organisateur : 14024 LA BRESSAUDE SECT
 ION SKI</li><li>Courriel : <!-- Cette adresse électronique est protégée con
 tre les robots spammeurs. --><span class="cloaked_email ep_0332050b"><span 
 data-ep-a="&#111;d&#105;l&#101;" data-ep-b="&#102;&#114;"><span data-ep-a="
 &#46;&#109;u&#110;s" data-ep-b="an&#103;&#101;."><span data-ep-b="&#108;&#9
 8;&#64;&#111;r" data-ep-a="&#99;h&#46;&#115;c"></span></span></span></span>
 <script>RegularLabs.EmailProtector.unCloak("ep_0332050b");</script></li><li
 ><span class="gski-evenement-obs">Délégué Technique : HOUILLON PHILIPPE</sp
 an></li></ul><div class="gski-evenement-infos-2"><div class="gski-evenement
 -info-inscriptions"><div class="gski-evenement-inscriptions-periodes">Pério
 de d'inscription à l'evènement du Samedi 11 Janvier 2025 à 00:00 au Vendred
 i 17 Janvier 2025 à 17:00<div class="gski-evenement-inscriptions-types-titr
 es">Inscriptions ouvertes aux detenteurs des titres Fédéraux valides suivan
 ts : Licenciés Compétiteurs et Titres Loisirs et Dirigeants</div></div></di
 v><div class="gskiepreuves-links"><ul><li><a href="https://skivosges.net/in
 dex.php?option=com_jevents&task=icalevent.detail&evid=2334&Itemid=6289">Voi
 r les informations dans l'agenda...</a></li><li><a href="https://skivosges.
 net/index.php?option=com_gskiepreuves&view=afficheresultats&format_option=t
 ous&filter[search]=AMVT0190&filter[date_debut]=18-01-2025&filter[date_fin]=
 18-01-2025&code_activite=ALP&Itemid=6289">Vers les résultats...</a></li><li
 >Publications concernant cet évènement :<ul><li><a href="https://skivosges.
 net/index.php?option=com_content&view=article&id=8556&Itemid=6289">Samedi 1
 8 Janvier 2025 à 16:30 : Le 18/01/2025 LA BRESSE/Alpin Résultats</a></li></
 ul></li></ul></div><div class="gski-evenement-epreuves"><div class="gski-ev
 enement-epreuves-titres">Epreuves :</div><ul class="gski-evenement-epreuves
 -list"><li><div class="gski-epreuve-date">Le Samedi 18 Janvier 2025 à 09:30
 </div><ul class="gski-epreuve-liste-infos"><li>Codex épreuve AMVM0191</li><
 li>Catégorie(s) : U8/U10 (Garçons)</li><li>Slalom Geant</li></ul></li><li><
 div class="gski-epreuve-date">Le Samedi 18 Janvier 2025 à 09:30</div><ul cl
 ass="gski-epreuve-liste-infos"><li>Codex épreuve AMVF0191</li><li>Catégorie
 (s) : U8/U10 (Filles)</li><li>Slalom Geant</li></ul></li><li><div class="gs
 ki-epreuve-date">Le Samedi 18 Janvier 2025 à 09:30</div><ul class="gski-epr
 euve-liste-infos"><li>Codex épreuve AMVM0192</li><li>Catégorie(s) : U12/U14
  (Garçons)</li><li>Slalom Geant</li></ul></li><li><div class="gski-epreuve-
 date">Le Samedi 18 Janvier 2025 à 09:30</div><ul class="gski-epreuve-liste-
 infos"><li>Codex épreuve AMVF0192</li><li>Catégorie(s) : U12/U14 (Filles)</
 li><li>Slalom Geant</li></ul></li></ul></div><div class="gskiepreuves-links
 "><ul><li><a href="https://skivosges.net/index.php?option=com_jevents&task=
 icalevent.detail&evid=2334&Itemid=6289">Voir les informations dans l'agenda
 ...</a></li><li><a href="https://skivosges.net/index.php?option=com_gskiepr
 euves&view=afficheresultats&format_option=tous&filter[search]=AMVT0190&filt
 er[date_debut]=18-01-2025&filter[date_fin]=18-01-2025&code_activite=ALP&Ite
 mid=6289">Vers les résultats...</a></li><li>Publications concernant cet évè
 nement :<ul><li><a href="https://skivosges.net/index.php?option=com_content
 &view=article&id=8556&Itemid=6289">Samedi 18 Janvier 2025 à 16:30 : Le 18/0
 1/2025 LA BRESSE/Alpin Résultats</a></li></ul></li></ul></div></div"><!-- #
 /gskiepreuve fin du dode généré par le plugin jevents pour GskiEpreuves. . 
 Ne pas modifier cette ligne, ni tout le contenu précedant.  #/gskiepreuve -
 -> <a href="https://skivosges.net/agenda/a-venir/detailevenement/2339/-/pro
 mo-coupe-credit-agricole?tmpl=component">Cet évènement a été importé depuis
  :https://skivosges.net/agenda/a-venir/detailevenement/2339/-/promo-coupe-c
 redit-agricole?tmpl=component</a>DTSTAMP:20260420T221543
DTSTART;TZID=Europe/Paris;VALUE=DATE:20250118
DTEND;TZID=Europe/Paris;VALUE=DATE:20250119
SEQUENCE:0
TRANSP:OPAQUE
END:VEVENT
END:VCALENDAR