BEGIN:VCALENDAR
VERSION:2.0
PRODID:-//jEvents 2.0 for Joomla//EN
CALSCALE:GREGORIAN
METHOD:PUBLISH
BEGIN:VTIMEZONE
TZID:Europe/Paris
BEGIN:STANDARD
DTSTART:20240118T000000
RDATE:20240331T030000
TZOFFSETFROM:+0200
TZOFFSETTO:+0100
TZNAME:Europe/Paris CET
END:STANDARD
BEGIN:STANDARD
DTSTART:20241027T020000
RDATE:20250330T030000
TZOFFSETFROM:+0200
TZOFFSETTO:+0100
TZNAME:Europe/Paris CET
END:STANDARD
BEGIN:STANDARD
DTSTART:20251026T020000
RDATE:20260329T030000
TZOFFSETFROM:+0200
TZOFFSETTO:+0100
TZNAME:Europe/Paris CET
END:STANDARD
BEGIN:STANDARD
DTSTART:20261025T020000
RDATE:20270328T030000
TZOFFSETFROM:+0200
TZOFFSETTO:+0100
TZNAME:Europe/Paris CET
END:STANDARD
BEGIN:DAYLIGHT
DTSTART:20240331T030000
RDATE:20241027T020000
TZOFFSETFROM:+0100
TZOFFSETTO:+0200
TZNAME:Europe/Paris CEST
END:DAYLIGHT
BEGIN:DAYLIGHT
DTSTART:20250330T030000
RDATE:20251026T020000
TZOFFSETFROM:+0100
TZOFFSETTO:+0200
TZNAME:Europe/Paris CEST
END:DAYLIGHT
BEGIN:DAYLIGHT
DTSTART:20260329T030000
RDATE:20261025T020000
TZOFFSETFROM:+0100
TZOFFSETTO:+0200
TZNAME:Europe/Paris CEST
END:DAYLIGHT
END:VTIMEZONE
BEGIN:VEVENT
UID:c903a2dd89ee09701a658e2bb60b586d
CATEGORIES:Circuit Massif Jeunes (alpin)
CREATED:20241111T135605
SUMMARY:CJM Coupe PAPAJOE Coupe Vola Specksports **REPORTE(E) au 19/01/2025**
URL;VALUE=URI:https://skivosges.net/agenda/a-venir/detailevenement/2340/-/cjm-coupe-papaj
 oe-coupe-vola-specksports-reporte-e-au-19-01-2025?tmpl=component
DESCRIPTION:CJM Coupe PAPAJOE Coupe Vola Specksports (Epreuve reportée au 19/01/2025)\n
  - Codex évenement AMVT0170\n - Station : MARKSTEIN\n - Organisateur : 1408
 1 SKI CLUB ROSSBERG THANN\n - Courriel : RegularLabs.EmailProtector.unCloak
 ("ep_7c3ca51e");\n - Téléphone : 03 89 37 92 28\n - Délégué Technique : SPA
 NNAGEL PASCALPériode d'inscription à l'evènement du Samedi 11 Janvier 2025 
 à 00:00 au Vendredi 17 Janvier 2025 à 12:00Inscriptions ouvertes aux detent
 eurs des titres Fédéraux valides suivants : Licenciés Compétiteurs\n - Voir
  les informations dans l'agenda... (/index.php?option=com_jevents&amp;task=
 icalevent.detail&amp;evid=2335&amp;Itemid=6289)\n - Vers les résultats... (
 /index.php?option=com_gskiepreuves&amp;view=afficheresultats&amp;format_opt
 ion=tous&amp;filter[search]=AMVT0170&amp;filter[date_debut]=19-01-2025&amp;
 filter[date_fin]=19-01-2025&amp;code_activite=ALP&amp;Itemid=6289)\n - Publ
 ications concernant cet évènement :\n - Dimanche 19 Janvier 2025 à 14:41 : 
 Le 19/01/2025 BALLON D'ALSACE/Alpin RésultatsEpreuves :\n - Le Samedi 18 Ja
 nvier 2025\n - Codex épreuve AMVM0171\n - Catégorie(s) : U12 (Garçons)\n - 
 Slalom Geant\n - Le Samedi 18 Janvier 2025\n - Codex épreuve AMVF0171\n - C
 atégorie(s) : U12 (Filles)\n - Slalom Geant\n - Le Samedi 18 Janvier 2025\n
  - Codex épreuve AMVM0172\n - Catégorie(s) : U14 (Garçons)\n - Slalom Geant
 \n - Le Samedi 18 Janvier 2025\n - Codex épreuve AMVF0172\n - Catégorie(s) 
 : U14 (Filles)\n - Slalom Geant\n - Voir les informations dans l'agenda... 
 (/index.php?option=com_jevents&amp;task=icalevent.detail&amp;evid=2335&amp;
 Itemid=6289)\n - Vers les résultats... (/index.php?option=com_gskiepreuves&
 amp;view=afficheresultats&amp;format_option=tous&amp;filter[search]=AMVT017
 0&amp;filter[date_debut]=19-01-2025&amp;filter[date_fin]=19-01-2025&amp;cod
 e_activite=ALP&amp;Itemid=6289)\n - Publications concernant cet évènement :
 \n - Dimanche 19 Janvier 2025 à 14:41 : Le 19/01/2025 BALLON D'ALSACE/Alpin
  Résultats Cet évènement a été importé depuis :https://skivosges.net/agenda
 /a-venir/detailevenement/2340/-/cjm-coupe-papajoe-coupe-vola-specksports-re
 porte-e-au-19-01-2025?tmpl=component
X-ALT-DESC;FMTTYPE=text/html:<!-- #gskiepreuve code généré par le plugin jevents pour GskiEpreuves. Ne p
 as modifier cette ligne, ni tout le contenu suivant  #gskiepreuve --><div c
 lass="gski-evenement_infos"><div class="gski-evenement-nom">CJM Coupe PAPAJ
 OE Coupe Vola Specksports</div><div class="gski-evenement-report"> <font cl
 ass="gskiattention">(Epreuve reportée au 19/01/2025)</font></div><ul class=
 "gski-evenement-liste-infos"><li>Codex évenement AMVT0170</li><li>Station :
  MARKSTEIN</li><li>Organisateur : 14081 SKI CLUB ROSSBERG THANN</li><li>Cou
 rriel : <!-- Cette adresse électronique est protégée contre les robots spam
 meurs. --><span class="cloaked_email ep_7c3ca51e"><span data-ep-a="&#99;&#1
 11;&#117;&#114;" data-ep-b=""><span data-ep-b="&#46;&#99;&#111;&#109;" data
 -ep-a="&#115;&#101;&#115;&#64;"><span data-ep-a="t&#104;&#97;&#110;" data-e
 p-b="ns&#107;&#105;"></span></span></span></span><script>RegularLabs.EmailP
 rotector.unCloak("ep_7c3ca51e");</script></li><li>Téléphone : 03 89 37 92 2
 8</li><li><span class="gski-evenement-obs">Délégué Technique : SPANNAGEL PA
 SCAL</span></li></ul><div class="gski-evenement-infos-2"><div class="gski-e
 venement-info-inscriptions"><div class="gski-evenement-inscriptions-periode
 s">Période d'inscription à l'evènement du Samedi 11 Janvier 2025 à 00:00 au
  Vendredi 17 Janvier 2025 à 12:00<div class="gski-evenement-inscriptions-ty
 pes-titres">Inscriptions ouvertes aux detenteurs des titres Fédéraux valide
 s suivants : Licenciés Compétiteurs</div></div></div><div class="gskiepreuv
 es-links"><ul><li><a href="https://skivosges.net/index.php?option=com_jeven
 ts&task=icalevent.detail&evid=2335&Itemid=6289">Voir les informations dans 
 l'agenda...</a></li><li><a href="https://skivosges.net/index.php?option=com
 _gskiepreuves&view=afficheresultats&format_option=tous&filter[search]=AMVT0
 170&filter[date_debut]=19-01-2025&filter[date_fin]=19-01-2025&code_activite
 =ALP&Itemid=6289">Vers les résultats...</a></li><li>Publications concernant
  cet évènement :<ul><li><a href="https://skivosges.net/index.php?option=com
 _content&view=article&id=8560&Itemid=6289">Dimanche 19 Janvier 2025 à 14:41
  : Le 19/01/2025 BALLON D'ALSACE/Alpin Résultats</a></li></ul></li></ul></d
 iv><div class="gski-evenement-epreuves"><div class="gski-evenement-epreuves
 -titres">Epreuves :</div><ul class="gski-evenement-epreuves-list"><li><div 
 class="gski-epreuve-date">Le Samedi 18 Janvier 2025</div><ul class="gski-ep
 reuve-liste-infos"><li>Codex épreuve AMVM0171</li><li>Catégorie(s) : U12 (G
 arçons)</li><li>Slalom Geant</li></ul></li><li><div class="gski-epreuve-dat
 e">Le Samedi 18 Janvier 2025</div><ul class="gski-epreuve-liste-infos"><li>
 Codex épreuve AMVF0171</li><li>Catégorie(s) : U12 (Filles)</li><li>Slalom G
 eant</li></ul></li><li><div class="gski-epreuve-date">Le Samedi 18 Janvier 
 2025</div><ul class="gski-epreuve-liste-infos"><li>Codex épreuve AMVM0172</
 li><li>Catégorie(s) : U14 (Garçons)</li><li>Slalom Geant</li></ul></li><li>
 <div class="gski-epreuve-date">Le Samedi 18 Janvier 2025</div><ul class="gs
 ki-epreuve-liste-infos"><li>Codex épreuve AMVF0172</li><li>Catégorie(s) : U
 14 (Filles)</li><li>Slalom Geant</li></ul></li></ul></div><div class="gskie
 preuves-links"><ul><li><a href="https://skivosges.net/index.php?option=com_
 jevents&task=icalevent.detail&evid=2335&Itemid=6289">Voir les informations 
 dans l'agenda...</a></li><li><a href="https://skivosges.net/index.php?optio
 n=com_gskiepreuves&view=afficheresultats&format_option=tous&filter[search]=
 AMVT0170&filter[date_debut]=19-01-2025&filter[date_fin]=19-01-2025&code_act
 ivite=ALP&Itemid=6289">Vers les résultats...</a></li><li>Publications conce
 rnant cet évènement :<ul><li><a href="https://skivosges.net/index.php?optio
 n=com_content&view=article&id=8560&Itemid=6289">Dimanche 19 Janvier 2025 à 
 14:41 : Le 19/01/2025 BALLON D'ALSACE/Alpin Résultats</a></li></ul></li></u
 l></div></div"><!-- #/gskiepreuve fin du dode généré par le plugin jevents 
 pour GskiEpreuves. . Ne pas modifier cette ligne, ni tout le contenu préced
 ant.  #/gskiepreuve --> <a href="https://skivosges.net/agenda/a-venir/detai
 levenement/2340/-/cjm-coupe-papajoe-coupe-vola-specksports-reporte-e-au-19-
 01-2025?tmpl=component">Cet évènement a été importé depuis :https://skivosg
 es.net/agenda/a-venir/detailevenement/2340/-/cjm-coupe-papajoe-coupe-vola-s
 pecksports-reporte-e-au-19-01-2025?tmpl=component</a>DTSTAMP:20260420T221503
DTSTART;TZID=Europe/Paris;VALUE=DATE:20250118
DTEND;TZID=Europe/Paris;VALUE=DATE:20250119
SEQUENCE:0
TRANSP:OPAQUE
END:VEVENT
END:VCALENDAR