BEGIN:VCALENDAR
VERSION:2.0
PRODID:-//jEvents 2.0 for Joomla//EN
CALSCALE:GREGORIAN
METHOD:PUBLISH
BEGIN:VTIMEZONE
TZID:Europe/Paris
BEGIN:STANDARD
DTSTART:20240118T000000
RDATE:20240331T030000
TZOFFSETFROM:+0200
TZOFFSETTO:+0100
TZNAME:Europe/Paris CET
END:STANDARD
BEGIN:STANDARD
DTSTART:20241027T020000
RDATE:20250330T030000
TZOFFSETFROM:+0200
TZOFFSETTO:+0100
TZNAME:Europe/Paris CET
END:STANDARD
BEGIN:STANDARD
DTSTART:20251026T020000
RDATE:20260329T030000
TZOFFSETFROM:+0200
TZOFFSETTO:+0100
TZNAME:Europe/Paris CET
END:STANDARD
BEGIN:STANDARD
DTSTART:20261025T020000
RDATE:20270328T030000
TZOFFSETFROM:+0200
TZOFFSETTO:+0100
TZNAME:Europe/Paris CET
END:STANDARD
BEGIN:DAYLIGHT
DTSTART:20240331T030000
RDATE:20241027T020000
TZOFFSETFROM:+0100
TZOFFSETTO:+0200
TZNAME:Europe/Paris CEST
END:DAYLIGHT
BEGIN:DAYLIGHT
DTSTART:20250330T030000
RDATE:20251026T020000
TZOFFSETFROM:+0100
TZOFFSETTO:+0200
TZNAME:Europe/Paris CEST
END:DAYLIGHT
BEGIN:DAYLIGHT
DTSTART:20260329T030000
RDATE:20261025T020000
TZOFFSETFROM:+0100
TZOFFSETTO:+0200
TZNAME:Europe/Paris CEST
END:DAYLIGHT
END:VTIMEZONE
BEGIN:VEVENT
UID:ede256138451153aac79c3678210a6ba
CATEGORIES:Circuit Massif Masters (alpin)
CREATED:20241111T135605
SUMMARY:CMM Coupe du Crédit Mutuel **REPORTE(E) au 07/02/2025**
URL;VALUE=URI:https://skivosges.net/agenda/a-venir/detailevenement/2341/-/cmm-coupe-du-cr
 edit-mutuel-reporte-e-au-07-02-2025?tmpl=component
DESCRIPTION:<!-- #gskiepreuve code généré par le plugin jevents pour GskiEpreuves. Ne p
 as modifier cette ligne, ni tout le contenu suivant  #gskiepreuve --><div c
 lass="gski-evenement_infos"><div class="gski-evenement-nom">CMM Coupe du Cr
 édit Mutuel</div><div class="gski-evenement-report"> <font class="gskiatten
 tion">(Epreuve reportée au 07/02/2025)</font></div><ul class="gski-evenemen
 t-liste-infos"><li>Codex évenement AMVT0180</li><li>Station : LA BRESSE</li
 ><li>Organisateur : 14024 LA BRESSAUDE SECTION SKI</li><li>Courriel : <!-- 
 Cette adresse électronique est protégée contre les robots spammeurs. --><sp
 an class="cloaked_email ep_a19b3068"><span data-ep-b="r" data-ep-a="&#121;d
 &#111;"><span data-ep-a="&#100;in" data-ep-b="&#101;&#46;&#102;"><span data
 -ep-a="&#64;&#111;&#114;" data-ep-b="&#97;ng"></span></span></span></span><
 script>RegularLabs.EmailProtector.unCloak("ep_a19b3068");</script></li><li>
 <span class="gski-evenement-obs">Délégué Technique : HOUILLON PHILIPPE</spa
 n></li></ul><div class="gski-evenement-infos-2"><div class="gski-evenement-
 info-inscriptions"><div class="gski-evenement-inscriptions-periodes">Périod
 e d'inscription à l'evènement du Samedi 11 Janvier 2025 à 00:00 au Jeudi 16
  Janvier 2025 à 12:00<div class="gski-evenement-inscriptions-types-titres">
 Inscriptions ouvertes aux detenteurs des titres Fédéraux valides suivants :
  Licenciés Compétiteurs</div></div></div><div class="gskiepreuves-links"><u
 l><li><a href="/index.php?option=com_jevents&task=icalevent.detail&evid=233
 6&Itemid=6289">Voir les informations dans l'agenda...</a></li><li><a href="
 /index.php?option=com_gskiepreuves&view=afficheresultats&format_option=tous
 &filter[search]=AMVT0180&filter[date_debut]=07-02-2025&filter[date_fin]=07-
 02-2025&code_activite=ALP&Itemid=6289">Vers les résultats...</a></li></ul><
 /div><div class="gski-evenement-epreuves"><div class="gski-evenement-epreuv
 es-titres">Epreuves :</div><ul class="gski-evenement-epreuves-list"><li><di
 v class="gski-epreuve-date">Le Samedi 18 Janvier 2025</div><ul class="gski-
 epreuve-liste-infos"><li>Codex épreuve AMVM0181</li><li>Catégorie(s) : Tous
  les Masters+U21+U30 Hommes (Hommes)</li><li>Slalom</li></ul></li><li><div 
 class="gski-epreuve-date">Le Samedi 18 Janvier 2025</div><ul class="gski-ep
 reuve-liste-infos"><li>Codex épreuve AMVF0181</li><li>Catégorie(s) : Tous l
 es Masters+U21+U30 Dames (Dames)</li><li>Slalom</li></ul></li></ul></div><d
 iv class="gskiepreuves-links"><ul><li><a href="/index.php?option=com_jevent
 s&task=icalevent.detail&evid=2336&Itemid=6289">Voir les informations dans l
 'agenda...</a></li><li><a href="/index.php?option=com_gskiepreuves&view=aff
 icheresultats&format_option=tous&filter[search]=AMVT0180&filter[date_debut]
 =07-02-2025&filter[date_fin]=07-02-2025&code_activite=ALP&Itemid=6289">Vers
  les résultats...</a></li></ul></div></div"><!-- #/gskiepreuve fin du dode 
 généré par le plugin jevents pour GskiEpreuves. . Ne pas modifier cette lig
 ne, ni tout le contenu précedant.  #/gskiepreuve --> <a href="https://skivo
 sges.net/agenda/a-venir/detailevenement/2341/-/cmm-coupe-du-credit-mutuel-r
 eporte-e-au-07-02-2025?tmpl=component">Cet évènement a été importé depuis :
 https://skivosges.net/agenda/a-venir/detailevenement/2341/-/cmm-coupe-du-cr
 edit-mutuel-reporte-e-au-07-02-2025?tmpl=component</a>
X-ALT-DESC;FMTTYPE=text/html:<!-- #gskiepreuve code généré par le plugin jevents pour GskiEpreuves. Ne p
 as modifier cette ligne, ni tout le contenu suivant  #gskiepreuve --><div c
 lass="gski-evenement_infos"><div class="gski-evenement-nom">CMM Coupe du Cr
 édit Mutuel</div><div class="gski-evenement-report"> <font class="gskiatten
 tion">(Epreuve reportée au 07/02/2025)</font></div><ul class="gski-evenemen
 t-liste-infos"><li>Codex évenement AMVT0180</li><li>Station : LA BRESSE</li
 ><li>Organisateur : 14024 LA BRESSAUDE SECTION SKI</li><li>Courriel : <!-- 
 Cette adresse électronique est protégée contre les robots spammeurs. --><sp
 an class="cloaked_email ep_a19b3068"><span data-ep-b="r" data-ep-a="&#121;d
 &#111;"><span data-ep-a="&#100;in" data-ep-b="&#101;&#46;&#102;"><span data
 -ep-a="&#64;&#111;&#114;" data-ep-b="&#97;ng"></span></span></span></span><
 script>RegularLabs.EmailProtector.unCloak("ep_a19b3068");</script></li><li>
 <span class="gski-evenement-obs">Délégué Technique : HOUILLON PHILIPPE</spa
 n></li></ul><div class="gski-evenement-infos-2"><div class="gski-evenement-
 info-inscriptions"><div class="gski-evenement-inscriptions-periodes">Périod
 e d'inscription à l'evènement du Samedi 11 Janvier 2025 à 00:00 au Jeudi 16
  Janvier 2025 à 12:00<div class="gski-evenement-inscriptions-types-titres">
 Inscriptions ouvertes aux detenteurs des titres Fédéraux valides suivants :
  Licenciés Compétiteurs</div></div></div><div class="gskiepreuves-links"><u
 l><li><a href="https://skivosges.net/index.php?option=com_jevents&task=ical
 event.detail&evid=2336&Itemid=6289">Voir les informations dans l'agenda...<
 /a></li><li><a href="https://skivosges.net/index.php?option=com_gskiepreuve
 s&view=afficheresultats&format_option=tous&filter[search]=AMVT0180&filter[d
 ate_debut]=07-02-2025&filter[date_fin]=07-02-2025&code_activite=ALP&Itemid=
 6289">Vers les résultats...</a></li></ul></div><div class="gski-evenement-e
 preuves"><div class="gski-evenement-epreuves-titres">Epreuves :</div><ul cl
 ass="gski-evenement-epreuves-list"><li><div class="gski-epreuve-date">Le Sa
 medi 18 Janvier 2025</div><ul class="gski-epreuve-liste-infos"><li>Codex ép
 reuve AMVM0181</li><li>Catégorie(s) : Tous les Masters+U21+U30 Hommes (Homm
 es)</li><li>Slalom</li></ul></li><li><div class="gski-epreuve-date">Le Same
 di 18 Janvier 2025</div><ul class="gski-epreuve-liste-infos"><li>Codex épre
 uve AMVF0181</li><li>Catégorie(s) : Tous les Masters+U21+U30 Dames (Dames)<
 /li><li>Slalom</li></ul></li></ul></div><div class="gskiepreuves-links"><ul
 ><li><a href="https://skivosges.net/index.php?option=com_jevents&task=icale
 vent.detail&evid=2336&Itemid=6289">Voir les informations dans l'agenda...</
 a></li><li><a href="https://skivosges.net/index.php?option=com_gskiepreuves
 &view=afficheresultats&format_option=tous&filter[search]=AMVT0180&filter[da
 te_debut]=07-02-2025&filter[date_fin]=07-02-2025&code_activite=ALP&Itemid=6
 289">Vers les résultats...</a></li></ul></div></div"><!-- #/gskiepreuve fin
  du dode généré par le plugin jevents pour GskiEpreuves. . Ne pas modifier 
 cette ligne, ni tout le contenu précedant.  #/gskiepreuve --> <a href="http
 s://skivosges.net/agenda/a-venir/detailevenement/2341/-/cmm-coupe-du-credit
 -mutuel-reporte-e-au-07-02-2025?tmpl=component">Cet évènement a été importé
  depuis :https://skivosges.net/agenda/a-venir/detailevenement/2341/-/cmm-co
 upe-du-credit-mutuel-reporte-e-au-07-02-2025?tmpl=component</a>DTSTAMP:20260420T221546
DTSTART;TZID=Europe/Paris;VALUE=DATE:20250118
DTEND;TZID=Europe/Paris;VALUE=DATE:20250119
SEQUENCE:0
TRANSP:OPAQUE
END:VEVENT
END:VCALENDAR