BEGIN:VCALENDAR
VERSION:2.0
PRODID:-//jEvents 2.0 for Joomla//EN
CALSCALE:GREGORIAN
METHOD:PUBLISH
BEGIN:VTIMEZONE
TZID:Europe/Paris
BEGIN:STANDARD
DTSTART:20240118T000000
RDATE:20240331T030000
TZOFFSETFROM:+0200
TZOFFSETTO:+0100
TZNAME:Europe/Paris CET
END:STANDARD
BEGIN:STANDARD
DTSTART:20241027T020000
RDATE:20250330T030000
TZOFFSETFROM:+0200
TZOFFSETTO:+0100
TZNAME:Europe/Paris CET
END:STANDARD
BEGIN:STANDARD
DTSTART:20251026T020000
RDATE:20260329T030000
TZOFFSETFROM:+0200
TZOFFSETTO:+0100
TZNAME:Europe/Paris CET
END:STANDARD
BEGIN:STANDARD
DTSTART:20261025T020000
RDATE:20270328T030000
TZOFFSETFROM:+0200
TZOFFSETTO:+0100
TZNAME:Europe/Paris CET
END:STANDARD
BEGIN:DAYLIGHT
DTSTART:20240331T030000
RDATE:20241027T020000
TZOFFSETFROM:+0100
TZOFFSETTO:+0200
TZNAME:Europe/Paris CEST
END:DAYLIGHT
BEGIN:DAYLIGHT
DTSTART:20250330T030000
RDATE:20251026T020000
TZOFFSETFROM:+0100
TZOFFSETTO:+0200
TZNAME:Europe/Paris CEST
END:DAYLIGHT
BEGIN:DAYLIGHT
DTSTART:20260329T030000
RDATE:20261025T020000
TZOFFSETFROM:+0100
TZOFFSETTO:+0200
TZNAME:Europe/Paris CEST
END:DAYLIGHT
END:VTIMEZONE
BEGIN:VEVENT
UID:fd9d9bba8b529343128c7b7ba38e1840
CATEGORIES:Circuit Alsace Adultes (alpin)
CREATED:20241111T135605
SUMMARY:CAA Prix des skieurs du Tanet **REPORTE**
URL;VALUE=URI:https://skivosges.net/agenda/a-venir/detailevenement/2343/-/caa-prix-des-sk
 ieurs-du-tanet-reporte?tmpl=component
DESCRIPTION:<!-- #gskiepreuve code généré par le plugin jevents pour GskiEpreuves. Ne p
 as modifier cette ligne, ni tout le contenu suivant  #gskiepreuve --><div c
 lass="gski-evenement_infos"><div class="gski-evenement-nom">CAA Prix des sk
 ieurs du Tanet</div><div class="gski-evenement-report"> <font class="gskiat
 tention">(Epreuve reportée, date à determiner)</font></div><ul class="gski-
 evenement-liste-infos"><li>Codex évenement AMVT0150</li><li>Station : SCHNE
 PFENRIED</li><li>Organisateur : 14199 SKIEURS DU TANET</li><li>Courriel : <
 !-- Cette adresse électronique est protégée contre les robots spammeurs. --
 ><span class="cloaked_email ep_b809719c"><span data-ep-a="alai" data-ep-b="
 &#101;.&#102;&#114;"><span data-ep-b="r&#118;i&#99;" data-ep-a="&#110;&#46;
 m&#101;"><span data-ep-a="&#121;er&#64;" data-ep-b="t&#112;&#115;&#101;"></
 span></span></span></span><script>RegularLabs.EmailProtector.unCloak("ep_b8
 09719c");</script></li><li>Téléphone : 06.77.87.37.11</li></ul><div class="
 gski-evenement-infos-2"><div class="gski-evenement-info-inscriptions"><div 
 class="gski-evenement-inscriptions-periodes">Période d'inscription à l'evèn
 ement du Samedi 11 Janvier 2025 à 00:00 au Jeudi 16 Janvier 2025 à 12:00<di
 v class="gski-evenement-inscriptions-types-titres">Inscriptions ouvertes au
 x detenteurs des titres Fédéraux valides suivants : Licenciés Compétiteurs<
 /div></div></div><div class="gskiepreuves-links"><ul><li><a href="/index.ph
 p?option=com_jevents&task=icalevent.detail&evid=2338&Itemid=6289">Voir les 
 informations dans l'agenda...</a></li></ul></div><div class="gski-evenement
 -epreuves"><div class="gski-evenement-epreuves-titres">Epreuves :</div><ul 
 class="gski-evenement-epreuves-list"><li><div class="gski-epreuve-date">Le 
 Samedi 18 Janvier 2025</div><ul class="gski-epreuve-liste-infos"><li>Codex 
 épreuve AMVM0151</li><li>Catégorie(s) : U16 (Garçons)</li><li>Slalom</li></
 ul></li><li><div class="gski-epreuve-date">Le Samedi 18 Janvier 2025</div><
 ul class="gski-epreuve-liste-infos"><li>Codex épreuve AMVF0151</li><li>Caté
 gorie(s) : U16 (Filles)</li><li>Slalom</li></ul></li></ul></div><div class=
 "gskiepreuves-links"><ul><li><a href="/index.php?option=com_jevents&task=ic
 alevent.detail&evid=2338&Itemid=6289">Voir les informations dans l'agenda..
 .</a></li></ul></div></div"><!-- #/gskiepreuve fin du dode généré par le pl
 ugin jevents pour GskiEpreuves. . Ne pas modifier cette ligne, ni tout le c
 ontenu précedant.  #/gskiepreuve --> <a href="https://skivosges.net/agenda/
 a-venir/detailevenement/2343/-/caa-prix-des-skieurs-du-tanet-reporte?tmpl=c
 omponent">Cet évènement a été importé depuis :https://skivosges.net/agenda/
 a-venir/detailevenement/2343/-/caa-prix-des-skieurs-du-tanet-reporte?tmpl=c
 omponent</a>
X-ALT-DESC;FMTTYPE=text/html:<!-- #gskiepreuve code généré par le plugin jevents pour GskiEpreuves. Ne p
 as modifier cette ligne, ni tout le contenu suivant  #gskiepreuve --><div c
 lass="gski-evenement_infos"><div class="gski-evenement-nom">CAA Prix des sk
 ieurs du Tanet</div><div class="gski-evenement-report"> <font class="gskiat
 tention">(Epreuve reportée, date à determiner)</font></div><ul class="gski-
 evenement-liste-infos"><li>Codex évenement AMVT0150</li><li>Station : SCHNE
 PFENRIED</li><li>Organisateur : 14199 SKIEURS DU TANET</li><li>Courriel : <
 !-- Cette adresse électronique est protégée contre les robots spammeurs. --
 ><span class="cloaked_email ep_b809719c"><span data-ep-a="alai" data-ep-b="
 &#101;.&#102;&#114;"><span data-ep-b="r&#118;i&#99;" data-ep-a="&#110;&#46;
 m&#101;"><span data-ep-a="&#121;er&#64;" data-ep-b="t&#112;&#115;&#101;"></
 span></span></span></span><script>RegularLabs.EmailProtector.unCloak("ep_b8
 09719c");</script></li><li>Téléphone : 06.77.87.37.11</li></ul><div class="
 gski-evenement-infos-2"><div class="gski-evenement-info-inscriptions"><div 
 class="gski-evenement-inscriptions-periodes">Période d'inscription à l'evèn
 ement du Samedi 11 Janvier 2025 à 00:00 au Jeudi 16 Janvier 2025 à 12:00<di
 v class="gski-evenement-inscriptions-types-titres">Inscriptions ouvertes au
 x detenteurs des titres Fédéraux valides suivants : Licenciés Compétiteurs<
 /div></div></div><div class="gskiepreuves-links"><ul><li><a href="https://s
 kivosges.net/index.php?option=com_jevents&task=icalevent.detail&evid=2338&I
 temid=6289">Voir les informations dans l'agenda...</a></li></ul></div><div 
 class="gski-evenement-epreuves"><div class="gski-evenement-epreuves-titres"
 >Epreuves :</div><ul class="gski-evenement-epreuves-list"><li><div class="g
 ski-epreuve-date">Le Samedi 18 Janvier 2025</div><ul class="gski-epreuve-li
 ste-infos"><li>Codex épreuve AMVM0151</li><li>Catégorie(s) : U16 (Garçons)<
 /li><li>Slalom</li></ul></li><li><div class="gski-epreuve-date">Le Samedi 1
 8 Janvier 2025</div><ul class="gski-epreuve-liste-infos"><li>Codex épreuve 
 AMVF0151</li><li>Catégorie(s) : U16 (Filles)</li><li>Slalom</li></ul></li><
 /ul></div><div class="gskiepreuves-links"><ul><li><a href="https://skivosge
 s.net/index.php?option=com_jevents&task=icalevent.detail&evid=2338&Itemid=6
 289">Voir les informations dans l'agenda...</a></li></ul></div></div"><!-- 
 #/gskiepreuve fin du dode généré par le plugin jevents pour GskiEpreuves. .
  Ne pas modifier cette ligne, ni tout le contenu précedant.  #/gskiepreuve 
 --> <a href="https://skivosges.net/agenda/a-venir/detailevenement/2343/-/ca
 a-prix-des-skieurs-du-tanet-reporte?tmpl=component">Cet évènement a été imp
 orté depuis :https://skivosges.net/agenda/a-venir/detailevenement/2343/-/ca
 a-prix-des-skieurs-du-tanet-reporte?tmpl=component</a>DTSTAMP:20260420T221544
DTSTART;TZID=Europe/Paris;VALUE=DATE:20250118
DTEND;TZID=Europe/Paris;VALUE=DATE:20250119
SEQUENCE:0
TRANSP:OPAQUE
END:VEVENT
END:VCALENDAR