BEGIN:VCALENDAR
VERSION:2.0
PRODID:-//jEvents 2.0 for Joomla//EN
CALSCALE:GREGORIAN
METHOD:PUBLISH
BEGIN:VTIMEZONE
TZID:Europe/Paris
BEGIN:STANDARD
DTSTART:20240119T000000
RDATE:20240331T030000
TZOFFSETFROM:+0200
TZOFFSETTO:+0100
TZNAME:Europe/Paris CET
END:STANDARD
BEGIN:STANDARD
DTSTART:20241027T020000
RDATE:20250330T030000
TZOFFSETFROM:+0200
TZOFFSETTO:+0100
TZNAME:Europe/Paris CET
END:STANDARD
BEGIN:STANDARD
DTSTART:20251026T020000
RDATE:20260329T030000
TZOFFSETFROM:+0200
TZOFFSETTO:+0100
TZNAME:Europe/Paris CET
END:STANDARD
BEGIN:STANDARD
DTSTART:20261025T020000
RDATE:20270328T030000
TZOFFSETFROM:+0200
TZOFFSETTO:+0100
TZNAME:Europe/Paris CET
END:STANDARD
BEGIN:DAYLIGHT
DTSTART:20240331T030000
RDATE:20241027T020000
TZOFFSETFROM:+0100
TZOFFSETTO:+0200
TZNAME:Europe/Paris CEST
END:DAYLIGHT
BEGIN:DAYLIGHT
DTSTART:20250330T030000
RDATE:20251026T020000
TZOFFSETFROM:+0100
TZOFFSETTO:+0200
TZNAME:Europe/Paris CEST
END:DAYLIGHT
BEGIN:DAYLIGHT
DTSTART:20260329T030000
RDATE:20261025T020000
TZOFFSETFROM:+0100
TZOFFSETTO:+0200
TZNAME:Europe/Paris CEST
END:DAYLIGHT
END:VTIMEZONE
BEGIN:VEVENT
UID:37d2950a7c6f17ae19a5f61a50b64f38
CATEGORIES:Compétition Ski Alpin
CREATED:20241111T135605
SUMMARY:Promo Prix de la Ville de St Maurice **REPORTE(E) au 09/03/2025**
URL;VALUE=URI:https://skivosges.net/agenda/a-venir/detailevenement/2345/-/promo-prix-de-l
 a-ville-de-st-maurice-reporte-e-au-09-03-2025?tmpl=component
DESCRIPTION:<!-- #gskiepreuve code généré par le plugin jevents pour GskiEpreuves. Ne p
 as modifier cette ligne, ni tout le contenu suivant  #gskiepreuve --><div c
 lass="gski-evenement_infos"><div class="gski-evenement-nom">Promo Prix de l
 a Ville de St Maurice</div><div class="gski-evenement-report"> <font class=
 "gskiattention">(Epreuve reportée au 09/03/2025)</font></div><ul class="gsk
 i-evenement-liste-infos"><li>Codex évenement AMVT0200</li><li>Lieu : GENTIA
 NE</li><li>Station : BALLON D&#039;ALSACE</li><li>Piste : LA GRANDE GENTIAN
 E</li><li>Organisateur : 14063 SKIEURS DE ST MAURICE/MOSELLE</li><li>Courri
 el : <!-- Cette adresse électronique est protégée contre les robots spammeu
 rs. --><span class="cloaked_email ep_024f1381"><span data-ep-a="&#100;a&#11
 0;&#105;" data-ep-b=""><span data-ep-b="&#114;&#46;&#102;r" data-ep-a="&#10
 1;&#108;.&#109;"><span data-ep-a="or&#101;&#108;" data-ep-b="5&#64;&#115;f"
 ></span></span></span></span><script>RegularLabs.EmailProtector.unCloak("ep
 _024f1381");</script></li><li><span class="gski-evenement-obs">Délégué Tech
 nique : CORNIL PIERRE-YVES</span></li></ul><div class="gski-evenement-infos
 -2"><div class="gski-evenement-info-inscriptions"><div class="gski-evenemen
 t-inscriptions-periodes">Période d'inscription à l'evènement du Dimanche 12
  Janvier 2025 à 00:00 au Vendredi 17 Janvier 2025 à 12:00<div class="gski-e
 venement-inscriptions-types-titres">Inscriptions ouvertes aux detenteurs de
 s titres Fédéraux valides suivants : Licenciés Compétiteurs et Titres Loisi
 rs et Dirigeants</div></div></div><div class="gskiepreuves-links"><ul><li><
 a href="/index.php?option=com_jevents&task=icalevent.detail&evid=2340&Itemi
 d=6289">Voir les informations dans l'agenda...</a></li><li><a href="/index.
 php?option=com_gskiepreuves&view=afficheresultats&format_option=tous&filter
 [search]=AMVT0200&filter[date_debut]=09-03-2025&filter[date_fin]=09-03-2025
 &code_activite=ALP&Itemid=6289">Vers les résultats...</a></li><li>Publicati
 ons concernant cet évènement :<ul><li><a href="/index.php?option=com_conten
 t&view=article&id=8664&Itemid=6289">Dimanche 9 Mars 2025 à 18:26 : Le 09/03
 /2025 BALLON D'ALSACE/Alpin Résultats</a></li><li><a href="/index.php?optio
 n=com_content&view=article&id=8642&Itemid=6289">Mercredi 5 Mars 2025 à 08:3
 8 : Le 09/03/2025 BALLON D'ALSACE/Alpin Informations</a></li></ul></li></ul
 ></div><div class="gski-evenement-epreuves"><div class="gski-evenement-epre
 uves-titres">Epreuves :</div><ul class="gski-evenement-epreuves-list"><li><
 div class="gski-epreuve-date">Le Dimanche 19 Janvier 2025</div><ul class="g
 ski-epreuve-liste-infos"><li>Codex épreuve AMVM0201</li><li>Catégorie(s) : 
 U8/U10 (Garçons)</li><li>Slalom</li></ul></li><li><div class="gski-epreuve-
 date">Le Dimanche 19 Janvier 2025</div><ul class="gski-epreuve-liste-infos"
 ><li>Codex épreuve AMVF0201</li><li>Catégorie(s) : U8/U10 (Filles)</li><li>
 Slalom</li></ul></li><li><div class="gski-epreuve-date">Le Dimanche 19 Janv
 ier 2025</div><ul class="gski-epreuve-liste-infos"><li>Codex épreuve AMVM02
 02</li><li>Catégorie(s) : U12/U14 (Garçons)</li><li>Slalom</li></ul></li><l
 i><div class="gski-epreuve-date">Le Dimanche 19 Janvier 2025</div><ul class
 ="gski-epreuve-liste-infos"><li>Codex épreuve AMVF0202</li><li>Catégorie(s)
  : U12/U14 (Filles)</li><li>Slalom</li></ul></li><li><div class="gski-epreu
 ve-date">Le Dimanche 19 Janvier 2025</div><ul class="gski-epreuve-liste-inf
 os"><li>Codex épreuve AMVM0203</li><li>Catégorie(s) : U16 a Masters (Garçon
 s)</li><li>Slalom Geant</li></ul></li><li><div class="gski-epreuve-date">Le
  Dimanche 19 Janvier 2025</div><ul class="gski-epreuve-liste-infos"><li>Cod
 ex épreuve AMVF0203</li><li>Catégorie(s) : U16 a Masters (Filles)</li><li>S
 lalom Geant</li></ul></li></ul></div><div class="gskiepreuves-links"><ul><l
 i><a href="/index.php?option=com_jevents&task=icalevent.detail&evid=2340&It
 emid=6289">Voir les informations dans l'agenda...</a></li><li><a href="/ind
 ex.php?option=com_gskiepreuves&view=afficheresultats&format_option=tous&fil
 ter[search]=AMVT0200&filter[date_debut]=09-03-2025&filter[date_fin]=09-03-2
 025&code_activite=ALP&Itemid=6289">Vers les résultats...</a></li><li>Public
 ations concernant cet évènement :<ul><li><a href="/index.php?option=com_con
 tent&view=article&id=8664&Itemid=6289">Dimanche 9 Mars 2025 à 18:26 : Le 09
 /03/2025 BALLON D'ALSACE/Alpin Résultats</a></li><li><a href="/index.php?op
 tion=com_content&view=article&id=8642&Itemid=6289">Mercredi 5 Mars 2025 à 0
 8:38 : Le 09/03/2025 BALLON D'ALSACE/Alpin Informations</a></li></ul></li><
 /ul></div></div"><!-- #/gskiepreuve fin du dode généré par le plugin jevent
 s pour GskiEpreuves. . Ne pas modifier cette ligne, ni tout le contenu préc
 edant.  #/gskiepreuve --> <a href="https://skivosges.net/agenda/a-venir/det
 ailevenement/2345/-/promo-prix-de-la-ville-de-st-maurice-reporte-e-au-09-03
 -2025?tmpl=component">Cet évènement a été importé depuis :https://skivosges
 .net/agenda/a-venir/detailevenement/2345/-/promo-prix-de-la-ville-de-st-mau
 rice-reporte-e-au-09-03-2025?tmpl=component</a>
X-ALT-DESC;FMTTYPE=text/html:<!-- #gskiepreuve code généré par le plugin jevents pour GskiEpreuves. Ne p
 as modifier cette ligne, ni tout le contenu suivant  #gskiepreuve --><div c
 lass="gski-evenement_infos"><div class="gski-evenement-nom">Promo Prix de l
 a Ville de St Maurice</div><div class="gski-evenement-report"> <font class=
 "gskiattention">(Epreuve reportée au 09/03/2025)</font></div><ul class="gsk
 i-evenement-liste-infos"><li>Codex évenement AMVT0200</li><li>Lieu : GENTIA
 NE</li><li>Station : BALLON D&#039;ALSACE</li><li>Piste : LA GRANDE GENTIAN
 E</li><li>Organisateur : 14063 SKIEURS DE ST MAURICE/MOSELLE</li><li>Courri
 el : <!-- Cette adresse électronique est protégée contre les robots spammeu
 rs. --><span class="cloaked_email ep_024f1381"><span data-ep-a="&#100;a&#11
 0;&#105;" data-ep-b=""><span data-ep-b="&#114;&#46;&#102;r" data-ep-a="&#10
 1;&#108;.&#109;"><span data-ep-a="or&#101;&#108;" data-ep-b="5&#64;&#115;f"
 ></span></span></span></span><script>RegularLabs.EmailProtector.unCloak("ep
 _024f1381");</script></li><li><span class="gski-evenement-obs">Délégué Tech
 nique : CORNIL PIERRE-YVES</span></li></ul><div class="gski-evenement-infos
 -2"><div class="gski-evenement-info-inscriptions"><div class="gski-evenemen
 t-inscriptions-periodes">Période d'inscription à l'evènement du Dimanche 12
  Janvier 2025 à 00:00 au Vendredi 17 Janvier 2025 à 12:00<div class="gski-e
 venement-inscriptions-types-titres">Inscriptions ouvertes aux detenteurs de
 s titres Fédéraux valides suivants : Licenciés Compétiteurs et Titres Loisi
 rs et Dirigeants</div></div></div><div class="gskiepreuves-links"><ul><li><
 a href="https://skivosges.net/index.php?option=com_jevents&task=icalevent.d
 etail&evid=2340&Itemid=6289">Voir les informations dans l'agenda...</a></li
 ><li><a href="https://skivosges.net/index.php?option=com_gskiepreuves&view=
 afficheresultats&format_option=tous&filter[search]=AMVT0200&filter[date_deb
 ut]=09-03-2025&filter[date_fin]=09-03-2025&code_activite=ALP&Itemid=6289">V
 ers les résultats...</a></li><li>Publications concernant cet évènement :<ul
 ><li><a href="https://skivosges.net/index.php?option=com_content&view=artic
 le&id=8664&Itemid=6289">Dimanche 9 Mars 2025 à 18:26 : Le 09/03/2025 BALLON
  D'ALSACE/Alpin Résultats</a></li><li><a href="https://skivosges.net/index.
 php?option=com_content&view=article&id=8642&Itemid=6289">Mercredi 5 Mars 20
 25 à 08:38 : Le 09/03/2025 BALLON D'ALSACE/Alpin Informations</a></li></ul>
 </li></ul></div><div class="gski-evenement-epreuves"><div class="gski-evene
 ment-epreuves-titres">Epreuves :</div><ul class="gski-evenement-epreuves-li
 st"><li><div class="gski-epreuve-date">Le Dimanche 19 Janvier 2025</div><ul
  class="gski-epreuve-liste-infos"><li>Codex épreuve AMVM0201</li><li>Catégo
 rie(s) : U8/U10 (Garçons)</li><li>Slalom</li></ul></li><li><div class="gski
 -epreuve-date">Le Dimanche 19 Janvier 2025</div><ul class="gski-epreuve-lis
 te-infos"><li>Codex épreuve AMVF0201</li><li>Catégorie(s) : U8/U10 (Filles)
 </li><li>Slalom</li></ul></li><li><div class="gski-epreuve-date">Le Dimanch
 e 19 Janvier 2025</div><ul class="gski-epreuve-liste-infos"><li>Codex épreu
 ve AMVM0202</li><li>Catégorie(s) : U12/U14 (Garçons)</li><li>Slalom</li></u
 l></li><li><div class="gski-epreuve-date">Le Dimanche 19 Janvier 2025</div>
 <ul class="gski-epreuve-liste-infos"><li>Codex épreuve AMVF0202</li><li>Cat
 égorie(s) : U12/U14 (Filles)</li><li>Slalom</li></ul></li><li><div class="g
 ski-epreuve-date">Le Dimanche 19 Janvier 2025</div><ul class="gski-epreuve-
 liste-infos"><li>Codex épreuve AMVM0203</li><li>Catégorie(s) : U16 a Master
 s (Garçons)</li><li>Slalom Geant</li></ul></li><li><div class="gski-epreuve
 -date">Le Dimanche 19 Janvier 2025</div><ul class="gski-epreuve-liste-infos
 "><li>Codex épreuve AMVF0203</li><li>Catégorie(s) : U16 a Masters (Filles)<
 /li><li>Slalom Geant</li></ul></li></ul></div><div class="gskiepreuves-link
 s"><ul><li><a href="https://skivosges.net/index.php?option=com_jevents&task
 =icalevent.detail&evid=2340&Itemid=6289">Voir les informations dans l'agend
 a...</a></li><li><a href="https://skivosges.net/index.php?option=com_gskiep
 reuves&view=afficheresultats&format_option=tous&filter[search]=AMVT0200&fil
 ter[date_debut]=09-03-2025&filter[date_fin]=09-03-2025&code_activite=ALP&It
 emid=6289">Vers les résultats...</a></li><li>Publications concernant cet év
 ènement :<ul><li><a href="https://skivosges.net/index.php?option=com_conten
 t&view=article&id=8664&Itemid=6289">Dimanche 9 Mars 2025 à 18:26 : Le 09/03
 /2025 BALLON D'ALSACE/Alpin Résultats</a></li><li><a href="https://skivosge
 s.net/index.php?option=com_content&view=article&id=8642&Itemid=6289">Mercre
 di 5 Mars 2025 à 08:38 : Le 09/03/2025 BALLON D'ALSACE/Alpin Informations</
 a></li></ul></li></ul></div></div"><!-- #/gskiepreuve fin du dode généré pa
 r le plugin jevents pour GskiEpreuves. . Ne pas modifier cette ligne, ni to
 ut le contenu précedant.  #/gskiepreuve --> <a href="https://skivosges.net/
 agenda/a-venir/detailevenement/2345/-/promo-prix-de-la-ville-de-st-maurice-
 reporte-e-au-09-03-2025?tmpl=component">Cet évènement a été importé depuis 
 :https://skivosges.net/agenda/a-venir/detailevenement/2345/-/promo-prix-de-
 la-ville-de-st-maurice-reporte-e-au-09-03-2025?tmpl=component</a>DTSTAMP:20260420T221545
DTSTART;TZID=Europe/Paris;VALUE=DATE:20250119
DTEND;TZID=Europe/Paris;VALUE=DATE:20250120
SEQUENCE:0
TRANSP:OPAQUE
END:VEVENT
END:VCALENDAR