BEGIN:VCALENDAR
VERSION:2.0
PRODID:-//jEvents 2.0 for Joomla//EN
CALSCALE:GREGORIAN
METHOD:PUBLISH
BEGIN:VTIMEZONE
TZID:Europe/Paris
BEGIN:STANDARD
DTSTART:20240119T000000
RDATE:20240331T030000
TZOFFSETFROM:+0200
TZOFFSETTO:+0100
TZNAME:Europe/Paris CET
END:STANDARD
BEGIN:STANDARD
DTSTART:20241027T020000
RDATE:20250330T030000
TZOFFSETFROM:+0200
TZOFFSETTO:+0100
TZNAME:Europe/Paris CET
END:STANDARD
BEGIN:STANDARD
DTSTART:20251026T020000
RDATE:20260329T030000
TZOFFSETFROM:+0200
TZOFFSETTO:+0100
TZNAME:Europe/Paris CET
END:STANDARD
BEGIN:STANDARD
DTSTART:20261025T020000
RDATE:20270328T030000
TZOFFSETFROM:+0200
TZOFFSETTO:+0100
TZNAME:Europe/Paris CET
END:STANDARD
BEGIN:DAYLIGHT
DTSTART:20240331T030000
RDATE:20241027T020000
TZOFFSETFROM:+0100
TZOFFSETTO:+0200
TZNAME:Europe/Paris CEST
END:DAYLIGHT
BEGIN:DAYLIGHT
DTSTART:20250330T030000
RDATE:20251026T020000
TZOFFSETFROM:+0100
TZOFFSETTO:+0200
TZNAME:Europe/Paris CEST
END:DAYLIGHT
BEGIN:DAYLIGHT
DTSTART:20260329T030000
RDATE:20261025T020000
TZOFFSETFROM:+0100
TZOFFSETTO:+0200
TZNAME:Europe/Paris CEST
END:DAYLIGHT
END:VTIMEZONE
BEGIN:VEVENT
UID:3b28e1758e0468fd3e9b1daf9c3b2a9b
CATEGORIES:Circuit Massif Jeunes (alpin)
CREATED:20241111T135605
SUMMARY:CJM Prix de la ville St maurice **REPORTE**
URL;VALUE=URI:https://skivosges.net/agenda/a-venir/detailevenement/2347/-/cjm-prix-de-la-
 ville-st-maurice-reporte?tmpl=component
DESCRIPTION:<!-- #gskiepreuve code généré par le plugin jevents pour GskiEpreuves. Ne p
 as modifier cette ligne, ni tout le contenu suivant  #gskiepreuve --><div c
 lass="gski-evenement_infos"><div class="gski-evenement-nom">CJM Prix de la 
 ville St maurice</div><div class="gski-evenement-report"> <font class="gski
 attention">(Epreuve reportée, date à determiner)</font></div><ul class="gsk
 i-evenement-liste-infos"><li>Codex évenement AMVT0230</li><li>Station : BAL
 LON D&#039;ALSACE</li><li>Organisateur : 14063 SKIEURS DE ST MAURICE/MOSELL
 E</li><li>Courriel : <!-- Cette adresse électronique est protégée contre le
 s robots spammeurs. --><span class="cloaked_email ep_3ed3fc2b"><span data-e
 p-a="d&#97;&#110;i" data-ep-b=""><span data-ep-a="e&#108;&#46;&#109;" data-
 ep-b="&#114;&#46;&#102;&#114;"><span data-ep-b="&#53;&#64;&#115;&#102;" dat
 a-ep-a="or&#101;&#108;"></span></span></span></span><script>RegularLabs.Ema
 ilProtector.unCloak("ep_3ed3fc2b");</script></li><li><span class="gski-even
 ement-obs">Délégué Technique : CORNIL PIERRE-YVES</span></li></ul><div clas
 s="gski-evenement-infos-2"><div class="gski-evenement-info-inscriptions"><d
 iv class="gski-evenement-inscriptions-periodes">Période d'inscription à l'e
 vènement du Dimanche 12 Janvier 2025 à 00:00 au Vendredi 17 Janvier 2025 à 
 12:00<div class="gski-evenement-inscriptions-types-titres">Inscriptions ouv
 ertes aux detenteurs des titres Fédéraux valides suivants : Licenciés Compé
 titeurs</div></div></div><div class="gskiepreuves-links"><ul><li><a href="/
 index.php?option=com_jevents&task=icalevent.detail&evid=2342&Itemid=6289">V
 oir les informations dans l'agenda...</a></li></ul></div><div class="gski-e
 venement-epreuves"><div class="gski-evenement-epreuves-titres">Epreuves :</
 div><ul class="gski-evenement-epreuves-list"><li><div class="gski-epreuve-d
 ate">Le Dimanche 19 Janvier 2025</div><ul class="gski-epreuve-liste-infos">
 <li>Codex épreuve AMVM0231</li><li>Catégorie(s) : U12 (Garçons)</li><li>Sla
 lom Geant</li></ul></li><li><div class="gski-epreuve-date">Le Dimanche 19 J
 anvier 2025</div><ul class="gski-epreuve-liste-infos"><li>Codex épreuve AMV
 F0231</li><li>Catégorie(s) : U12 (Filles)</li><li>Slalom Geant</li></ul></l
 i><li><div class="gski-epreuve-date">Le Dimanche 19 Janvier 2025</div><ul c
 lass="gski-epreuve-liste-infos"><li>Codex épreuve AMVM0232</li><li>Catégori
 e(s) : U14 (Garçons)</li><li>Slalom Geant</li></ul></li><li><div class="gsk
 i-epreuve-date">Le Dimanche 19 Janvier 2025</div><ul class="gski-epreuve-li
 ste-infos"><li>Codex épreuve AMVF0232</li><li>Catégorie(s) : U14 (Filles)</
 li><li>Slalom Geant</li></ul></li></ul></div><div class="gskiepreuves-links
 "><ul><li><a href="/index.php?option=com_jevents&task=icalevent.detail&evid
 =2342&Itemid=6289">Voir les informations dans l'agenda...</a></li></ul></di
 v></div"><!-- #/gskiepreuve fin du dode généré par le plugin jevents pour G
 skiEpreuves. . Ne pas modifier cette ligne, ni tout le contenu précedant.  
 #/gskiepreuve --> <a href="https://skivosges.net/agenda/a-venir/detailevene
 ment/2347/-/cjm-prix-de-la-ville-st-maurice-reporte?tmpl=component">Cet évè
 nement a été importé depuis :https://skivosges.net/agenda/a-venir/detaileve
 nement/2347/-/cjm-prix-de-la-ville-st-maurice-reporte?tmpl=component</a>
X-ALT-DESC;FMTTYPE=text/html:<!-- #gskiepreuve code généré par le plugin jevents pour GskiEpreuves. Ne p
 as modifier cette ligne, ni tout le contenu suivant  #gskiepreuve --><div c
 lass="gski-evenement_infos"><div class="gski-evenement-nom">CJM Prix de la 
 ville St maurice</div><div class="gski-evenement-report"> <font class="gski
 attention">(Epreuve reportée, date à determiner)</font></div><ul class="gsk
 i-evenement-liste-infos"><li>Codex évenement AMVT0230</li><li>Station : BAL
 LON D&#039;ALSACE</li><li>Organisateur : 14063 SKIEURS DE ST MAURICE/MOSELL
 E</li><li>Courriel : <!-- Cette adresse électronique est protégée contre le
 s robots spammeurs. --><span class="cloaked_email ep_3ed3fc2b"><span data-e
 p-a="d&#97;&#110;i" data-ep-b=""><span data-ep-a="e&#108;&#46;&#109;" data-
 ep-b="&#114;&#46;&#102;&#114;"><span data-ep-b="&#53;&#64;&#115;&#102;" dat
 a-ep-a="or&#101;&#108;"></span></span></span></span><script>RegularLabs.Ema
 ilProtector.unCloak("ep_3ed3fc2b");</script></li><li><span class="gski-even
 ement-obs">Délégué Technique : CORNIL PIERRE-YVES</span></li></ul><div clas
 s="gski-evenement-infos-2"><div class="gski-evenement-info-inscriptions"><d
 iv class="gski-evenement-inscriptions-periodes">Période d'inscription à l'e
 vènement du Dimanche 12 Janvier 2025 à 00:00 au Vendredi 17 Janvier 2025 à 
 12:00<div class="gski-evenement-inscriptions-types-titres">Inscriptions ouv
 ertes aux detenteurs des titres Fédéraux valides suivants : Licenciés Compé
 titeurs</div></div></div><div class="gskiepreuves-links"><ul><li><a href="h
 ttps://skivosges.net/index.php?option=com_jevents&task=icalevent.detail&evi
 d=2342&Itemid=6289">Voir les informations dans l'agenda...</a></li></ul></d
 iv><div class="gski-evenement-epreuves"><div class="gski-evenement-epreuves
 -titres">Epreuves :</div><ul class="gski-evenement-epreuves-list"><li><div 
 class="gski-epreuve-date">Le Dimanche 19 Janvier 2025</div><ul class="gski-
 epreuve-liste-infos"><li>Codex épreuve AMVM0231</li><li>Catégorie(s) : U12 
 (Garçons)</li><li>Slalom Geant</li></ul></li><li><div class="gski-epreuve-d
 ate">Le Dimanche 19 Janvier 2025</div><ul class="gski-epreuve-liste-infos">
 <li>Codex épreuve AMVF0231</li><li>Catégorie(s) : U12 (Filles)</li><li>Slal
 om Geant</li></ul></li><li><div class="gski-epreuve-date">Le Dimanche 19 Ja
 nvier 2025</div><ul class="gski-epreuve-liste-infos"><li>Codex épreuve AMVM
 0232</li><li>Catégorie(s) : U14 (Garçons)</li><li>Slalom Geant</li></ul></l
 i><li><div class="gski-epreuve-date">Le Dimanche 19 Janvier 2025</div><ul c
 lass="gski-epreuve-liste-infos"><li>Codex épreuve AMVF0232</li><li>Catégori
 e(s) : U14 (Filles)</li><li>Slalom Geant</li></ul></li></ul></div><div clas
 s="gskiepreuves-links"><ul><li><a href="https://skivosges.net/index.php?opt
 ion=com_jevents&task=icalevent.detail&evid=2342&Itemid=6289">Voir les infor
 mations dans l'agenda...</a></li></ul></div></div"><!-- #/gskiepreuve fin d
 u dode généré par le plugin jevents pour GskiEpreuves. . Ne pas modifier ce
 tte ligne, ni tout le contenu précedant.  #/gskiepreuve --> <a href="https:
 //skivosges.net/agenda/a-venir/detailevenement/2347/-/cjm-prix-de-la-ville-
 st-maurice-reporte?tmpl=component">Cet évènement a été importé depuis :http
 s://skivosges.net/agenda/a-venir/detailevenement/2347/-/cjm-prix-de-la-vill
 e-st-maurice-reporte?tmpl=component</a>DTSTAMP:20260420T221542
DTSTART;TZID=Europe/Paris;VALUE=DATE:20250119
DTEND;TZID=Europe/Paris;VALUE=DATE:20250120
SEQUENCE:0
TRANSP:OPAQUE
END:VEVENT
END:VCALENDAR