BEGIN:VCALENDAR
VERSION:2.0
PRODID:-//jEvents 2.0 for Joomla//EN
CALSCALE:GREGORIAN
METHOD:PUBLISH
BEGIN:VTIMEZONE
TZID:Europe/Paris
BEGIN:STANDARD
DTSTART:20240119T000000
RDATE:20240331T030000
TZOFFSETFROM:+0200
TZOFFSETTO:+0100
TZNAME:Europe/Paris CET
END:STANDARD
BEGIN:STANDARD
DTSTART:20241027T020000
RDATE:20250330T030000
TZOFFSETFROM:+0200
TZOFFSETTO:+0100
TZNAME:Europe/Paris CET
END:STANDARD
BEGIN:STANDARD
DTSTART:20251026T020000
RDATE:20260329T030000
TZOFFSETFROM:+0200
TZOFFSETTO:+0100
TZNAME:Europe/Paris CET
END:STANDARD
BEGIN:STANDARD
DTSTART:20261025T020000
RDATE:20270328T030000
TZOFFSETFROM:+0200
TZOFFSETTO:+0100
TZNAME:Europe/Paris CET
END:STANDARD
BEGIN:DAYLIGHT
DTSTART:20240331T030000
RDATE:20241027T020000
TZOFFSETFROM:+0100
TZOFFSETTO:+0200
TZNAME:Europe/Paris CEST
END:DAYLIGHT
BEGIN:DAYLIGHT
DTSTART:20250330T030000
RDATE:20251026T020000
TZOFFSETFROM:+0100
TZOFFSETTO:+0200
TZNAME:Europe/Paris CEST
END:DAYLIGHT
BEGIN:DAYLIGHT
DTSTART:20260329T030000
RDATE:20261025T020000
TZOFFSETFROM:+0100
TZOFFSETTO:+0200
TZNAME:Europe/Paris CEST
END:DAYLIGHT
END:VTIMEZONE
BEGIN:VEVENT
UID:f5043340b7aaa1c5826c5315613a17d8
CATEGORIES:Circuit Massif Adultes (alpin)
CREATED:20241111T135605
SUMMARY:CAM Mémorial Jean Bott, Coupe Vola Speck-sport **REPORTE**
URL;VALUE=URI:https://skivosges.net/agenda/a-venir/detailevenement/2348/-/cam-memorial-je
 an-bott-coupe-vola-speck-sport-reporte?tmpl=component
DESCRIPTION:<!-- #gskiepreuve code généré par le plugin jevents pour GskiEpreuves. Ne p
 as modifier cette ligne, ni tout le contenu suivant  #gskiepreuve --><div c
 lass="gski-evenement_infos"><div class="gski-evenement-nom">CAM Mémorial Je
 an Bott, Coupe Vola Speck-sport</div><div class="gski-evenement-report"> <f
 ont class="gskiattention">(Epreuve reportée, date à determiner)</font></div
 ><ul class="gski-evenement-liste-infos"><li>Codex évenement AMVT0210</li><l
 i>Station : MARKSTEIN</li><li>Organisateur : 14082 SKI CLUB VOSGIEN THANN</
 li><li>Courriel : <!-- Cette adresse électronique est protégée contre les r
 obots spammeurs. --><span class="cloaked_email ep_9f87d47a"><span data-ep-b
 ="" data-ep-a="co&#117;r"><span data-ep-a="s&#101;&#115;&#64;" data-ep-b="&
 #46;&#99;&#111;&#109;"><span data-ep-b="&#110;&#115;&#107;i" data-ep-a="th&
 #97;&#110;"></span></span></span></span><script>RegularLabs.EmailProtector.
 unCloak("ep_9f87d47a");</script></li><li>Téléphone : 03 89 37 92 28</li><li
 ><span class="gski-evenement-obs">Délégué Technique : KOHLER JEAN PIERRE</s
 pan></li></ul><div class="gski-evenement-infos-2"><div class="gski-evenemen
 t-info-inscriptions"><div class="gski-evenement-inscriptions-periodes">Péri
 ode d'inscription à l'evènement du Dimanche 12 Janvier 2025 à 00:00 au Vend
 redi 17 Janvier 2025 à 12:00<div class="gski-evenement-inscriptions-types-t
 itres">Inscriptions ouvertes aux detenteurs des titres Fédéraux valides sui
 vants : Licenciés Compétiteurs</div></div></div><div class="gskiepreuves-li
 nks"><ul><li><a href="/index.php?option=com_jevents&task=icalevent.detail&e
 vid=2343&Itemid=6289">Voir les informations dans l'agenda...</a></li></ul><
 /div><div class="gski-evenement-epreuves"><div class="gski-evenement-epreuv
 es-titres">Epreuves :</div><ul class="gski-evenement-epreuves-list"><li><di
 v class="gski-epreuve-date">Le Dimanche 19 Janvier 2025</div><ul class="gsk
 i-epreuve-liste-infos"><li>Codex épreuve AMVM0211</li><li>Catégorie(s) : U1
 6 (Garçons)</li><li>Slalom</li></ul></li><li><div class="gski-epreuve-date"
 >Le Dimanche 19 Janvier 2025</div><ul class="gski-epreuve-liste-infos"><li>
 Codex épreuve AMVF0211</li><li>Catégorie(s) : U16 (Filles)</li><li>Slalom</
 li></ul></li><li><div class="gski-epreuve-date">Le Dimanche 19 Janvier 2025
 </div><ul class="gski-epreuve-liste-infos"><li>Codex épreuve AMVM0212</li><
 li>Catégorie(s) : U18 a Masters (Hommes)</li><li>Slalom</li></ul></li><li><
 div class="gski-epreuve-date">Le Dimanche 19 Janvier 2025</div><ul class="g
 ski-epreuve-liste-infos"><li>Codex épreuve AMVF0212</li><li>Catégorie(s) : 
 U18 a Masters (Dames)</li><li>Slalom</li></ul></li></ul></div><div class="g
 skiepreuves-links"><ul><li><a href="/index.php?option=com_jevents&task=ical
 event.detail&evid=2343&Itemid=6289">Voir les informations dans l'agenda...<
 /a></li></ul></div></div"><!-- #/gskiepreuve fin du dode généré par le plug
 in jevents pour GskiEpreuves. . Ne pas modifier cette ligne, ni tout le con
 tenu précedant.  #/gskiepreuve --> <a href="https://skivosges.net/agenda/a-
 venir/detailevenement/2348/-/cam-memorial-jean-bott-coupe-vola-speck-sport-
 reporte?tmpl=component">Cet évènement a été importé depuis :https://skivosg
 es.net/agenda/a-venir/detailevenement/2348/-/cam-memorial-jean-bott-coupe-v
 ola-speck-sport-reporte?tmpl=component</a>
X-ALT-DESC;FMTTYPE=text/html:<!-- #gskiepreuve code généré par le plugin jevents pour GskiEpreuves. Ne p
 as modifier cette ligne, ni tout le contenu suivant  #gskiepreuve --><div c
 lass="gski-evenement_infos"><div class="gski-evenement-nom">CAM Mémorial Je
 an Bott, Coupe Vola Speck-sport</div><div class="gski-evenement-report"> <f
 ont class="gskiattention">(Epreuve reportée, date à determiner)</font></div
 ><ul class="gski-evenement-liste-infos"><li>Codex évenement AMVT0210</li><l
 i>Station : MARKSTEIN</li><li>Organisateur : 14082 SKI CLUB VOSGIEN THANN</
 li><li>Courriel : <!-- Cette adresse électronique est protégée contre les r
 obots spammeurs. --><span class="cloaked_email ep_9f87d47a"><span data-ep-b
 ="" data-ep-a="co&#117;r"><span data-ep-a="s&#101;&#115;&#64;" data-ep-b="&
 #46;&#99;&#111;&#109;"><span data-ep-b="&#110;&#115;&#107;i" data-ep-a="th&
 #97;&#110;"></span></span></span></span><script>RegularLabs.EmailProtector.
 unCloak("ep_9f87d47a");</script></li><li>Téléphone : 03 89 37 92 28</li><li
 ><span class="gski-evenement-obs">Délégué Technique : KOHLER JEAN PIERRE</s
 pan></li></ul><div class="gski-evenement-infos-2"><div class="gski-evenemen
 t-info-inscriptions"><div class="gski-evenement-inscriptions-periodes">Péri
 ode d'inscription à l'evènement du Dimanche 12 Janvier 2025 à 00:00 au Vend
 redi 17 Janvier 2025 à 12:00<div class="gski-evenement-inscriptions-types-t
 itres">Inscriptions ouvertes aux detenteurs des titres Fédéraux valides sui
 vants : Licenciés Compétiteurs</div></div></div><div class="gskiepreuves-li
 nks"><ul><li><a href="https://skivosges.net/index.php?option=com_jevents&ta
 sk=icalevent.detail&evid=2343&Itemid=6289">Voir les informations dans l'age
 nda...</a></li></ul></div><div class="gski-evenement-epreuves"><div class="
 gski-evenement-epreuves-titres">Epreuves :</div><ul class="gski-evenement-e
 preuves-list"><li><div class="gski-epreuve-date">Le Dimanche 19 Janvier 202
 5</div><ul class="gski-epreuve-liste-infos"><li>Codex épreuve AMVM0211</li>
 <li>Catégorie(s) : U16 (Garçons)</li><li>Slalom</li></ul></li><li><div clas
 s="gski-epreuve-date">Le Dimanche 19 Janvier 2025</div><ul class="gski-epre
 uve-liste-infos"><li>Codex épreuve AMVF0211</li><li>Catégorie(s) : U16 (Fil
 les)</li><li>Slalom</li></ul></li><li><div class="gski-epreuve-date">Le Dim
 anche 19 Janvier 2025</div><ul class="gski-epreuve-liste-infos"><li>Codex é
 preuve AMVM0212</li><li>Catégorie(s) : U18 a Masters (Hommes)</li><li>Slalo
 m</li></ul></li><li><div class="gski-epreuve-date">Le Dimanche 19 Janvier 2
 025</div><ul class="gski-epreuve-liste-infos"><li>Codex épreuve AMVF0212</l
 i><li>Catégorie(s) : U18 a Masters (Dames)</li><li>Slalom</li></ul></li></u
 l></div><div class="gskiepreuves-links"><ul><li><a href="https://skivosges.
 net/index.php?option=com_jevents&task=icalevent.detail&evid=2343&Itemid=628
 9">Voir les informations dans l'agenda...</a></li></ul></div></div"><!-- #/
 gskiepreuve fin du dode généré par le plugin jevents pour GskiEpreuves. . N
 e pas modifier cette ligne, ni tout le contenu précedant.  #/gskiepreuve --
 > <a href="https://skivosges.net/agenda/a-venir/detailevenement/2348/-/cam-
 memorial-jean-bott-coupe-vola-speck-sport-reporte?tmpl=component">Cet évène
 ment a été importé depuis :https://skivosges.net/agenda/a-venir/detailevene
 ment/2348/-/cam-memorial-jean-bott-coupe-vola-speck-sport-reporte?tmpl=comp
 onent</a>DTSTAMP:20260420T221546
DTSTART;TZID=Europe/Paris;VALUE=DATE:20250119
DTEND;TZID=Europe/Paris;VALUE=DATE:20250120
SEQUENCE:0
TRANSP:OPAQUE
END:VEVENT
END:VCALENDAR