BEGIN:VCALENDAR
VERSION:2.0
PRODID:-//jEvents 2.0 for Joomla//EN
CALSCALE:GREGORIAN
METHOD:PUBLISH
BEGIN:VTIMEZONE
TZID:Europe/Paris
BEGIN:STANDARD
DTSTART:20240126T000000
RDATE:20240331T030000
TZOFFSETFROM:+0200
TZOFFSETTO:+0100
TZNAME:Europe/Paris CET
END:STANDARD
BEGIN:STANDARD
DTSTART:20241027T020000
RDATE:20250330T030000
TZOFFSETFROM:+0200
TZOFFSETTO:+0100
TZNAME:Europe/Paris CET
END:STANDARD
BEGIN:STANDARD
DTSTART:20251026T020000
RDATE:20260329T030000
TZOFFSETFROM:+0200
TZOFFSETTO:+0100
TZNAME:Europe/Paris CET
END:STANDARD
BEGIN:STANDARD
DTSTART:20261025T020000
RDATE:20270328T030000
TZOFFSETFROM:+0200
TZOFFSETTO:+0100
TZNAME:Europe/Paris CET
END:STANDARD
BEGIN:DAYLIGHT
DTSTART:20240331T030000
RDATE:20241027T020000
TZOFFSETFROM:+0100
TZOFFSETTO:+0200
TZNAME:Europe/Paris CEST
END:DAYLIGHT
BEGIN:DAYLIGHT
DTSTART:20250330T030000
RDATE:20251026T020000
TZOFFSETFROM:+0100
TZOFFSETTO:+0200
TZNAME:Europe/Paris CEST
END:DAYLIGHT
BEGIN:DAYLIGHT
DTSTART:20260329T030000
RDATE:20261025T020000
TZOFFSETFROM:+0100
TZOFFSETTO:+0200
TZNAME:Europe/Paris CEST
END:DAYLIGHT
END:VTIMEZONE
BEGIN:VEVENT
UID:242e434ca625320f52796dedaca59249
CATEGORIES:Circuit Massif Adultes (alpin)
CREATED:20241111T135605
SUMMARY:CAM Mémorial Frédéric Schandéné (H) / Coupe Zinglé (F)
URL;VALUE=URI:https://skivosges.net/agenda/a-venir/detailevenement/2353/-/cam-memorial-fr
 ederic-schandene-h-coupe-zingle-f?tmpl=component
DESCRIPTION:CAM Mémorial Frédéric Schandéné (H) / Coupe Zinglé (F)\n - Codex évenement 
 AMVT0280\n - Station : SCHNEPFENRIED\n - Organisateur : 14199 SKIEURS DU TA
 NET\n - Courriel : RegularLabs.EmailProtector.unCloak("ep_85b38ed8");\n - T
 éléphone : 06.83.42.40.72\n - Délégué Technique : KOENIG DANIELPériode d'in
 scription à l'evènement du Dimanche 19 Janvier 2025 à 00:00 au Vendredi 24 
 Janvier 2025 à 17:00Inscriptions ouvertes aux detenteurs des titres Fédérau
 x valides suivants : Licenciés CompétiteursL'épreuve sera chronométrée en d
 irect sur https://skivosges.net/live\n - Voir les informations dans l'agend
 a... (/index.php?option=com_jevents&amp;task=icalevent.detail&amp;evid=2348
 &amp;Itemid=6289)\n - Vers les résultats... (/index.php?option=com_gskiepre
 uves&amp;view=afficheresultats&amp;format_option=tous&amp;filter[search]=AM
 VT0280&amp;filter[date_debut]=26-01-2025&amp;filter[date_fin]=26-01-2025&am
 p;code_activite=ALP&amp;Itemid=6289)\n - Publications concernant cet évènem
 ent :\n - Vendredi 24 Janvier 2025 à 20:41 : Le 26/01/2025 SCHNEPFENRIED/Al
 pin Liste de départs\n - Jeudi 23 Janvier 2025 à 10:33 : Le 26/01/2025 SCHN
 EPFENRIED/Alpin Informations\n - Jeudi 23 Janvier 2025 à 10:33 : Le 26/01/2
 025 SCHNEPFENRIED/Alpin InformationsEpreuves :\n - Le Dimanche 26 Janvier 2
 025 à 09:00\n - Codex épreuve AMVM0281\n - Catégorie(s) : U18 a Masters (Ho
 mmes)\n - Slalom\n - Le Dimanche 26 Janvier 2025 à 09:00\n - Codex épreuve 
 AMVF0281\n - Catégorie(s) : U18 a Masters (Dames)\n - Slalom\n - Voir les i
 nformations dans l'agenda... (/index.php?option=com_jevents&amp;task=icalev
 ent.detail&amp;evid=2348&amp;Itemid=6289)\n - Vers les résultats... (/index
 .php?option=com_gskiepreuves&amp;view=afficheresultats&amp;format_option=to
 us&amp;filter[search]=AMVT0280&amp;filter[date_debut]=26-01-2025&amp;filter
 [date_fin]=26-01-2025&amp;code_activite=ALP&amp;Itemid=6289)\n - Publicatio
 ns concernant cet évènement :\n - Vendredi 24 Janvier 2025 à 20:41 : Le 26/
 01/2025 SCHNEPFENRIED/Alpin Liste de départs\n - Jeudi 23 Janvier 2025 à 10
 :33 : Le 26/01/2025 SCHNEPFENRIED/Alpin Informations\n - Jeudi 23 Janvier 2
 025 à 10:33 : Le 26/01/2025 SCHNEPFENRIED/Alpin Informations Cet évènement 
 a été importé depuis :https://skivosges.net/agenda/a-venir/detailevenement/
 2353/-/cam-memorial-frederic-schandene-h-coupe-zingle-f?tmpl=component (htt
 ps://skivosges.net/agenda/a-venir/detailevenement/2353/-/cam-memorial-frede
 ric-schandene-h-coupe-zingle-f?tmpl=component)
X-ALT-DESC;FMTTYPE=text/html:<!-- #gskiepreuve code généré par le plugin jevents pour GskiEpreuves. Ne p
 as modifier cette ligne, ni tout le contenu suivant  #gskiepreuve --><div c
 lass="gski-evenement_infos"><div class="gski-evenement-nom">CAM Mémorial Fr
 édéric Schandéné (H) / Coupe Zinglé (F)</div><div class="gski-evenement-rep
 ort"></div><ul class="gski-evenement-liste-infos"><li>Codex évenement AMVT0
 280</li><li>Station : SCHNEPFENRIED</li><li>Organisateur : 14199 SKIEURS DU
  TANET</li><li>Courriel : <!-- Cette adresse électronique est protégée cont
 re les robots spammeurs. --><span class="cloaked_email ep_85b38ed8"><span d
 ata-ep-b="&#114;" data-ep-a="p&#105;&#101;r"><span data-ep-b="uf&#46;f" dat
 a-ep-a="&#114;&#97;t."><span data-ep-a="&#98;&#114;i&#99;" data-ep-b="&#101
 ;&#64;&#110;e"></span></span></span></span><script>RegularLabs.EmailProtect
 or.unCloak("ep_85b38ed8");</script></li><li>Téléphone : 06.83.42.40.72</li>
 <li><span class="gski-evenement-obs">Délégué Technique : KOENIG DANIEL</spa
 n></li></ul><div class="gski-evenement-infos-2"><div class="gski-evenement-
 info-inscriptions"><div class="gski-evenement-inscriptions-periodes">Périod
 e d'inscription à l'evènement du Dimanche 19 Janvier 2025 à 00:00 au Vendre
 di 24 Janvier 2025 à 17:00<div class="gski-evenement-inscriptions-types-tit
 res">Inscriptions ouvertes aux detenteurs des titres Fédéraux valides suiva
 nts : Licenciés Compétiteurs</div></div></div><div class="gski-evenement-in
 fo-live">L'épreuve sera chronométrée en direct sur https://skivosges.net/li
 ve</div><div class="gskiepreuves-links"><ul><li><a href="https://skivosges.
 net/index.php?option=com_jevents&task=icalevent.detail&evid=2348&Itemid=628
 9">Voir les informations dans l'agenda...</a></li><li><a href="https://skiv
 osges.net/index.php?option=com_gskiepreuves&view=afficheresultats&format_op
 tion=tous&filter[search]=AMVT0280&filter[date_debut]=26-01-2025&filter[date
 _fin]=26-01-2025&code_activite=ALP&Itemid=6289">Vers les résultats...</a></
 li><li>Publications concernant cet évènement :<ul><li><a href="https://skiv
 osges.net/index.php?option=com_content&view=article&id=8578&Itemid=6289">Ve
 ndredi 24 Janvier 2025 à 20:41 : Le 26/01/2025 SCHNEPFENRIED/Alpin Liste de
  départs</a></li><li><a href="https://skivosges.net/index.php?option=com_co
 ntent&view=article&id=8573&Itemid=6289">Jeudi 23 Janvier 2025 à 10:33 : Le 
 26/01/2025 SCHNEPFENRIED/Alpin Informations</a></li><li><a href="https://sk
 ivosges.net/index.php?option=com_content&view=article&id=8572&Itemid=6289">
 Jeudi 23 Janvier 2025 à 10:33 : Le 26/01/2025 SCHNEPFENRIED/Alpin Informati
 ons</a></li></ul></li></ul></div><div class="gski-evenement-epreuves"><div 
 class="gski-evenement-epreuves-titres">Epreuves :</div><ul class="gski-even
 ement-epreuves-list"><li><div class="gski-epreuve-date">Le Dimanche 26 Janv
 ier 2025 à 09:00</div><ul class="gski-epreuve-liste-infos"><li>Codex épreuv
 e AMVM0281</li><li>Catégorie(s) : U18 a Masters (Hommes)</li><li>Slalom</li
 ></ul></li><li><div class="gski-epreuve-date">Le Dimanche 26 Janvier 2025 à
  09:00</div><ul class="gski-epreuve-liste-infos"><li>Codex épreuve AMVF0281
 </li><li>Catégorie(s) : U18 a Masters (Dames)</li><li>Slalom</li></ul></li>
 </ul></div><div class="gskiepreuves-links"><ul><li><a href="https://skivosg
 es.net/index.php?option=com_jevents&task=icalevent.detail&evid=2348&Itemid=
 6289">Voir les informations dans l'agenda...</a></li><li><a href="https://s
 kivosges.net/index.php?option=com_gskiepreuves&view=afficheresultats&format
 _option=tous&filter[search]=AMVT0280&filter[date_debut]=26-01-2025&filter[d
 ate_fin]=26-01-2025&code_activite=ALP&Itemid=6289">Vers les résultats...</a
 ></li><li>Publications concernant cet évènement :<ul><li><a href="https://s
 kivosges.net/index.php?option=com_content&view=article&id=8578&Itemid=6289"
 >Vendredi 24 Janvier 2025 à 20:41 : Le 26/01/2025 SCHNEPFENRIED/Alpin Liste
  de départs</a></li><li><a href="https://skivosges.net/index.php?option=com
 _content&view=article&id=8573&Itemid=6289">Jeudi 23 Janvier 2025 à 10:33 : 
 Le 26/01/2025 SCHNEPFENRIED/Alpin Informations</a></li><li><a href="https:/
 /skivosges.net/index.php?option=com_content&view=article&id=8572&Itemid=628
 9">Jeudi 23 Janvier 2025 à 10:33 : Le 26/01/2025 SCHNEPFENRIED/Alpin Inform
 ations</a></li></ul></li></ul></div></div"><!-- #/gskiepreuve fin du dode g
 énéré par le plugin jevents pour GskiEpreuves. . Ne pas modifier cette lign
 e, ni tout le contenu précedant.  #/gskiepreuve --> <a href="https://skivos
 ges.net/agenda/a-venir/detailevenement/2353/-/cam-memorial-frederic-schande
 ne-h-coupe-zingle-f?tmpl=component">Cet évènement a été importé depuis :htt
 ps://skivosges.net/agenda/a-venir/detailevenement/2353/-/cam-memorial-frede
 ric-schandene-h-coupe-zingle-f?tmpl=component</a>DTSTAMP:20260420T185238
DTSTART;TZID=Europe/Paris;VALUE=DATE:20250126
DTEND;TZID=Europe/Paris;VALUE=DATE:20250127
SEQUENCE:0
TRANSP:OPAQUE
END:VEVENT
END:VCALENDAR