BEGIN:VCALENDAR
VERSION:2.0
PRODID:-//jEvents 2.0 for Joomla//EN
CALSCALE:GREGORIAN
METHOD:PUBLISH
BEGIN:VTIMEZONE
TZID:Europe/Paris
BEGIN:STANDARD
DTSTART:20130221T080000
RDATE:20130331T030000
TZOFFSETFROM:+0200
TZOFFSETTO:+0100
TZNAME:Europe/Paris CET
END:STANDARD
BEGIN:STANDARD
DTSTART:20131027T020000
RDATE:20140330T030000
TZOFFSETFROM:+0200
TZOFFSETTO:+0100
TZNAME:Europe/Paris CET
END:STANDARD
BEGIN:STANDARD
DTSTART:20141026T020000
RDATE:20150329T030000
TZOFFSETFROM:+0200
TZOFFSETTO:+0100
TZNAME:Europe/Paris CET
END:STANDARD
BEGIN:STANDARD
DTSTART:20151025T020000
RDATE:20160327T030000
TZOFFSETFROM:+0200
TZOFFSETTO:+0100
TZNAME:Europe/Paris CET
END:STANDARD
BEGIN:STANDARD
DTSTART:20161030T020000
RDATE:20170326T030000
TZOFFSETFROM:+0200
TZOFFSETTO:+0100
TZNAME:Europe/Paris CET
END:STANDARD
BEGIN:STANDARD
DTSTART:20171029T020000
RDATE:20180325T030000
TZOFFSETFROM:+0200
TZOFFSETTO:+0100
TZNAME:Europe/Paris CET
END:STANDARD
BEGIN:STANDARD
DTSTART:20181028T020000
RDATE:20190331T030000
TZOFFSETFROM:+0200
TZOFFSETTO:+0100
TZNAME:Europe/Paris CET
END:STANDARD
BEGIN:STANDARD
DTSTART:20191027T020000
RDATE:20200329T030000
TZOFFSETFROM:+0200
TZOFFSETTO:+0100
TZNAME:Europe/Paris CET
END:STANDARD
BEGIN:STANDARD
DTSTART:20201025T020000
RDATE:20210328T030000
TZOFFSETFROM:+0200
TZOFFSETTO:+0100
TZNAME:Europe/Paris CET
END:STANDARD
BEGIN:STANDARD
DTSTART:20211031T020000
RDATE:20220327T030000
TZOFFSETFROM:+0200
TZOFFSETTO:+0100
TZNAME:Europe/Paris CET
END:STANDARD
BEGIN:STANDARD
DTSTART:20221030T020000
RDATE:20230326T030000
TZOFFSETFROM:+0200
TZOFFSETTO:+0100
TZNAME:Europe/Paris CET
END:STANDARD
BEGIN:STANDARD
DTSTART:20231029T020000
RDATE:20240331T030000
TZOFFSETFROM:+0200
TZOFFSETTO:+0100
TZNAME:Europe/Paris CET
END:STANDARD
BEGIN:STANDARD
DTSTART:20241027T020000
RDATE:20250330T030000
TZOFFSETFROM:+0200
TZOFFSETTO:+0100
TZNAME:Europe/Paris CET
END:STANDARD
BEGIN:STANDARD
DTSTART:20251026T020000
RDATE:20260329T030000
TZOFFSETFROM:+0200
TZOFFSETTO:+0100
TZNAME:Europe/Paris CET
END:STANDARD
BEGIN:STANDARD
DTSTART:20261025T020000
RDATE:20270328T030000
TZOFFSETFROM:+0200
TZOFFSETTO:+0100
TZNAME:Europe/Paris CET
END:STANDARD
BEGIN:DAYLIGHT
DTSTART:20130331T030000
RDATE:20131027T020000
TZOFFSETFROM:+0100
TZOFFSETTO:+0200
TZNAME:Europe/Paris CEST
END:DAYLIGHT
BEGIN:DAYLIGHT
DTSTART:20140330T030000
RDATE:20141026T020000
TZOFFSETFROM:+0100
TZOFFSETTO:+0200
TZNAME:Europe/Paris CEST
END:DAYLIGHT
BEGIN:DAYLIGHT
DTSTART:20150329T030000
RDATE:20151025T020000
TZOFFSETFROM:+0100
TZOFFSETTO:+0200
TZNAME:Europe/Paris CEST
END:DAYLIGHT
BEGIN:DAYLIGHT
DTSTART:20160327T030000
RDATE:20161030T020000
TZOFFSETFROM:+0100
TZOFFSETTO:+0200
TZNAME:Europe/Paris CEST
END:DAYLIGHT
BEGIN:DAYLIGHT
DTSTART:20170326T030000
RDATE:20171029T020000
TZOFFSETFROM:+0100
TZOFFSETTO:+0200
TZNAME:Europe/Paris CEST
END:DAYLIGHT
BEGIN:DAYLIGHT
DTSTART:20180325T030000
RDATE:20181028T020000
TZOFFSETFROM:+0100
TZOFFSETTO:+0200
TZNAME:Europe/Paris CEST
END:DAYLIGHT
BEGIN:DAYLIGHT
DTSTART:20190331T030000
RDATE:20191027T020000
TZOFFSETFROM:+0100
TZOFFSETTO:+0200
TZNAME:Europe/Paris CEST
END:DAYLIGHT
BEGIN:DAYLIGHT
DTSTART:20200329T030000
RDATE:20201025T020000
TZOFFSETFROM:+0100
TZOFFSETTO:+0200
TZNAME:Europe/Paris CEST
END:DAYLIGHT
BEGIN:DAYLIGHT
DTSTART:20210328T030000
RDATE:20211031T020000
TZOFFSETFROM:+0100
TZOFFSETTO:+0200
TZNAME:Europe/Paris CEST
END:DAYLIGHT
BEGIN:DAYLIGHT
DTSTART:20220327T030000
RDATE:20221030T020000
TZOFFSETFROM:+0100
TZOFFSETTO:+0200
TZNAME:Europe/Paris CEST
END:DAYLIGHT
BEGIN:DAYLIGHT
DTSTART:20230326T030000
RDATE:20231029T020000
TZOFFSETFROM:+0100
TZOFFSETTO:+0200
TZNAME:Europe/Paris CEST
END:DAYLIGHT
BEGIN:DAYLIGHT
DTSTART:20240331T030000
RDATE:20241027T020000
TZOFFSETFROM:+0100
TZOFFSETTO:+0200
TZNAME:Europe/Paris CEST
END:DAYLIGHT
BEGIN:DAYLIGHT
DTSTART:20250330T030000
RDATE:20251026T020000
TZOFFSETFROM:+0100
TZOFFSETTO:+0200
TZNAME:Europe/Paris CEST
END:DAYLIGHT
BEGIN:DAYLIGHT
DTSTART:20260329T030000
RDATE:20261025T020000
TZOFFSETFROM:+0100
TZOFFSETTO:+0200
TZNAME:Europe/Paris CEST
END:DAYLIGHT
END:VTIMEZONE
BEGIN:VEVENT
UID:7518d5bf46ffa00f4f2e898e0268aeb5
CATEGORIES:Circuit Alsace Jeunes (alpin)
CREATED:20140219T224701
SUMMARY:CAJ U10 à U14 COUPE TANET/AN MUNSTER
URL;VALUE=URI:https://skivosges.net/agenda/a-venir/detailevenement/236/-/caj-u10-a-u14-co
 upe-tanet-an-munster?tmpl=component
DESCRIPTION:<strong>CAJ U10 à U14 COUPE TANET/AN MUNSTER</strong> <br /><i>(Coupe d'Als
 ace Jeunes)</i><br /><br />Lieu : SCHNEPFENRIED <br />Organisateur : SK TAN
 ET / AN MUNSTER  <small>(14140 LES AMIS DE LA NATURE MUNSTER)</small><br />
 <br />Inscriptions closes, tirage des dossards en cours<ul type="disc"><li>
 <nobr>Le 21/02/2014 à 00:00:00</nobr><br />AMVF0471  Slalom <nobr><i>(Coupe
  de Bronze)</i></nobr> <nobr>U10</nobr> Filles<br />&nbsp;&nbsp;CAJ U10 à U
 14/Cpe de Bronze&nbsp;</li><li><nobr>Le 21/02/2014 à 00:00:00</nobr><br />A
 MVM0471  Slalom <nobr><i>(Coupe de Bronze)</i></nobr> <nobr>U10</nobr> Garç
 ons<br />&nbsp;&nbsp;CAJ U10 à U14/Cpe de Bronze&nbsp;</li><li><nobr>Le 21/
 02/2014 à 00:00:00</nobr><br />AMVF0472  Slalom <nobr><i>(Coupe de Bronze)<
 /i></nobr> <nobr>U12</nobr> Filles<br />&nbsp;&nbsp;CAJ U10 à U14/Cpe de Br
 onze&nbsp;</li><li><nobr>Le 21/02/2014 à 00:00:00</nobr><br />AMVM0472  Sla
 lom <nobr><i>(Coupe de Bronze)</i></nobr> <nobr>U12</nobr> Garçons<br />&nb
 sp;&nbsp;CAJ U10 à U14/Cpe de Bronze&nbsp;</li><li><nobr>Le 21/02/2014 à 00
 :00:00</nobr><br />AMVF0473  Slalom <nobr><i>(Coupe de Bronze)</i></nobr> <
 nobr>U14</nobr> Filles<br />&nbsp;&nbsp;CAJ U10 à U14/Cpe de Bronze&nbsp;</
 li><li><nobr>Le 21/02/2014 à 00:00:00</nobr><br />AMVM0473  Slalom <nobr><i
 >(Coupe de Bronze)</i></nobr> <nobr>U14</nobr> Garçons<br />&nbsp;&nbsp;CAJ
  U10 à U14/Cpe de Bronze&nbsp;</li></ul> <a href="https://skivosges.net/age
 nda/a-venir/detailevenement/236/-/caj-u10-a-u14-coupe-tanet-an-munster?tmpl
 =component">Cet évènement a été importé depuis :https://skivosges.net/agend
 a/a-venir/detailevenement/236/-/caj-u10-a-u14-coupe-tanet-an-munster?tmpl=c
 omponent</a>DTSTAMP:20260424T012608
DTSTART;TZID=Europe/Paris:20140222T080000
DTEND;TZID=Europe/Paris:20140222T170000
SEQUENCE:0
TRANSP:OPAQUE
END:VEVENT
END:VCALENDAR