BEGIN:VCALENDAR
VERSION:2.0
PRODID:-//jEvents 2.0 for Joomla//EN
CALSCALE:GREGORIAN
METHOD:PUBLISH
BEGIN:VTIMEZONE
TZID:Europe/Paris
BEGIN:STANDARD
DTSTART:20240209T000000
RDATE:20240331T030000
TZOFFSETFROM:+0200
TZOFFSETTO:+0100
TZNAME:Europe/Paris CET
END:STANDARD
BEGIN:STANDARD
DTSTART:20241027T020000
RDATE:20250330T030000
TZOFFSETFROM:+0200
TZOFFSETTO:+0100
TZNAME:Europe/Paris CET
END:STANDARD
BEGIN:STANDARD
DTSTART:20251026T020000
RDATE:20260329T030000
TZOFFSETFROM:+0200
TZOFFSETTO:+0100
TZNAME:Europe/Paris CET
END:STANDARD
BEGIN:STANDARD
DTSTART:20261025T020000
RDATE:20270328T030000
TZOFFSETFROM:+0200
TZOFFSETTO:+0100
TZNAME:Europe/Paris CET
END:STANDARD
BEGIN:DAYLIGHT
DTSTART:20240331T030000
RDATE:20241027T020000
TZOFFSETFROM:+0100
TZOFFSETTO:+0200
TZNAME:Europe/Paris CEST
END:DAYLIGHT
BEGIN:DAYLIGHT
DTSTART:20250330T030000
RDATE:20251026T020000
TZOFFSETFROM:+0100
TZOFFSETTO:+0200
TZNAME:Europe/Paris CEST
END:DAYLIGHT
BEGIN:DAYLIGHT
DTSTART:20260329T030000
RDATE:20261025T020000
TZOFFSETFROM:+0100
TZOFFSETTO:+0200
TZNAME:Europe/Paris CEST
END:DAYLIGHT
END:VTIMEZONE
BEGIN:VEVENT
UID:3786df4b9eb5e85558d9955296462937
CATEGORIES:Circuit Massif Jeunes (alpin)
CREATED:20241111T135606
SUMMARY:CJM Course de la Ville de Gerardmer **REPORTE(E) au 15/03/2025**
URL;VALUE=URI:https://skivosges.net/agenda/a-venir/detailevenement/2371/-/cjm-course-de-l
 a-ville-de-gerardmer-reporte-e-au-15-03-2025?tmpl=component
DESCRIPTION:<!-- #gskiepreuve code généré par le plugin jevents pour GskiEpreuves. Ne p
 as modifier cette ligne, ni tout le contenu suivant  #gskiepreuve --><div c
 lass="gski-evenement_infos"><div class="gski-evenement-nom">CJM Course de l
 a Ville de Gerardmer</div><div class="gski-evenement-report"> <font class="
 gskiattention">(Epreuve reportée au 15/03/2025)</font></div><ul class="gski
 -evenement-liste-infos"><li>Codex évenement AMVT0390</li><li>Station : GERA
 RDMER</li><li>Organisateur : 14089 GERARDMER SKI ALPIN</li><li>Courriel : <
 !-- Cette adresse électronique est protégée contre les robots spammeurs. --
 ><span class="cloaked_email ep_2858843e"><span data-ep-a="&#103;&#101;&#114
 ;&#97;&#114;" data-ep-b="e.&#102;&#114;"><span data-ep-a="d&#109;&#101;&#11
 4;-" data-ep-b="&#111;&#114;&#97;&#110;&#103;"><span data-ep-b="l&#112;i&#1
 10;&#64;" data-ep-a="&#115;&#107;&#105;-&#97;"></span></span></span></span>
 <script>RegularLabs.EmailProtector.unCloak("ep_2858843e");</script></li><li
 >Téléphone : 03 29 60 98 04</li><li><span class="gski-evenement-obs">Délégu
 é Technique : HABERER BERNARD</span></li></ul><div class="gski-evenement-in
 fos-2"><div class="gski-evenement-info-inscriptions"><div class="gski-evene
 ment-inscriptions-periodes">Période d'inscription à l'evènement du Dimanche
  02 Février 2025 à 00:00 au Vendredi 07 Février 2025 à 12:00<div class="gsk
 i-evenement-inscriptions-types-titres">Inscriptions ouvertes aux detenteurs
  des titres Fédéraux valides suivants : Licenciés Compétiteurs</div></div><
 /div><div class="gskiepreuves-links"><ul><li><a href="/index.php?option=com
 _jevents&task=icalevent.detail&evid=2366&Itemid=6289">Voir les informations
  dans l'agenda...</a></li><li><a href="/index.php?option=com_gskiepreuves&v
 iew=afficheresultats&format_option=tous&filter[search]=AMVT0390&filter[date
 _debut]=08-02-2025&filter[date_fin]=08-02-2025&code_activite=ALP&Itemid=628
 9">Vers les résultats...</a></li></ul></div><div class="gski-evenement-epre
 uves"><div class="gski-evenement-epreuves-titres">Epreuves :</div><ul class
 ="gski-evenement-epreuves-list"><li><div class="gski-epreuve-date">Le Diman
 che 09 Février 2025</div><ul class="gski-epreuve-liste-infos"><li>Codex épr
 euve AMVM0391</li><li>Catégorie(s) : U12 (Garçons)</li><li>Slalom</li></ul>
 </li><li><div class="gski-epreuve-date">Le Dimanche 09 Février 2025</div><u
 l class="gski-epreuve-liste-infos"><li>Codex épreuve AMVF0391</li><li>Catég
 orie(s) : U12 (Filles)</li><li>Slalom</li></ul></li><li><div class="gski-ep
 reuve-date">Le Dimanche 09 Février 2025</div><ul class="gski-epreuve-liste-
 infos"><li>Codex épreuve AMVM0392</li><li>Catégorie(s) : U14 (Garçons)</li>
 <li>Slalom</li></ul></li><li><div class="gski-epreuve-date">Le Dimanche 09 
 Février 2025</div><ul class="gski-epreuve-liste-infos"><li>Codex épreuve AM
 VF0392</li><li>Catégorie(s) : U14 (Filles)</li><li>Slalom</li></ul></li></u
 l></div><div class="gskiepreuves-links"><ul><li><a href="/index.php?option=
 com_jevents&task=icalevent.detail&evid=2366&Itemid=6289">Voir les informati
 ons dans l'agenda...</a></li><li><a href="/index.php?option=com_gskiepreuve
 s&view=afficheresultats&format_option=tous&filter[search]=AMVT0390&filter[d
 ate_debut]=08-02-2025&filter[date_fin]=08-02-2025&code_activite=ALP&Itemid=
 6289">Vers les résultats...</a></li></ul></div></div"><!-- #/gskiepreuve fi
 n du dode généré par le plugin jevents pour GskiEpreuves. . Ne pas modifier
  cette ligne, ni tout le contenu précedant.  #/gskiepreuve --> <a href="htt
 ps://skivosges.net/agenda/a-venir/detailevenement/2371/-/cjm-course-de-la-v
 ille-de-gerardmer-reporte-e-au-15-03-2025?tmpl=component">Cet évènement a é
 té importé depuis :https://skivosges.net/agenda/a-venir/detailevenement/237
 1/-/cjm-course-de-la-ville-de-gerardmer-reporte-e-au-15-03-2025?tmpl=compon
 ent</a>
X-ALT-DESC;FMTTYPE=text/html:<!-- #gskiepreuve code généré par le plugin jevents pour GskiEpreuves. Ne p
 as modifier cette ligne, ni tout le contenu suivant  #gskiepreuve --><div c
 lass="gski-evenement_infos"><div class="gski-evenement-nom">CJM Course de l
 a Ville de Gerardmer</div><div class="gski-evenement-report"> <font class="
 gskiattention">(Epreuve reportée au 15/03/2025)</font></div><ul class="gski
 -evenement-liste-infos"><li>Codex évenement AMVT0390</li><li>Station : GERA
 RDMER</li><li>Organisateur : 14089 GERARDMER SKI ALPIN</li><li>Courriel : <
 !-- Cette adresse électronique est protégée contre les robots spammeurs. --
 ><span class="cloaked_email ep_2858843e"><span data-ep-a="&#103;&#101;&#114
 ;&#97;&#114;" data-ep-b="e.&#102;&#114;"><span data-ep-a="d&#109;&#101;&#11
 4;-" data-ep-b="&#111;&#114;&#97;&#110;&#103;"><span data-ep-b="l&#112;i&#1
 10;&#64;" data-ep-a="&#115;&#107;&#105;-&#97;"></span></span></span></span>
 <script>RegularLabs.EmailProtector.unCloak("ep_2858843e");</script></li><li
 >Téléphone : 03 29 60 98 04</li><li><span class="gski-evenement-obs">Délégu
 é Technique : HABERER BERNARD</span></li></ul><div class="gski-evenement-in
 fos-2"><div class="gski-evenement-info-inscriptions"><div class="gski-evene
 ment-inscriptions-periodes">Période d'inscription à l'evènement du Dimanche
  02 Février 2025 à 00:00 au Vendredi 07 Février 2025 à 12:00<div class="gsk
 i-evenement-inscriptions-types-titres">Inscriptions ouvertes aux detenteurs
  des titres Fédéraux valides suivants : Licenciés Compétiteurs</div></div><
 /div><div class="gskiepreuves-links"><ul><li><a href="https://skivosges.net
 /index.php?option=com_jevents&task=icalevent.detail&evid=2366&Itemid=6289">
 Voir les informations dans l'agenda...</a></li><li><a href="https://skivosg
 es.net/index.php?option=com_gskiepreuves&view=afficheresultats&format_optio
 n=tous&filter[search]=AMVT0390&filter[date_debut]=08-02-2025&filter[date_fi
 n]=08-02-2025&code_activite=ALP&Itemid=6289">Vers les résultats...</a></li>
 </ul></div><div class="gski-evenement-epreuves"><div class="gski-evenement-
 epreuves-titres">Epreuves :</div><ul class="gski-evenement-epreuves-list"><
 li><div class="gski-epreuve-date">Le Dimanche 09 Février 2025</div><ul clas
 s="gski-epreuve-liste-infos"><li>Codex épreuve AMVM0391</li><li>Catégorie(s
 ) : U12 (Garçons)</li><li>Slalom</li></ul></li><li><div class="gski-epreuve
 -date">Le Dimanche 09 Février 2025</div><ul class="gski-epreuve-liste-infos
 "><li>Codex épreuve AMVF0391</li><li>Catégorie(s) : U12 (Filles)</li><li>Sl
 alom</li></ul></li><li><div class="gski-epreuve-date">Le Dimanche 09 Févrie
 r 2025</div><ul class="gski-epreuve-liste-infos"><li>Codex épreuve AMVM0392
 </li><li>Catégorie(s) : U14 (Garçons)</li><li>Slalom</li></ul></li><li><div
  class="gski-epreuve-date">Le Dimanche 09 Février 2025</div><ul class="gski
 -epreuve-liste-infos"><li>Codex épreuve AMVF0392</li><li>Catégorie(s) : U14
  (Filles)</li><li>Slalom</li></ul></li></ul></div><div class="gskiepreuves-
 links"><ul><li><a href="https://skivosges.net/index.php?option=com_jevents&
 task=icalevent.detail&evid=2366&Itemid=6289">Voir les informations dans l'a
 genda...</a></li><li><a href="https://skivosges.net/index.php?option=com_gs
 kiepreuves&view=afficheresultats&format_option=tous&filter[search]=AMVT0390
 &filter[date_debut]=08-02-2025&filter[date_fin]=08-02-2025&code_activite=AL
 P&Itemid=6289">Vers les résultats...</a></li></ul></div></div"><!-- #/gskie
 preuve fin du dode généré par le plugin jevents pour GskiEpreuves. . Ne pas
  modifier cette ligne, ni tout le contenu précedant.  #/gskiepreuve --> <a 
 href="https://skivosges.net/agenda/a-venir/detailevenement/2371/-/cjm-cours
 e-de-la-ville-de-gerardmer-reporte-e-au-15-03-2025?tmpl=component">Cet évèn
 ement a été importé depuis :https://skivosges.net/agenda/a-venir/detaileven
 ement/2371/-/cjm-course-de-la-ville-de-gerardmer-reporte-e-au-15-03-2025?tm
 pl=component</a>DTSTAMP:20260420T221546
DTSTART;TZID=Europe/Paris;VALUE=DATE:20250209
DTEND;TZID=Europe/Paris;VALUE=DATE:20250210
SEQUENCE:0
TRANSP:OPAQUE
END:VEVENT
END:VCALENDAR