BEGIN:VCALENDAR
VERSION:2.0
PRODID:-//jEvents 2.0 for Joomla//EN
CALSCALE:GREGORIAN
METHOD:PUBLISH
BEGIN:VTIMEZONE
TZID:Europe/Paris
BEGIN:STANDARD
DTSTART:20240209T000000
RDATE:20240331T030000
TZOFFSETFROM:+0200
TZOFFSETTO:+0100
TZNAME:Europe/Paris CET
END:STANDARD
BEGIN:STANDARD
DTSTART:20241027T020000
RDATE:20250330T030000
TZOFFSETFROM:+0200
TZOFFSETTO:+0100
TZNAME:Europe/Paris CET
END:STANDARD
BEGIN:STANDARD
DTSTART:20251026T020000
RDATE:20260329T030000
TZOFFSETFROM:+0200
TZOFFSETTO:+0100
TZNAME:Europe/Paris CET
END:STANDARD
BEGIN:STANDARD
DTSTART:20261025T020000
RDATE:20270328T030000
TZOFFSETFROM:+0200
TZOFFSETTO:+0100
TZNAME:Europe/Paris CET
END:STANDARD
BEGIN:DAYLIGHT
DTSTART:20240331T030000
RDATE:20241027T020000
TZOFFSETFROM:+0100
TZOFFSETTO:+0200
TZNAME:Europe/Paris CEST
END:DAYLIGHT
BEGIN:DAYLIGHT
DTSTART:20250330T030000
RDATE:20251026T020000
TZOFFSETFROM:+0100
TZOFFSETTO:+0200
TZNAME:Europe/Paris CEST
END:DAYLIGHT
BEGIN:DAYLIGHT
DTSTART:20260329T030000
RDATE:20261025T020000
TZOFFSETFROM:+0100
TZOFFSETTO:+0200
TZNAME:Europe/Paris CEST
END:DAYLIGHT
END:VTIMEZONE
BEGIN:VEVENT
UID:067020af686cb3cff172d93989befc5c
CATEGORIES:Compétition Ski de Fond
CREATED:20241111T135606
SUMMARY:MEMORIAL LUC COLIN BIG-MAT SALOMON N°6 U13 (5) CREDIT MUTUEL N°5 **REPORTE**
URL;VALUE=URI:https://skivosges.net/agenda/a-venir/detailevenement/2372/-/memorial-luc-co
 lin-big-mat-salomon-n-6-u13-5-credit-mutuel-n-5-reporte?tmpl=component
DESCRIPTION:MEMORIAL LUC COLIN BIG-MAT SALOMON N°6 U13 (5) CREDIT MUTUEL N°5 (Epreuve r
 eportée, date à determiner)\n - Codex évenement FMVT0160\n - Station : BALL
 ON D'ALSACE\n - Organisateur : 14471 HAUTE MOSELLE SKI NORDIQUE\n - Courrie
 l : RegularLabs.EmailProtector.unCloak("ep_5b801b26");\n - Téléphone : 06 1
 1 67 84 52\n - Délégué Technique : COLIN FREDERICPériode d'inscription à l'
 evènement du Dimanche 02 Février 2025 à 00:00 au Vendredi 07 Février 2025 à
  12:00Inscriptions ouvertes aux detenteurs des titres Fédéraux valides suiv
 ants : Licenciés Compétiteurs\n - Voir les informations dans l'agenda... (/
 index.php?option=com_jevents&amp;task=icalevent.detail&amp;evid=2367&amp;It
 emid=6289)Epreuves :\n - Le Dimanche 09 Février 2025\n - Codex épreuve FMVF
 0161\n - Catégorie(s) : U13 (Filles)\n - Depart Individuel\n - Distance : 3
  / Style : C\n - Le Dimanche 09 Février 2025\n - Codex épreuve FMVM0161\n -
  Catégorie(s) : U13 (Garçons)\n - Depart Individuel\n - Distance : 3 / Styl
 e : C\n - Le Dimanche 09 Février 2025\n - Codex épreuve FMVF0162\n - Catégo
 rie(s) : U15 (Filles)\n - Depart Individuel\n - Distance : 3 / Style : C\n 
 - Le Dimanche 09 Février 2025\n - Codex épreuve FMVM0162\n - Catégorie(s) :
  U15 (Garçons)\n - Depart Individuel\n - Distance : 5 / Style : C\n - Le Di
 manche 09 Février 2025\n - Codex épreuve FMVF0163\n - Catégorie(s) : U16 (D
 ames)\n - Depart Individuel\n - Distance : 5 / Style : C\n - Le Dimanche 09
  Février 2025\n - Codex épreuve FMVM0163\n - Catégorie(s) : U16 (Hommes)\n 
 - Depart Individuel\n - Distance : 7.5 / Style : C\n - Le Dimanche 09 Févri
 er 2025\n - Codex épreuve FMVF0164\n - Catégorie(s) : U18 a SEN (Dames)\n -
  Depart Individuel\n - Distance : 7.5 / Style : C\n - Le Dimanche 09 Févrie
 r 2025\n - Codex épreuve FMVM0164\n - Catégorie(s) : U18 a SEN (Hommes)\n -
  Depart Individuel\n - Distance : 10 / Style : C\n - Voir les informations 
 dans l'agenda... (/index.php?option=com_jevents&amp;task=icalevent.detail&a
 mp;evid=2367&amp;Itemid=6289) Cet évènement a été importé depuis :https://s
 kivosges.net/agenda/a-venir/detailevenement/2372/-/memorial-luc-colin-big-m
 at-salomon-n-6-u13-5-credit-mutuel-n-5-reporte?tmpl=component
X-ALT-DESC;FMTTYPE=text/html:<!-- #gskiepreuve code généré par le plugin jevents pour GskiEpreuves. Ne p
 as modifier cette ligne, ni tout le contenu suivant  #gskiepreuve --><div c
 lass="gski-evenement_infos"><div class="gski-evenement-nom">MEMORIAL LUC CO
 LIN BIG-MAT SALOMON N°6 U13 (5) CREDIT MUTUEL N°5</div><div class="gski-eve
 nement-report"> <font class="gskiattention">(Epreuve reportée, date à deter
 miner)</font></div><ul class="gski-evenement-liste-infos"><li>Codex éveneme
 nt FMVT0160</li><li>Station : BALLON D&#039;ALSACE</li><li>Organisateur : 1
 4471 HAUTE MOSELLE SKI NORDIQUE</li><li>Courriel : <!-- Cette adresse élect
 ronique est protégée contre les robots spammeurs. --><span class="cloaked_e
 mail ep_5b801b26"><span data-ep-a="&#99;&#108;aud" data-ep-b="r"><span data
 -ep-a="&#101;&#46;&#98;&#101;r" data-ep-b="n&#103;&#101;&#46;f"><span data-
 ep-a="na&#114;&#100;&#50;" data-ep-b="&#50;&#64;o&#114;&#97;"></span></span
 ></span></span><script>RegularLabs.EmailProtector.unCloak("ep_5b801b26");</
 script></li><li>Téléphone : 06 11 67 84 52</li><li><span class="gski-evenem
 ent-obs">Délégué Technique : COLIN FREDERIC</span></li></ul><div class="gsk
 i-evenement-infos-2"><div class="gski-evenement-info-inscriptions"><div cla
 ss="gski-evenement-inscriptions-periodes">Période d'inscription à l'evèneme
 nt du Dimanche 02 Février 2025 à 00:00 au Vendredi 07 Février 2025 à 12:00<
 div class="gski-evenement-inscriptions-types-titres">Inscriptions ouvertes 
 aux detenteurs des titres Fédéraux valides suivants : Licenciés Compétiteur
 s</div></div></div><div class="gskiepreuves-links"><ul><li><a href="https:/
 /skivosges.net/index.php?option=com_jevents&task=icalevent.detail&evid=2367
 &Itemid=6289">Voir les informations dans l'agenda...</a></li></ul></div><di
 v class="gski-evenement-epreuves"><div class="gski-evenement-epreuves-titre
 s">Epreuves :</div><ul class="gski-evenement-epreuves-list"><li><div class=
 "gski-epreuve-date">Le Dimanche 09 Février 2025</div><ul class="gski-epreuv
 e-liste-infos"><li>Codex épreuve FMVF0161</li><li>Catégorie(s) : U13 (Fille
 s)</li><li>Depart Individuel</li><li>Distance : 3 / Style : C</li></ul></li
 ><li><div class="gski-epreuve-date">Le Dimanche 09 Février 2025</div><ul cl
 ass="gski-epreuve-liste-infos"><li>Codex épreuve FMVM0161</li><li>Catégorie
 (s) : U13 (Garçons)</li><li>Depart Individuel</li><li>Distance : 3 / Style 
 : C</li></ul></li><li><div class="gski-epreuve-date">Le Dimanche 09 Février
  2025</div><ul class="gski-epreuve-liste-infos"><li>Codex épreuve FMVF0162<
 /li><li>Catégorie(s) : U15 (Filles)</li><li>Depart Individuel</li><li>Dista
 nce : 3 / Style : C</li></ul></li><li><div class="gski-epreuve-date">Le Dim
 anche 09 Février 2025</div><ul class="gski-epreuve-liste-infos"><li>Codex é
 preuve FMVM0162</li><li>Catégorie(s) : U15 (Garçons)</li><li>Depart Individ
 uel</li><li>Distance : 5 / Style : C</li></ul></li><li><div class="gski-epr
 euve-date">Le Dimanche 09 Février 2025</div><ul class="gski-epreuve-liste-i
 nfos"><li>Codex épreuve FMVF0163</li><li>Catégorie(s) : U16 (Dames)</li><li
 >Depart Individuel</li><li>Distance : 5 / Style : C</li></ul></li><li><div 
 class="gski-epreuve-date">Le Dimanche 09 Février 2025</div><ul class="gski-
 epreuve-liste-infos"><li>Codex épreuve FMVM0163</li><li>Catégorie(s) : U16 
 (Hommes)</li><li>Depart Individuel</li><li>Distance : 7.5 / Style : C</li><
 /ul></li><li><div class="gski-epreuve-date">Le Dimanche 09 Février 2025</di
 v><ul class="gski-epreuve-liste-infos"><li>Codex épreuve FMVF0164</li><li>C
 atégorie(s) : U18 a SEN (Dames)</li><li>Depart Individuel</li><li>Distance 
 : 7.5 / Style : C</li></ul></li><li><div class="gski-epreuve-date">Le Diman
 che 09 Février 2025</div><ul class="gski-epreuve-liste-infos"><li>Codex épr
 euve FMVM0164</li><li>Catégorie(s) : U18 a SEN (Hommes)</li><li>Depart Indi
 viduel</li><li>Distance : 10 / Style : C</li></ul></li></ul></div><div clas
 s="gskiepreuves-links"><ul><li><a href="https://skivosges.net/index.php?opt
 ion=com_jevents&task=icalevent.detail&evid=2367&Itemid=6289">Voir les infor
 mations dans l'agenda...</a></li></ul></div></div"><!-- #/gskiepreuve fin d
 u dode généré par le plugin jevents pour GskiEpreuves. . Ne pas modifier ce
 tte ligne, ni tout le contenu précedant.  #/gskiepreuve --> <a href="https:
 //skivosges.net/agenda/a-venir/detailevenement/2372/-/memorial-luc-colin-bi
 g-mat-salomon-n-6-u13-5-credit-mutuel-n-5-reporte?tmpl=component">Cet évène
 ment a été importé depuis :https://skivosges.net/agenda/a-venir/detailevene
 ment/2372/-/memorial-luc-colin-big-mat-salomon-n-6-u13-5-credit-mutuel-n-5-
 reporte?tmpl=component</a>DTSTAMP:20260420T221503
DTSTART;TZID=Europe/Paris;VALUE=DATE:20250209
DTEND;TZID=Europe/Paris;VALUE=DATE:20250210
SEQUENCE:0
TRANSP:OPAQUE
END:VEVENT
END:VCALENDAR