BEGIN:VCALENDAR
VERSION:2.0
PRODID:-//jEvents 2.0 for Joomla//EN
CALSCALE:GREGORIAN
METHOD:PUBLISH
BEGIN:VTIMEZONE
TZID:Europe/Paris
BEGIN:STANDARD
DTSTART:20240212T000000
RDATE:20240331T030000
TZOFFSETFROM:+0200
TZOFFSETTO:+0100
TZNAME:Europe/Paris CET
END:STANDARD
BEGIN:STANDARD
DTSTART:20241027T020000
RDATE:20250330T030000
TZOFFSETFROM:+0200
TZOFFSETTO:+0100
TZNAME:Europe/Paris CET
END:STANDARD
BEGIN:STANDARD
DTSTART:20251026T020000
RDATE:20260329T030000
TZOFFSETFROM:+0200
TZOFFSETTO:+0100
TZNAME:Europe/Paris CET
END:STANDARD
BEGIN:STANDARD
DTSTART:20261025T020000
RDATE:20270328T030000
TZOFFSETFROM:+0200
TZOFFSETTO:+0100
TZNAME:Europe/Paris CET
END:STANDARD
BEGIN:DAYLIGHT
DTSTART:20240331T030000
RDATE:20241027T020000
TZOFFSETFROM:+0100
TZOFFSETTO:+0200
TZNAME:Europe/Paris CEST
END:DAYLIGHT
BEGIN:DAYLIGHT
DTSTART:20250330T030000
RDATE:20251026T020000
TZOFFSETFROM:+0100
TZOFFSETTO:+0200
TZNAME:Europe/Paris CEST
END:DAYLIGHT
BEGIN:DAYLIGHT
DTSTART:20260329T030000
RDATE:20261025T020000
TZOFFSETFROM:+0100
TZOFFSETTO:+0200
TZNAME:Europe/Paris CEST
END:DAYLIGHT
END:VTIMEZONE
BEGIN:VEVENT
UID:fe6f7c4f4a1dfddc8f221da83a3de830
CATEGORIES:Compétition Ski de Fond
CREATED:20241111T135606
SUMMARY:NOCTURNE CHAMP DU FEU BIG-MAT-SALOMON N°7U13(6) - CREDIT MUTUEL SPRINT N°6
URL;VALUE=URI:https://skivosges.net/agenda/a-venir/detailevenement/2373/-/nocturne-champ-
 du-feu-big-mat-salomon-n-7u13-6-credit-mutuel-sprint-n-6?tmpl=component
DESCRIPTION:NOCTURNE CHAMP DU FEU BIG-MAT-SALOMON N°7U13(6) - CREDIT MUTUEL SPRINT N°6\
 n - Codex évenement FMVT0170\n - Station : CHAMP DU FEU\n - Organisateur : 
 14448 MOLSHEIM SKI NORDIQUE\n - Courriel : RegularLabs.EmailProtector.unClo
 ak("ep_941056c7");\n - Délégué Technique : WEIBEL SIMONPériode d'inscriptio
 n à l'evènement du Mercredi 05 Février 2025 à 00:00 au Mercredi 05 Février 
 2025 à 12:00Inscriptions ouvertes aux detenteurs des titres Fédéraux valide
 s suivants : Licenciés Compétiteurs\n - Voir les informations dans l'agenda
 ... (/index.php?option=com_jevents&amp;task=icalevent.detail&amp;evid=2368&
 amp;Itemid=6289)\n - Publications concernant cet évènement :\n - Vendredi 7
  Février 2025 à 14:15 : Le 12/02/2025 CHAMP DU FEU/Fond InformationsEpreuve
 s :\n - Le Mercredi 12 Février 2025\n - Codex épreuve FMVF0171\n - Catégori
 e(s) : U13 (Filles)\n - KO - Sprint QUALIFICATION\n - Distance : 1.2 / Styl
 e : L\n - Le Mercredi 12 Février 2025\n - Codex épreuve FMVM0171\n - Catégo
 rie(s) : U13 (Garçons)\n - KO - Sprint QUALIFICATION\n - Distance : 1.2 / S
 tyle : L\n - Le Mercredi 12 Février 2025\n - Codex épreuve FMVF0172\n - Cat
 égorie(s) : U15 (Filles)\n - KO - Sprint QUALIFICATION\n - Distance : 1.2 /
  Style : L\n - Le Mercredi 12 Février 2025\n - Codex épreuve FMVM0172\n - C
 atégorie(s) : U15 (Garçons)\n - KO - Sprint QUALIFICATION\n - Distance : 1.
 2 / Style : L\n - Le Mercredi 12 Février 2025\n - Codex épreuve FMVF0173\n 
 - Catégorie(s) : U16 (Dames)\n - KO - Sprint QUALIFICATION\n - Distance : 1
 .2 / Style : L\n - Le Mercredi 12 Février 2025\n - Codex épreuve FMVM0173\n
  - Catégorie(s) : U16 (Hommes)\n - KO - Sprint QUALIFICATION\n - Distance :
  1.2 / Style : L\n - Le Mercredi 12 Février 2025\n - Codex épreuve FMVF0174
 \n - Catégorie(s) : U18 a SEN (Dames)\n - KO - Sprint QUALIFICATION\n - Dis
 tance : 1.2 / Style : L\n - Le Mercredi 12 Février 2025\n - Codex épreuve F
 MVM0174\n - Catégorie(s) : U18 a SEN (Hommes)\n - KO - Sprint QUALIFICATION
 \n - Distance : 1.2 / Style : L\n - Le Mercredi 12 Février 2025\n - Codex é
 preuve FMVF0175\n - Catégorie(s) : U15 a SEN (Filles)\n - KO - Sprint FINAL
 \n - Distance : 1.2 / Style : L\n - Le Mercredi 12 Février 2025\n - Codex é
 preuve FMVM0175\n - Catégorie(s) : U15 a SEN (Garçons)\n - KO - Sprint FINA
 L\n - Distance : 1.2 / Style : L\n - Voir les informations dans l'agenda...
  (/index.php?option=com_jevents&amp;task=icalevent.detail&amp;evid=2368&amp
 ;Itemid=6289)\n - Publications concernant cet évènement :\n - Vendredi 7 Fé
 vrier 2025 à 14:15 : Le 12/02/2025 CHAMP DU FEU/Fond Informations Cet évène
 ment a été importé depuis :https://skivosges.net/agenda/a-venir/detailevene
 ment/2373/-/nocturne-champ-du-feu-big-mat-salomon-n-7u13-6-credit-mutuel-sp
 rint-n-6?tmpl=component
X-ALT-DESC;FMTTYPE=text/html:<!-- #gskiepreuve code généré par le plugin jevents pour GskiEpreuves. Ne p
 as modifier cette ligne, ni tout le contenu suivant  #gskiepreuve --><div c
 lass="gski-evenement_infos"><div class="gski-evenement-nom">NOCTURNE CHAMP 
 DU FEU BIG-MAT-SALOMON N°7U13(6) - CREDIT MUTUEL SPRINT N°6</div><div class
 ="gski-evenement-report"></div><ul class="gski-evenement-liste-infos"><li>C
 odex évenement FMVT0170</li><li>Station : CHAMP DU FEU</li><li>Organisateur
  : 14448 MOLSHEIM SKI NORDIQUE</li><li>Courriel : <!-- Cette adresse électr
 onique est protégée contre les robots spammeurs. --><span class="cloaked_em
 ail ep_941056c7"><span data-ep-b="&#46;&#102;&#114;" data-ep-a="p&#105;&#10
 1;&#114;r&#101;"><span data-ep-a="&#45;&#99;&#104;&#97;&#114;b" data-ep-b="
 i&#99;&#97;&#98;&#108;&#101;"><span data-ep-a="&#111;n&#110;&#105;&#101;r" 
 data-ep-b="&#64;&#110;&#117;&#109;e&#114;"></span></span></span></span><scr
 ipt>RegularLabs.EmailProtector.unCloak("ep_941056c7");</script></li><li><sp
 an class="gski-evenement-obs">Délégué Technique : WEIBEL SIMON</span></li><
 /ul><div class="gski-evenement-infos-2"><div class="gski-evenement-info-ins
 criptions"><div class="gski-evenement-inscriptions-periodes">Période d'insc
 ription à l'evènement du Mercredi 05 Février 2025 à 00:00 au Mercredi 05 Fé
 vrier 2025 à 12:00<div class="gski-evenement-inscriptions-types-titres">Ins
 criptions ouvertes aux detenteurs des titres Fédéraux valides suivants : Li
 cenciés Compétiteurs</div></div></div><div class="gskiepreuves-links"><ul><
 li><a href="https://skivosges.net/index.php?option=com_jevents&task=icaleve
 nt.detail&evid=2368&Itemid=6289">Voir les informations dans l'agenda...</a>
 </li><li>Publications concernant cet évènement :<ul><li><a href="https://sk
 ivosges.net/index.php?option=com_content&view=article&id=8604&Itemid=6289">
 Vendredi 7 Février 2025 à 14:15 : Le 12/02/2025 CHAMP DU FEU/Fond Informati
 ons</a></li></ul></li></ul></div><div class="gski-evenement-epreuves"><div 
 class="gski-evenement-epreuves-titres">Epreuves :</div><ul class="gski-even
 ement-epreuves-list"><li><div class="gski-epreuve-date">Le Mercredi 12 Févr
 ier 2025</div><ul class="gski-epreuve-liste-infos"><li>Codex épreuve FMVF01
 71</li><li>Catégorie(s) : U13 (Filles)</li><li>KO - Sprint QUALIFICATION</l
 i><li>Distance : 1.2 / Style : L</li></ul></li><li><div class="gski-epreuve
 -date">Le Mercredi 12 Février 2025</div><ul class="gski-epreuve-liste-infos
 "><li>Codex épreuve FMVM0171</li><li>Catégorie(s) : U13 (Garçons)</li><li>K
 O - Sprint QUALIFICATION</li><li>Distance : 1.2 / Style : L</li></ul></li><
 li><div class="gski-epreuve-date">Le Mercredi 12 Février 2025</div><ul clas
 s="gski-epreuve-liste-infos"><li>Codex épreuve FMVF0172</li><li>Catégorie(s
 ) : U15 (Filles)</li><li>KO - Sprint QUALIFICATION</li><li>Distance : 1.2 /
  Style : L</li></ul></li><li><div class="gski-epreuve-date">Le Mercredi 12 
 Février 2025</div><ul class="gski-epreuve-liste-infos"><li>Codex épreuve FM
 VM0172</li><li>Catégorie(s) : U15 (Garçons)</li><li>KO - Sprint QUALIFICATI
 ON</li><li>Distance : 1.2 / Style : L</li></ul></li><li><div class="gski-ep
 reuve-date">Le Mercredi 12 Février 2025</div><ul class="gski-epreuve-liste-
 infos"><li>Codex épreuve FMVF0173</li><li>Catégorie(s) : U16 (Dames)</li><l
 i>KO - Sprint QUALIFICATION</li><li>Distance : 1.2 / Style : L</li></ul></l
 i><li><div class="gski-epreuve-date">Le Mercredi 12 Février 2025</div><ul c
 lass="gski-epreuve-liste-infos"><li>Codex épreuve FMVM0173</li><li>Catégori
 e(s) : U16 (Hommes)</li><li>KO - Sprint QUALIFICATION</li><li>Distance : 1.
 2 / Style : L</li></ul></li><li><div class="gski-epreuve-date">Le Mercredi 
 12 Février 2025</div><ul class="gski-epreuve-liste-infos"><li>Codex épreuve
  FMVF0174</li><li>Catégorie(s) : U18 a SEN (Dames)</li><li>KO - Sprint QUAL
 IFICATION</li><li>Distance : 1.2 / Style : L</li></ul></li><li><div class="
 gski-epreuve-date">Le Mercredi 12 Février 2025</div><ul class="gski-epreuve
 -liste-infos"><li>Codex épreuve FMVM0174</li><li>Catégorie(s) : U18 a SEN (
 Hommes)</li><li>KO - Sprint QUALIFICATION</li><li>Distance : 1.2 / Style : 
 L</li></ul></li><li><div class="gski-epreuve-date">Le Mercredi 12 Février 2
 025</div><ul class="gski-epreuve-liste-infos"><li>Codex épreuve FMVF0175</l
 i><li>Catégorie(s) : U15 a SEN (Filles)</li><li>KO - Sprint FINAL</li><li>D
 istance : 1.2 / Style : L</li></ul></li><li><div class="gski-epreuve-date">
 Le Mercredi 12 Février 2025</div><ul class="gski-epreuve-liste-infos"><li>C
 odex épreuve FMVM0175</li><li>Catégorie(s) : U15 a SEN (Garçons)</li><li>KO
  - Sprint FINAL</li><li>Distance : 1.2 / Style : L</li></ul></li></ul></div
 ><div class="gskiepreuves-links"><ul><li><a href="https://skivosges.net/ind
 ex.php?option=com_jevents&task=icalevent.detail&evid=2368&Itemid=6289">Voir
  les informations dans l'agenda...</a></li><li>Publications concernant cet 
 évènement :<ul><li><a href="https://skivosges.net/index.php?option=com_cont
 ent&view=article&id=8604&Itemid=6289">Vendredi 7 Février 2025 à 14:15 : Le 
 12/02/2025 CHAMP DU FEU/Fond Informations</a></li></ul></li></ul></div></di
 v"><!-- #/gskiepreuve fin du dode généré par le plugin jevents pour GskiEpr
 euves. . Ne pas modifier cette ligne, ni tout le contenu précedant.  #/gski
 epreuve --> <a href="https://skivosges.net/agenda/a-venir/detailevenement/2
 373/-/nocturne-champ-du-feu-big-mat-salomon-n-7u13-6-credit-mutuel-sprint-n
 -6?tmpl=component">Cet évènement a été importé depuis :https://skivosges.ne
 t/agenda/a-venir/detailevenement/2373/-/nocturne-champ-du-feu-big-mat-salom
 on-n-7u13-6-credit-mutuel-sprint-n-6?tmpl=component</a>DTSTAMP:20260420T185215
DTSTART;TZID=Europe/Paris;VALUE=DATE:20250212
DTEND;TZID=Europe/Paris;VALUE=DATE:20250213
SEQUENCE:0
TRANSP:OPAQUE
END:VEVENT
END:VCALENDAR