BEGIN:VCALENDAR
VERSION:2.0
PRODID:-//jEvents 2.0 for Joomla//EN
CALSCALE:GREGORIAN
METHOD:PUBLISH
BEGIN:VTIMEZONE
TZID:Europe/Paris
BEGIN:STANDARD
DTSTART:20240216T000000
RDATE:20240331T030000
TZOFFSETFROM:+0200
TZOFFSETTO:+0100
TZNAME:Europe/Paris CET
END:STANDARD
BEGIN:STANDARD
DTSTART:20241027T020000
RDATE:20250330T030000
TZOFFSETFROM:+0200
TZOFFSETTO:+0100
TZNAME:Europe/Paris CET
END:STANDARD
BEGIN:STANDARD
DTSTART:20251026T020000
RDATE:20260329T030000
TZOFFSETFROM:+0200
TZOFFSETTO:+0100
TZNAME:Europe/Paris CET
END:STANDARD
BEGIN:STANDARD
DTSTART:20261025T020000
RDATE:20270328T030000
TZOFFSETFROM:+0200
TZOFFSETTO:+0100
TZNAME:Europe/Paris CET
END:STANDARD
BEGIN:DAYLIGHT
DTSTART:20240331T030000
RDATE:20241027T020000
TZOFFSETFROM:+0100
TZOFFSETTO:+0200
TZNAME:Europe/Paris CEST
END:DAYLIGHT
BEGIN:DAYLIGHT
DTSTART:20250330T030000
RDATE:20251026T020000
TZOFFSETFROM:+0100
TZOFFSETTO:+0200
TZNAME:Europe/Paris CEST
END:DAYLIGHT
BEGIN:DAYLIGHT
DTSTART:20260329T030000
RDATE:20261025T020000
TZOFFSETFROM:+0100
TZOFFSETTO:+0200
TZNAME:Europe/Paris CEST
END:DAYLIGHT
END:VTIMEZONE
BEGIN:VEVENT
UID:985266edb11db1132f95010d7cc4ccc0
CATEGORIES:Opens et Promos (alpin)
CREATED:20241111T135606
SUMMARY:PROMO Coupe Départemental 90 et Ville de Belfort
URL;VALUE=URI:https://skivosges.net/agenda/a-venir/detailevenement/2376/-/promo-coupe-dep
 artemental-90-et-ville-de-belfort?tmpl=component
DESCRIPTION:PROMO Coupe Départemental 90 et Ville de Belfort\n - Codex évenement AMVT04
 30\n - Lieu : Gentiane\n - Station : BALLON D'ALSACE\n - Piste : Grande Gen
 tiane\n - Organisateur : 14004 STE SKI TOURISME MONTAGNE\n - Courriel : Reg
 ularLabs.EmailProtector.unCloak("ep_7e298007");\n - Téléphone : 0384901720\
 n - Délégué Technique : FUCHS MICHELPériode d'inscription à l'evènement du 
 Dimanche 09 Février 2025 à 00:00 au Vendredi 14 Février 2025 à 23:00Inscrip
 tions ouvertes aux detenteurs des titres Fédéraux valides suivants : Licenc
 iés Compétiteurs et Titres Loisirs et Dirigeants\n - Voir les informations 
 dans l'agenda... (/index.php?option=com_jevents&amp;task=icalevent.detail&a
 mp;evid=2371&amp;Itemid=6289)\n - Vers les résultats... (/index.php?option=
 com_gskiepreuves&amp;view=afficheresultats&amp;format_option=tous&amp;filte
 r[search]=AMVT0430&amp;filter[date_debut]=16-02-2025&amp;filter[date_fin]=1
 6-02-2025&amp;code_activite=ALP&amp;Itemid=6289)\n - Publications concernan
 t cet évènement :\n - Jeudi 13 Février 2025 à 10:16 : Le 16/02/2025 BALLON 
 D'ALSACE/Alpin InformationsEpreuves :\n - Le Dimanche 16 Février 2025\n - C
 odex épreuve AMVM0431\n - Catégorie(s) : U8/U10 (Garçons)\n - Slalom\n - Le
  Dimanche 16 Février 2025\n - Codex épreuve AMVF0431\n - Catégorie(s) : U8/
 U10 (Filles)\n - Slalom\n - Le Dimanche 16 Février 2025\n - Codex épreuve A
 MVM0432\n - Catégorie(s) : U12/U14 (Garçons)\n - Slalom\n - Le Dimanche 16 
 Février 2025\n - Codex épreuve AMVF0432\n - Catégorie(s) : U12/U14 (Filles)
 \n - Slalom\n - Voir les informations dans l'agenda... (/index.php?option=c
 om_jevents&amp;task=icalevent.detail&amp;evid=2371&amp;Itemid=6289)\n - Ver
 s les résultats... (/index.php?option=com_gskiepreuves&amp;view=afficheresu
 ltats&amp;format_option=tous&amp;filter[search]=AMVT0430&amp;filter[date_de
 but]=16-02-2025&amp;filter[date_fin]=16-02-2025&amp;code_activite=ALP&amp;I
 temid=6289)\n - Publications concernant cet évènement :\n - Jeudi 13 Févrie
 r 2025 à 10:16 : Le 16/02/2025 BALLON D'ALSACE/Alpin Informations Cet évène
 ment a été importé depuis :https://skivosges.net/agenda/a-venir/detailevene
 ment/2376/-/promo-coupe-departemental-90-et-ville-de-belfort?tmpl=component
  (https://skivosges.net/agenda/a-venir/detailevenement/2376/-/promo-coupe-d
 epartemental-90-et-ville-de-belfort?tmpl=component)
X-ALT-DESC;FMTTYPE=text/html:<!-- #gskiepreuve code généré par le plugin jevents pour GskiEpreuves. Ne p
 as modifier cette ligne, ni tout le contenu suivant  #gskiepreuve --><div c
 lass="gski-evenement_infos"><div class="gski-evenement-nom">PROMO Coupe Dép
 artemental 90 et Ville de Belfort</div><div class="gski-evenement-report"><
 /div><ul class="gski-evenement-liste-infos"><li>Codex évenement AMVT0430</l
 i><li>Lieu : Gentiane</li><li>Station : BALLON D&#039;ALSACE</li><li>Piste 
 : Grande Gentiane</li><li>Organisateur : 14004 STE SKI TOURISME MONTAGNE</l
 i><li>Courriel : <!-- Cette adresse électronique est protégée contre les ro
 bots spammeurs. --><span class="cloaked_email ep_7e298007"><span data-ep-a=
 "&#106;&#103;h" data-ep-b=""><span data-ep-b="&#114;" data-ep-a="&#64;&#99;
 &#105;"><span data-ep-b="e&#46;&#102;" data-ep-a="&#116;el"></span></span><
 /span></span><script>RegularLabs.EmailProtector.unCloak("ep_7e298007");</sc
 ript></li><li>Téléphone : 0384901720</li><li><span class="gski-evenement-ob
 s">Délégué Technique : FUCHS MICHEL</span></li></ul><div class="gski-evenem
 ent-infos-2"><div class="gski-evenement-info-inscriptions"><div class="gski
 -evenement-inscriptions-periodes">Période d'inscription à l'evènement du Di
 manche 09 Février 2025 à 00:00 au Vendredi 14 Février 2025 à 23:00<div clas
 s="gski-evenement-inscriptions-types-titres">Inscriptions ouvertes aux dete
 nteurs des titres Fédéraux valides suivants : Licenciés Compétiteurs et Tit
 res Loisirs et Dirigeants</div></div></div><div class="gskiepreuves-links">
 <ul><li><a href="https://skivosges.net/index.php?option=com_jevents&task=ic
 alevent.detail&evid=2371&Itemid=6289">Voir les informations dans l'agenda..
 .</a></li><li><a href="https://skivosges.net/index.php?option=com_gskiepreu
 ves&view=afficheresultats&format_option=tous&filter[search]=AMVT0430&filter
 [date_debut]=16-02-2025&filter[date_fin]=16-02-2025&code_activite=ALP&Itemi
 d=6289">Vers les résultats...</a></li><li>Publications concernant cet évène
 ment :<ul><li><a href="https://skivosges.net/index.php?option=com_content&v
 iew=article&id=8613&Itemid=6289">Jeudi 13 Février 2025 à 10:16 : Le 16/02/2
 025 BALLON D'ALSACE/Alpin Informations</a></li></ul></li></ul></div><div cl
 ass="gski-evenement-epreuves"><div class="gski-evenement-epreuves-titres">E
 preuves :</div><ul class="gski-evenement-epreuves-list"><li><div class="gsk
 i-epreuve-date">Le Dimanche 16 Février 2025</div><ul class="gski-epreuve-li
 ste-infos"><li>Codex épreuve AMVM0431</li><li>Catégorie(s) : U8/U10 (Garçon
 s)</li><li>Slalom</li></ul></li><li><div class="gski-epreuve-date">Le Diman
 che 16 Février 2025</div><ul class="gski-epreuve-liste-infos"><li>Codex épr
 euve AMVF0431</li><li>Catégorie(s) : U8/U10 (Filles)</li><li>Slalom</li></u
 l></li><li><div class="gski-epreuve-date">Le Dimanche 16 Février 2025</div>
 <ul class="gski-epreuve-liste-infos"><li>Codex épreuve AMVM0432</li><li>Cat
 égorie(s) : U12/U14 (Garçons)</li><li>Slalom</li></ul></li><li><div class="
 gski-epreuve-date">Le Dimanche 16 Février 2025</div><ul class="gski-epreuve
 -liste-infos"><li>Codex épreuve AMVF0432</li><li>Catégorie(s) : U12/U14 (Fi
 lles)</li><li>Slalom</li></ul></li></ul></div><div class="gskiepreuves-link
 s"><ul><li><a href="https://skivosges.net/index.php?option=com_jevents&task
 =icalevent.detail&evid=2371&Itemid=6289">Voir les informations dans l'agend
 a...</a></li><li><a href="https://skivosges.net/index.php?option=com_gskiep
 reuves&view=afficheresultats&format_option=tous&filter[search]=AMVT0430&fil
 ter[date_debut]=16-02-2025&filter[date_fin]=16-02-2025&code_activite=ALP&It
 emid=6289">Vers les résultats...</a></li><li>Publications concernant cet év
 ènement :<ul><li><a href="https://skivosges.net/index.php?option=com_conten
 t&view=article&id=8613&Itemid=6289">Jeudi 13 Février 2025 à 10:16 : Le 16/0
 2/2025 BALLON D'ALSACE/Alpin Informations</a></li></ul></li></ul></div></di
 v"><!-- #/gskiepreuve fin du dode généré par le plugin jevents pour GskiEpr
 euves. . Ne pas modifier cette ligne, ni tout le contenu précedant.  #/gski
 epreuve --> <a href="https://skivosges.net/agenda/a-venir/detailevenement/2
 376/-/promo-coupe-departemental-90-et-ville-de-belfort?tmpl=component">Cet 
 évènement a été importé depuis :https://skivosges.net/agenda/a-venir/detail
 evenement/2376/-/promo-coupe-departemental-90-et-ville-de-belfort?tmpl=comp
 onent</a>DTSTAMP:20260420T124533
DTSTART;TZID=Europe/Paris;VALUE=DATE:20250216
DTEND;TZID=Europe/Paris;VALUE=DATE:20250217
SEQUENCE:0
TRANSP:OPAQUE
END:VEVENT
END:VCALENDAR