BEGIN:VCALENDAR
VERSION:2.0
PRODID:-//jEvents 2.0 for Joomla//EN
CALSCALE:GREGORIAN
METHOD:PUBLISH
BEGIN:VTIMEZONE
TZID:Europe/Paris
BEGIN:STANDARD
DTSTART:20240229T000000
RDATE:20240331T030000
TZOFFSETFROM:+0200
TZOFFSETTO:+0100
TZNAME:Europe/Paris CET
END:STANDARD
BEGIN:STANDARD
DTSTART:20241027T020000
RDATE:20250330T030000
TZOFFSETFROM:+0200
TZOFFSETTO:+0100
TZNAME:Europe/Paris CET
END:STANDARD
BEGIN:STANDARD
DTSTART:20251026T020000
RDATE:20260329T030000
TZOFFSETFROM:+0200
TZOFFSETTO:+0100
TZNAME:Europe/Paris CET
END:STANDARD
BEGIN:STANDARD
DTSTART:20261025T020000
RDATE:20270328T030000
TZOFFSETFROM:+0200
TZOFFSETTO:+0100
TZNAME:Europe/Paris CET
END:STANDARD
BEGIN:DAYLIGHT
DTSTART:20240331T030000
RDATE:20241027T020000
TZOFFSETFROM:+0100
TZOFFSETTO:+0200
TZNAME:Europe/Paris CEST
END:DAYLIGHT
BEGIN:DAYLIGHT
DTSTART:20250330T030000
RDATE:20251026T020000
TZOFFSETFROM:+0100
TZOFFSETTO:+0200
TZNAME:Europe/Paris CEST
END:DAYLIGHT
BEGIN:DAYLIGHT
DTSTART:20260329T030000
RDATE:20261025T020000
TZOFFSETFROM:+0100
TZOFFSETTO:+0200
TZNAME:Europe/Paris CEST
END:DAYLIGHT
END:VTIMEZONE
BEGIN:VEVENT
UID:17bcb7447f29306750710d7a3815644b
CATEGORIES:Circuit Massif Jeunes (alpin)
CREATED:20241111T135606
SUMMARY:CJM course de la Chaume Francis **REPORTE**
URL;VALUE=URI:https://skivosges.net/agenda/a-venir/detailevenement/2382/-/cjm-course-de-l
 a-chaume-francis-reporte?tmpl=component
DESCRIPTION:CJM course de la Chaume Francis (Epreuve reportée, date à determiner)\n - C
 odex évenement AMVT0470\n - Station : GERARDMER\n - Organisateur : 14089 GE
 RARDMER SKI ALPIN\n - Courriel : RegularLabs.EmailProtector.unCloak("ep_c96
 d87bb");\n - Téléphone : 03 29 60 98 04\n - Délégué Technique : CAEL DOMINI
 QUEPériode d'inscription à l'evènement du Samedi 22 Février 2025 à 00:00 au
  Jeudi 27 Février 2025 à 12:00Inscriptions ouvertes aux detenteurs des titr
 es Fédéraux valides suivants : Licenciés Compétiteurs\n - Voir les informat
 ions dans l'agenda... (/index.php?option=com_jevents&amp;task=icalevent.det
 ail&amp;evid=2377&amp;Itemid=6289)Epreuves :\n - Le Samedi 01 Mars 2025\n -
  Codex épreuve AMVM0471\n - Catégorie(s) : U12 (Garçons)\n - Slalom\n - Le 
 Samedi 01 Mars 2025\n - Codex épreuve AMVF0471\n - Catégorie(s) : U12 (Fill
 es)\n - Slalom\n - Le Samedi 01 Mars 2025\n - Codex épreuve AMVM0472\n - Ca
 tégorie(s) : U14 (Garçons)\n - Slalom\n - Le Samedi 01 Mars 2025\n - Codex 
 épreuve AMVF0472\n - Catégorie(s) : U14 (Filles)\n - Slalom\n - Voir les in
 formations dans l'agenda... (/index.php?option=com_jevents&amp;task=icaleve
 nt.detail&amp;evid=2377&amp;Itemid=6289) Cet évènement a été importé depuis
  :https://skivosges.net/agenda/a-venir/detailevenement/2382/-/cjm-course-de
 -la-chaume-francis-reporte?tmpl=component (https://skivosges.net/agenda/a-v
 enir/detailevenement/2382/-/cjm-course-de-la-chaume-francis-reporte?tmpl=co
 mponent)
X-ALT-DESC;FMTTYPE=text/html:<!-- #gskiepreuve code généré par le plugin jevents pour GskiEpreuves. Ne p
 as modifier cette ligne, ni tout le contenu suivant  #gskiepreuve --><div c
 lass="gski-evenement_infos"><div class="gski-evenement-nom">CJM course de l
 a Chaume Francis</div><div class="gski-evenement-report"> <font class="gski
 attention">(Epreuve reportée, date à determiner)</font></div><ul class="gsk
 i-evenement-liste-infos"><li>Codex évenement AMVT0470</li><li>Station : GER
 ARDMER</li><li>Organisateur : 14089 GERARDMER SKI ALPIN</li><li>Courriel : 
 <!-- Cette adresse électronique est protégée contre les robots spammeurs. -
 -><span class="cloaked_email ep_c96d87bb"><span data-ep-a="&#103;&#101;&#11
 4;&#97;&#114;" data-ep-b="&#101;.&#102;&#114;"><span data-ep-b="&#111;&#114
 ;an&#103;" data-ep-a="d&#109;&#101;&#114;&#45;"><span data-ep-b="lp&#105;n&
 #64;" data-ep-a="&#115;&#107;&#105;&#45;a"></span></span></span></span><scr
 ipt>RegularLabs.EmailProtector.unCloak("ep_c96d87bb");</script></li><li>Tél
 éphone : 03 29 60 98 04</li><li><span class="gski-evenement-obs">Délégué Te
 chnique : CAEL DOMINIQUE</span></li></ul><div class="gski-evenement-infos-2
 "><div class="gski-evenement-info-inscriptions"><div class="gski-evenement-
 inscriptions-periodes">Période d'inscription à l'evènement du Samedi 22 Fév
 rier 2025 à 00:00 au Jeudi 27 Février 2025 à 12:00<div class="gski-evenemen
 t-inscriptions-types-titres">Inscriptions ouvertes aux detenteurs des titre
 s Fédéraux valides suivants : Licenciés Compétiteurs</div></div></div><div 
 class="gskiepreuves-links"><ul><li><a href="https://skivosges.net/index.php
 ?option=com_jevents&task=icalevent.detail&evid=2377&Itemid=6289">Voir les i
 nformations dans l'agenda...</a></li></ul></div><div class="gski-evenement-
 epreuves"><div class="gski-evenement-epreuves-titres">Epreuves :</div><ul c
 lass="gski-evenement-epreuves-list"><li><div class="gski-epreuve-date">Le S
 amedi 01 Mars 2025</div><ul class="gski-epreuve-liste-infos"><li>Codex épre
 uve AMVM0471</li><li>Catégorie(s) : U12 (Garçons)</li><li>Slalom</li></ul><
 /li><li><div class="gski-epreuve-date">Le Samedi 01 Mars 2025</div><ul clas
 s="gski-epreuve-liste-infos"><li>Codex épreuve AMVF0471</li><li>Catégorie(s
 ) : U12 (Filles)</li><li>Slalom</li></ul></li><li><div class="gski-epreuve-
 date">Le Samedi 01 Mars 2025</div><ul class="gski-epreuve-liste-infos"><li>
 Codex épreuve AMVM0472</li><li>Catégorie(s) : U14 (Garçons)</li><li>Slalom<
 /li></ul></li><li><div class="gski-epreuve-date">Le Samedi 01 Mars 2025</di
 v><ul class="gski-epreuve-liste-infos"><li>Codex épreuve AMVF0472</li><li>C
 atégorie(s) : U14 (Filles)</li><li>Slalom</li></ul></li></ul></div><div cla
 ss="gskiepreuves-links"><ul><li><a href="https://skivosges.net/index.php?op
 tion=com_jevents&task=icalevent.detail&evid=2377&Itemid=6289">Voir les info
 rmations dans l'agenda...</a></li></ul></div></div"><!-- #/gskiepreuve fin 
 du dode généré par le plugin jevents pour GskiEpreuves. . Ne pas modifier c
 ette ligne, ni tout le contenu précedant.  #/gskiepreuve --> <a href="https
 ://skivosges.net/agenda/a-venir/detailevenement/2382/-/cjm-course-de-la-cha
 ume-francis-reporte?tmpl=component">Cet évènement a été importé depuis :htt
 ps://skivosges.net/agenda/a-venir/detailevenement/2382/-/cjm-course-de-la-c
 haume-francis-reporte?tmpl=component</a>DTSTAMP:20260420T221502
DTSTART;TZID=Europe/Paris;VALUE=DATE:20250301
DTEND;TZID=Europe/Paris;VALUE=DATE:20250302
SEQUENCE:0
TRANSP:OPAQUE
END:VEVENT
END:VCALENDAR