BEGIN:VCALENDAR
VERSION:2.0
PRODID:-//jEvents 2.0 for Joomla//EN
CALSCALE:GREGORIAN
METHOD:PUBLISH
BEGIN:VTIMEZONE
TZID:Europe/Paris
BEGIN:STANDARD
DTSTART:20240301T000000
RDATE:20240331T030000
TZOFFSETFROM:+0200
TZOFFSETTO:+0100
TZNAME:Europe/Paris CET
END:STANDARD
BEGIN:STANDARD
DTSTART:20241027T020000
RDATE:20250330T030000
TZOFFSETFROM:+0200
TZOFFSETTO:+0100
TZNAME:Europe/Paris CET
END:STANDARD
BEGIN:STANDARD
DTSTART:20251026T020000
RDATE:20260329T030000
TZOFFSETFROM:+0200
TZOFFSETTO:+0100
TZNAME:Europe/Paris CET
END:STANDARD
BEGIN:STANDARD
DTSTART:20261025T020000
RDATE:20270328T030000
TZOFFSETFROM:+0200
TZOFFSETTO:+0100
TZNAME:Europe/Paris CET
END:STANDARD
BEGIN:DAYLIGHT
DTSTART:20240331T030000
RDATE:20241027T020000
TZOFFSETFROM:+0100
TZOFFSETTO:+0200
TZNAME:Europe/Paris CEST
END:DAYLIGHT
BEGIN:DAYLIGHT
DTSTART:20250330T030000
RDATE:20251026T020000
TZOFFSETFROM:+0100
TZOFFSETTO:+0200
TZNAME:Europe/Paris CEST
END:DAYLIGHT
BEGIN:DAYLIGHT
DTSTART:20260329T030000
RDATE:20261025T020000
TZOFFSETFROM:+0100
TZOFFSETTO:+0200
TZNAME:Europe/Paris CEST
END:DAYLIGHT
END:VTIMEZONE
BEGIN:VEVENT
UID:338943b94c26af7be032827aed2251e6
CATEGORIES:Compétition Ski de Fond
CREATED:20241111T135606
SUMMARY:LA GEROMOISE BIG-MAT SALOMON N°10 U13(9) Crédit Mutuel n°8 **REPORTE(E) au 08/02/2025**
URL;VALUE=URI:https://skivosges.net/agenda/a-venir/detailevenement/2386/-/la-geromoise-bi
 g-mat-salomon-n-10-u13-9-credit-mutuel-n-8-reporte-e-au-08-02-2025?tmpl=com
 ponent
DESCRIPTION:LA GEROMOISE BIG-MAT SALOMON N°10 U13(9) Crédit Mutuel n°8 (Epreuve reporté
 e au 08/02/2025)\n - Codex évenement FMVT0200\n - Station : GERARDMER\n - O
 rganisateur : 14469 A.S GERARDMER SKI NORDIQUE\n - Courriel : RegularLabs.E
 mailProtector.unCloak("ep_669f8cd0");\n - Délégué Technique : GERARD VINCEN
 TPériode d'inscription à l'evènement du Dimanche 23 Février 2025 à 00:00 au
  Vendredi 28 Février 2025 à 12:00Inscriptions ouvertes aux detenteurs des t
 itres Fédéraux valides suivants : Licenciés Compétiteurs\n - Voir les infor
 mations dans l'agenda... (/index.php?option=com_jevents&amp;task=icalevent.
 detail&amp;evid=2381&amp;Itemid=6289)\n - Vers les résultats... (/index.php
 ?option=com_gskiepreuves&amp;view=afficheresultats&amp;format_option=tous&a
 mp;filter[search]=FMVT0200&amp;filter[date_debut]=08-02-2025&amp;filter[dat
 e_fin]=08-02-2025&amp;code_activite=FOND&amp;Itemid=6289)\n - Publications 
 concernant cet évènement :\n - Samedi 8 Février 2025 à 11:43 : Le 08/02/202
 5 STOSSWIHR - LES TROIS FOURS/Fond RésultatsEpreuves :\n - Le Dimanche 02 M
 ars 2025\n - Codex épreuve FMVF0201\n - Catégorie(s) : U13 (Filles)\n - Dep
 art Individuel\n - Distance : 3 / Style : C\n - Le Dimanche 02 Mars 2025\n 
 - Codex épreuve FMVM0201\n - Catégorie(s) : U13 (Garçons)\n - Depart Indivi
 duel\n - Distance : 3 / Style : C\n - Le Dimanche 02 Mars 2025\n - Codex ép
 reuve FMVF0202\n - Catégorie(s) : U15 (Filles)\n - Depart Individuel\n - Di
 stance : 5 / Style : C\n - Le Dimanche 02 Mars 2025\n - Codex épreuve FMVM0
 202\n - Catégorie(s) : U15 (Garçons)\n - Depart Individuel\n - Distance : 5
  / Style : C\n - Le Dimanche 02 Mars 2025\n - Codex épreuve FMVF0203\n - Ca
 tégorie(s) : U16 (Dames)\n - Depart Individuel\n - Distance : 10 / Style : 
 C\n - Le Dimanche 02 Mars 2025\n - Codex épreuve FMVM0203\n - Catégorie(s) 
 : U16 (Hommes)\n - Depart Individuel\n - Distance : 10 / Style : C\n - Le D
 imanche 02 Mars 2025\n - Codex épreuve FMVF0204\n - Catégorie(s) : U18 (Dam
 es)\n - Depart Individuel\n - Distance : 10 / Style : C\n - Le Dimanche 02 
 Mars 2025\n - Codex épreuve FMVM0204\n - Catégorie(s) : U18 (Hommes)\n - De
 part Individuel\n - Distance : 15 / Style : C\n - Le Dimanche 02 Mars 2025\
 n - Codex épreuve FMVF0205\n - Catégorie(s) : U20/SEN (Dames)\n - Depart In
 dividuel\n - Distance : 15 / Style : C\n - Le Dimanche 02 Mars 2025\n - Cod
 ex épreuve FMVM0205\n - Catégorie(s) : U20/SEN (Hommes)\n - Depart Individu
 el\n - Distance : 30 / Style : C\n - Voir les informations dans l'agenda...
  (/index.php?option=com_jevents&amp;task=icalevent.detail&amp;evid=2381&amp
 ;Itemid=6289)\n - Vers les résultats... (/index.php?option=com_gskiepreuves
 &amp;view=afficheresultats&amp;format_option=tous&amp;filter[search]=FMVT02
 00&amp;filter[date_debut]=08-02-2025&amp;filter[date_fin]=08-02-2025&amp;co
 de_activite=FOND&amp;Itemid=6289)\n - Publications concernant cet évènement
  :\n - Samedi 8 Février 2025 à 11:43 : Le 08/02/2025 STOSSWIHR - LES TROIS 
 FOURS/Fond Résultats Cet évènement a été importé depuis :https://skivosges.
 net/agenda/a-venir/detailevenement/2386/-/la-geromoise-big-mat-salomon-n-10
 -u13-9-credit-mutuel-n-8-reporte-e-au-08-02-2025?tmpl=component
X-ALT-DESC;FMTTYPE=text/html:<!-- #gskiepreuve code généré par le plugin jevents pour GskiEpreuves. Ne p
 as modifier cette ligne, ni tout le contenu suivant  #gskiepreuve --><div c
 lass="gski-evenement_infos"><div class="gski-evenement-nom">LA GEROMOISE BI
 G-MAT SALOMON N°10 U13(9) Crédit Mutuel n°8</div><div class="gski-evenement
 -report"> <font class="gskiattention">(Epreuve reportée au 08/02/2025)</fon
 t></div><ul class="gski-evenement-liste-infos"><li>Codex évenement FMVT0200
 </li><li>Station : GERARDMER</li><li>Organisateur : 14469 A.S GERARDMER SKI
  NORDIQUE</li><li>Courriel : <!-- Cette adresse électronique est protégée c
 ontre les robots spammeurs. --><span class="cloaked_email ep_669f8cd0"><spa
 n data-ep-a="fr&#97;&#110;" data-ep-b=".&#102;&#114;"><span data-ep-b="b&#9
 8;&#111;&#120;" data-ep-a="c&#105;&#115;."><span data-ep-a="&#107;i&#101;&#
 110;" data-ep-b="t&#122;&#121;&#64;"></span></span></span></span><script>Re
 gularLabs.EmailProtector.unCloak("ep_669f8cd0");</script></li><li><span cla
 ss="gski-evenement-obs">Délégué Technique : GERARD VINCENT</span></li></ul>
 <div class="gski-evenement-infos-2"><div class="gski-evenement-info-inscrip
 tions"><div class="gski-evenement-inscriptions-periodes">Période d'inscript
 ion à l'evènement du Dimanche 23 Février 2025 à 00:00 au Vendredi 28 Févrie
 r 2025 à 12:00<div class="gski-evenement-inscriptions-types-titres">Inscrip
 tions ouvertes aux detenteurs des titres Fédéraux valides suivants : Licenc
 iés Compétiteurs</div></div></div><div class="gskiepreuves-links"><ul><li><
 a href="https://skivosges.net/index.php?option=com_jevents&task=icalevent.d
 etail&evid=2381&Itemid=6289">Voir les informations dans l'agenda...</a></li
 ><li><a href="https://skivosges.net/index.php?option=com_gskiepreuves&view=
 afficheresultats&format_option=tous&filter[search]=FMVT0200&filter[date_deb
 ut]=08-02-2025&filter[date_fin]=08-02-2025&code_activite=FOND&Itemid=6289">
 Vers les résultats...</a></li><li>Publications concernant cet évènement :<u
 l><li><a href="https://skivosges.net/index.php?option=com_content&view=arti
 cle&id=8606&Itemid=6289">Samedi 8 Février 2025 à 11:43 : Le 08/02/2025 STOS
 SWIHR - LES TROIS FOURS/Fond Résultats</a></li></ul></li></ul></div><div cl
 ass="gski-evenement-epreuves"><div class="gski-evenement-epreuves-titres">E
 preuves :</div><ul class="gski-evenement-epreuves-list"><li><div class="gsk
 i-epreuve-date">Le Dimanche 02 Mars 2025</div><ul class="gski-epreuve-liste
 -infos"><li>Codex épreuve FMVF0201</li><li>Catégorie(s) : U13 (Filles)</li>
 <li>Depart Individuel</li><li>Distance : 3 / Style : C</li></ul></li><li><d
 iv class="gski-epreuve-date">Le Dimanche 02 Mars 2025</div><ul class="gski-
 epreuve-liste-infos"><li>Codex épreuve FMVM0201</li><li>Catégorie(s) : U13 
 (Garçons)</li><li>Depart Individuel</li><li>Distance : 3 / Style : C</li></
 ul></li><li><div class="gski-epreuve-date">Le Dimanche 02 Mars 2025</div><u
 l class="gski-epreuve-liste-infos"><li>Codex épreuve FMVF0202</li><li>Catég
 orie(s) : U15 (Filles)</li><li>Depart Individuel</li><li>Distance : 5 / Sty
 le : C</li></ul></li><li><div class="gski-epreuve-date">Le Dimanche 02 Mars
  2025</div><ul class="gski-epreuve-liste-infos"><li>Codex épreuve FMVM0202<
 /li><li>Catégorie(s) : U15 (Garçons)</li><li>Depart Individuel</li><li>Dist
 ance : 5 / Style : C</li></ul></li><li><div class="gski-epreuve-date">Le Di
 manche 02 Mars 2025</div><ul class="gski-epreuve-liste-infos"><li>Codex épr
 euve FMVF0203</li><li>Catégorie(s) : U16 (Dames)</li><li>Depart Individuel<
 /li><li>Distance : 10 / Style : C</li></ul></li><li><div class="gski-epreuv
 e-date">Le Dimanche 02 Mars 2025</div><ul class="gski-epreuve-liste-infos">
 <li>Codex épreuve FMVM0203</li><li>Catégorie(s) : U16 (Hommes)</li><li>Depa
 rt Individuel</li><li>Distance : 10 / Style : C</li></ul></li><li><div clas
 s="gski-epreuve-date">Le Dimanche 02 Mars 2025</div><ul class="gski-epreuve
 -liste-infos"><li>Codex épreuve FMVF0204</li><li>Catégorie(s) : U18 (Dames)
 </li><li>Depart Individuel</li><li>Distance : 10 / Style : C</li></ul></li>
 <li><div class="gski-epreuve-date">Le Dimanche 02 Mars 2025</div><ul class=
 "gski-epreuve-liste-infos"><li>Codex épreuve FMVM0204</li><li>Catégorie(s) 
 : U18 (Hommes)</li><li>Depart Individuel</li><li>Distance : 15 / Style : C<
 /li></ul></li><li><div class="gski-epreuve-date">Le Dimanche 02 Mars 2025</
 div><ul class="gski-epreuve-liste-infos"><li>Codex épreuve FMVF0205</li><li
 >Catégorie(s) : U20/SEN (Dames)</li><li>Depart Individuel</li><li>Distance 
 : 15 / Style : C</li></ul></li><li><div class="gski-epreuve-date">Le Dimanc
 he 02 Mars 2025</div><ul class="gski-epreuve-liste-infos"><li>Codex épreuve
  FMVM0205</li><li>Catégorie(s) : U20/SEN (Hommes)</li><li>Depart Individuel
 </li><li>Distance : 30 / Style : C</li></ul></li></ul></div><div class="gsk
 iepreuves-links"><ul><li><a href="https://skivosges.net/index.php?option=co
 m_jevents&task=icalevent.detail&evid=2381&Itemid=6289">Voir les information
 s dans l'agenda...</a></li><li><a href="https://skivosges.net/index.php?opt
 ion=com_gskiepreuves&view=afficheresultats&format_option=tous&filter[search
 ]=FMVT0200&filter[date_debut]=08-02-2025&filter[date_fin]=08-02-2025&code_a
 ctivite=FOND&Itemid=6289">Vers les résultats...</a></li><li>Publications co
 ncernant cet évènement :<ul><li><a href="https://skivosges.net/index.php?op
 tion=com_content&view=article&id=8606&Itemid=6289">Samedi 8 Février 2025 à 
 11:43 : Le 08/02/2025 STOSSWIHR - LES TROIS FOURS/Fond Résultats</a></li></
 ul></li></ul></div></div"><!-- #/gskiepreuve fin du dode généré par le plug
 in jevents pour GskiEpreuves. . Ne pas modifier cette ligne, ni tout le con
 tenu précedant.  #/gskiepreuve --> <a href="https://skivosges.net/agenda/a-
 venir/detailevenement/2386/-/la-geromoise-big-mat-salomon-n-10-u13-9-credit
 -mutuel-n-8-reporte-e-au-08-02-2025?tmpl=component">Cet évènement a été imp
 orté depuis :https://skivosges.net/agenda/a-venir/detailevenement/2386/-/la
 -geromoise-big-mat-salomon-n-10-u13-9-credit-mutuel-n-8-reporte-e-au-08-02-
 2025?tmpl=component</a>DTSTAMP:20260420T221502
DTSTART;TZID=Europe/Paris;VALUE=DATE:20250302
DTEND;TZID=Europe/Paris;VALUE=DATE:20250303
SEQUENCE:0
TRANSP:OPAQUE
END:VEVENT
END:VCALENDAR