BEGIN:VCALENDAR
VERSION:2.0
PRODID:-//jEvents 2.0 for Joomla//EN
CALSCALE:GREGORIAN
METHOD:PUBLISH
BEGIN:VTIMEZONE
TZID:Europe/Paris
BEGIN:STANDARD
DTSTART:20240306T000000
RDATE:20240331T030000
TZOFFSETFROM:+0200
TZOFFSETTO:+0100
TZNAME:Europe/Paris CET
END:STANDARD
BEGIN:STANDARD
DTSTART:20241027T020000
RDATE:20250330T030000
TZOFFSETFROM:+0200
TZOFFSETTO:+0100
TZNAME:Europe/Paris CET
END:STANDARD
BEGIN:STANDARD
DTSTART:20251026T020000
RDATE:20260329T030000
TZOFFSETFROM:+0200
TZOFFSETTO:+0100
TZNAME:Europe/Paris CET
END:STANDARD
BEGIN:STANDARD
DTSTART:20261025T020000
RDATE:20270328T030000
TZOFFSETFROM:+0200
TZOFFSETTO:+0100
TZNAME:Europe/Paris CET
END:STANDARD
BEGIN:DAYLIGHT
DTSTART:20240331T030000
RDATE:20241027T020000
TZOFFSETFROM:+0100
TZOFFSETTO:+0200
TZNAME:Europe/Paris CEST
END:DAYLIGHT
BEGIN:DAYLIGHT
DTSTART:20250330T030000
RDATE:20251026T020000
TZOFFSETFROM:+0100
TZOFFSETTO:+0200
TZNAME:Europe/Paris CEST
END:DAYLIGHT
BEGIN:DAYLIGHT
DTSTART:20260329T030000
RDATE:20261025T020000
TZOFFSETFROM:+0100
TZOFFSETTO:+0200
TZNAME:Europe/Paris CEST
END:DAYLIGHT
END:VTIMEZONE
BEGIN:VEVENT
UID:7f050cbd9103ec254d75acb60517a82e
CATEGORIES:Compétition Ski Alpin
CREATED:20241111T135606
SUMMARY:Promo Challenge des Cadres du CD67
URL;VALUE=URI:https://skivosges.net/agenda/a-venir/detailevenement/2388/-/promo-challenge
 -des-cadres-du-cd67?tmpl=component
DESCRIPTION:<!-- #gskiepreuve code généré par le plugin jevents pour GskiEpreuves. Ne p
 as modifier cette ligne, ni tout le contenu suivant  #gskiepreuve --><div c
 lass="gski-evenement_infos"><div class="gski-evenement-nom">Promo Challenge
  des Cadres du CD67</div><div class="gski-evenement-report"></div><ul class
 ="gski-evenement-liste-infos"><li>Codex évenement AMVT0520</li><li>Station 
 : CHAMP DU FEU</li><li>Organisateur : 14003 SKI CLUB BARR</li><li>Courriel 
 : <!-- Cette adresse électronique est protégée contre les robots spammeurs.
  --><span class="cloaked_email ep_c1e71510"><span data-ep-a="&#119;&#105;&#
 101;s&#46;" data-ep-b=""><span data-ep-a="&#99;h&#114;&#105;&#115;" data-ep
 -b="l&#46;&#99;&#111;&#109;"><span data-ep-a="&#116;&#111;phe" data-ep-b="&
 #64;&#103;&#109;&#97;i"></span></span></span></span><script>RegularLabs.Ema
 ilProtector.unCloak("ep_c1e71510");</script></li></ul><div class="gski-even
 ement-infos-2"><div class="gski-evenement-info-inscriptions"><div class="gs
 ki-evenement-inscriptions-periodes">Période d'inscription à l'evènement du 
 Vendredi 28 Février 2025 à 00:00 au Vendredi 07 Mars 2025 à 12:00<div class
 ="gski-evenement-inscriptions-types-titres">Inscriptions ouvertes aux deten
 teurs des titres Fédéraux valides suivants : Licenciés Compétiteurs et Titr
 es Loisirs et Dirigeants</div></div></div><div class="gskiepreuves-links"><
 ul><li><a href="/index.php?option=com_jevents&task=icalevent.detail&evid=23
 83&Itemid=6289">Voir les informations dans l'agenda...</a></li><li><a href=
 "/index.php?option=com_gskiepreuves&view=afficheresultats&format_option=tou
 s&filter[search]=AMVT0520&filter[date_debut]=07-03-2025&filter[date_fin]=07
 -03-2025&code_activite=ALP&Itemid=6289">Vers les résultats...</a></li><li>P
 ublications concernant cet évènement :<ul><li><a href="/index.php?option=co
 m_content&view=article&id=8662&Itemid=6289">Vendredi 7 Mars 2025 à 20:37 : 
 Le 07/03/2025 CHAMP DU FEU/Alpin Résultats</a></li></ul></li></ul></div><di
 v class="gski-evenement-epreuves"><div class="gski-evenement-epreuves-titre
 s">Epreuves :</div><ul class="gski-evenement-epreuves-list"><li><div class=
 "gski-epreuve-date">Le Vendredi 07 Mars 2025</div><ul class="gski-epreuve-l
 iste-infos"><li>Codex épreuve AMVM0521</li><li>Catégorie(s) : U18 a Masters
  (Hommes)</li><li>Slalom Geant</li></ul></li><li><div class="gski-epreuve-d
 ate">Le Vendredi 07 Mars 2025</div><ul class="gski-epreuve-liste-infos"><li
 >Codex épreuve AMVF0521</li><li>Catégorie(s) : U18 a Masters (Dames)</li><l
 i>Slalom Geant</li></ul></li></ul></div><div class="gskiepreuves-links"><ul
 ><li><a href="/index.php?option=com_jevents&task=icalevent.detail&evid=2383
 &Itemid=6289">Voir les informations dans l'agenda...</a></li><li><a href="/
 index.php?option=com_gskiepreuves&view=afficheresultats&format_option=tous&
 filter[search]=AMVT0520&filter[date_debut]=07-03-2025&filter[date_fin]=07-0
 3-2025&code_activite=ALP&Itemid=6289">Vers les résultats...</a></li><li>Pub
 lications concernant cet évènement :<ul><li><a href="/index.php?option=com_
 content&view=article&id=8662&Itemid=6289">Vendredi 7 Mars 2025 à 20:37 : Le
  07/03/2025 CHAMP DU FEU/Alpin Résultats</a></li></ul></li></ul></div></div
 "><!-- #/gskiepreuve fin du dode généré par le plugin jevents pour GskiEpre
 uves. . Ne pas modifier cette ligne, ni tout le contenu précedant.  #/gskie
 preuve --> <a href="https://skivosges.net/agenda/a-venir/detailevenement/23
 88/-/promo-challenge-des-cadres-du-cd67?tmpl=component">Cet évènement a été
  importé depuis :https://skivosges.net/agenda/a-venir/detailevenement/2388/
 -/promo-challenge-des-cadres-du-cd67?tmpl=component</a>
X-ALT-DESC;FMTTYPE=text/html:<!-- #gskiepreuve code généré par le plugin jevents pour GskiEpreuves. Ne p
 as modifier cette ligne, ni tout le contenu suivant  #gskiepreuve --><div c
 lass="gski-evenement_infos"><div class="gski-evenement-nom">Promo Challenge
  des Cadres du CD67</div><div class="gski-evenement-report"></div><ul class
 ="gski-evenement-liste-infos"><li>Codex évenement AMVT0520</li><li>Station 
 : CHAMP DU FEU</li><li>Organisateur : 14003 SKI CLUB BARR</li><li>Courriel 
 : <!-- Cette adresse électronique est protégée contre les robots spammeurs.
  --><span class="cloaked_email ep_c1e71510"><span data-ep-a="&#119;&#105;&#
 101;s&#46;" data-ep-b=""><span data-ep-a="&#99;h&#114;&#105;&#115;" data-ep
 -b="l&#46;&#99;&#111;&#109;"><span data-ep-a="&#116;&#111;phe" data-ep-b="&
 #64;&#103;&#109;&#97;i"></span></span></span></span><script>RegularLabs.Ema
 ilProtector.unCloak("ep_c1e71510");</script></li></ul><div class="gski-even
 ement-infos-2"><div class="gski-evenement-info-inscriptions"><div class="gs
 ki-evenement-inscriptions-periodes">Période d'inscription à l'evènement du 
 Vendredi 28 Février 2025 à 00:00 au Vendredi 07 Mars 2025 à 12:00<div class
 ="gski-evenement-inscriptions-types-titres">Inscriptions ouvertes aux deten
 teurs des titres Fédéraux valides suivants : Licenciés Compétiteurs et Titr
 es Loisirs et Dirigeants</div></div></div><div class="gskiepreuves-links"><
 ul><li><a href="https://skivosges.net/index.php?option=com_jevents&task=ica
 levent.detail&evid=2383&Itemid=6289">Voir les informations dans l'agenda...
 </a></li><li><a href="https://skivosges.net/index.php?option=com_gskiepreuv
 es&view=afficheresultats&format_option=tous&filter[search]=AMVT0520&filter[
 date_debut]=07-03-2025&filter[date_fin]=07-03-2025&code_activite=ALP&Itemid
 =6289">Vers les résultats...</a></li><li>Publications concernant cet évènem
 ent :<ul><li><a href="https://skivosges.net/index.php?option=com_content&vi
 ew=article&id=8662&Itemid=6289">Vendredi 7 Mars 2025 à 20:37 : Le 07/03/202
 5 CHAMP DU FEU/Alpin Résultats</a></li></ul></li></ul></div><div class="gsk
 i-evenement-epreuves"><div class="gski-evenement-epreuves-titres">Epreuves 
 :</div><ul class="gski-evenement-epreuves-list"><li><div class="gski-epreuv
 e-date">Le Vendredi 07 Mars 2025</div><ul class="gski-epreuve-liste-infos">
 <li>Codex épreuve AMVM0521</li><li>Catégorie(s) : U18 a Masters (Hommes)</l
 i><li>Slalom Geant</li></ul></li><li><div class="gski-epreuve-date">Le Vend
 redi 07 Mars 2025</div><ul class="gski-epreuve-liste-infos"><li>Codex épreu
 ve AMVF0521</li><li>Catégorie(s) : U18 a Masters (Dames)</li><li>Slalom Gea
 nt</li></ul></li></ul></div><div class="gskiepreuves-links"><ul><li><a href
 ="https://skivosges.net/index.php?option=com_jevents&task=icalevent.detail&
 evid=2383&Itemid=6289">Voir les informations dans l'agenda...</a></li><li><
 a href="https://skivosges.net/index.php?option=com_gskiepreuves&view=affich
 eresultats&format_option=tous&filter[search]=AMVT0520&filter[date_debut]=07
 -03-2025&filter[date_fin]=07-03-2025&code_activite=ALP&Itemid=6289">Vers le
 s résultats...</a></li><li>Publications concernant cet évènement :<ul><li><
 a href="https://skivosges.net/index.php?option=com_content&view=article&id=
 8662&Itemid=6289">Vendredi 7 Mars 2025 à 20:37 : Le 07/03/2025 CHAMP DU FEU
 /Alpin Résultats</a></li></ul></li></ul></div></div"><!-- #/gskiepreuve fin
  du dode généré par le plugin jevents pour GskiEpreuves. . Ne pas modifier 
 cette ligne, ni tout le contenu précedant.  #/gskiepreuve --> <a href="http
 s://skivosges.net/agenda/a-venir/detailevenement/2388/-/promo-challenge-des
 -cadres-du-cd67?tmpl=component">Cet évènement a été importé depuis :https:/
 /skivosges.net/agenda/a-venir/detailevenement/2388/-/promo-challenge-des-ca
 dres-du-cd67?tmpl=component</a>DTSTAMP:20260421T051502
DTSTART;TZID=Europe/Paris;VALUE=DATE:20250307
DTEND;TZID=Europe/Paris;VALUE=DATE:20250308
SEQUENCE:0
TRANSP:OPAQUE
END:VEVENT
END:VCALENDAR