BEGIN:VCALENDAR
VERSION:2.0
PRODID:-//jEvents 2.0 for Joomla//EN
CALSCALE:GREGORIAN
METHOD:PUBLISH
BEGIN:VTIMEZONE
TZID:Europe/Paris
BEGIN:STANDARD
DTSTART:20240308T000000
RDATE:20240331T030000
TZOFFSETFROM:+0200
TZOFFSETTO:+0100
TZNAME:Europe/Paris CET
END:STANDARD
BEGIN:STANDARD
DTSTART:20241027T020000
RDATE:20250330T030000
TZOFFSETFROM:+0200
TZOFFSETTO:+0100
TZNAME:Europe/Paris CET
END:STANDARD
BEGIN:STANDARD
DTSTART:20251026T020000
RDATE:20260329T030000
TZOFFSETFROM:+0200
TZOFFSETTO:+0100
TZNAME:Europe/Paris CET
END:STANDARD
BEGIN:STANDARD
DTSTART:20261025T020000
RDATE:20270328T030000
TZOFFSETFROM:+0200
TZOFFSETTO:+0100
TZNAME:Europe/Paris CET
END:STANDARD
BEGIN:DAYLIGHT
DTSTART:20240331T030000
RDATE:20241027T020000
TZOFFSETFROM:+0100
TZOFFSETTO:+0200
TZNAME:Europe/Paris CEST
END:DAYLIGHT
BEGIN:DAYLIGHT
DTSTART:20250330T030000
RDATE:20251026T020000
TZOFFSETFROM:+0100
TZOFFSETTO:+0200
TZNAME:Europe/Paris CEST
END:DAYLIGHT
BEGIN:DAYLIGHT
DTSTART:20260329T030000
RDATE:20261025T020000
TZOFFSETFROM:+0100
TZOFFSETTO:+0200
TZNAME:Europe/Paris CEST
END:DAYLIGHT
END:VTIMEZONE
BEGIN:VEVENT
UID:f99dcdff0c99690cd252e246876ae27a
CATEGORIES:Circuit Massif Jeunes (alpin)
CREATED:20241111T135606
SUMMARY:CJM Prix de la Pâtisserie GILG Munster - Mémorial Olivier Kling **REPORTE(E) au 01/03/2025**
URL;VALUE=URI:https://skivosges.net/agenda/a-venir/detailevenement/2390/-/cjm-prix-de-la-
 patisserie-gilg-munster-memorial-olivier-kling-reporte-e-au-01-03-2025?tmpl
 =component
DESCRIPTION:CJM Prix de la Pâtisserie GILG Munster - Mémorial Olivier Kling (Epreuve re
 portée au 01/03/2025)\n - Codex évenement AMVT0680\n - Station : SCHNEPFENR
 IED\n - Organisateur : 14199 SKIEURS DU TANET\n - Courriel : RegularLabs.Em
 ailProtector.unCloak("ep_b41bde65");\n - Téléphone : 06.77.87.37.11Période 
 d'inscription à l'evènement du Dimanche 02 Mars 2025 à 00:00 au Vendredi 07
  Mars 2025 à 12:00Inscriptions ouvertes aux detenteurs des titres Fédéraux 
 valides suivants : Licenciés Compétiteurs\n - Voir les informations dans l'
 agenda... (/index.php?option=com_jevents&amp;task=icalevent.detail&amp;evid
 =2385&amp;Itemid=6289)\n - Vers les résultats... (/index.php?option=com_gsk
 iepreuves&amp;view=afficheresultats&amp;format_option=tous&amp;filter[searc
 h]=AMVT0680&amp;filter[date_debut]=01-03-2025&amp;filter[date_fin]=01-03-20
 25&amp;code_activite=ALP&amp;Itemid=6289)\n - Publications concernant cet é
 vènement :\n - Jeudi 27 Février 2025 à 23:00 : Le 01/03/2025 SCHNEPFENRIED/
 Alpin InformationsEpreuves :\n - Le Dimanche 09 Mars 2025\n - Codex épreuve
  AMVM0681\n - Catégorie(s) : U12/U14 (Garçons)\n - Slalom\n - Le Dimanche 0
 9 Mars 2025\n - Codex épreuve AMVF0681\n - Catégorie(s) : U12/U14 (Filles)\
 n - Slalom\n - Voir les informations dans l'agenda... (/index.php?option=co
 m_jevents&amp;task=icalevent.detail&amp;evid=2385&amp;Itemid=6289)\n - Vers
  les résultats... (/index.php?option=com_gskiepreuves&amp;view=afficheresul
 tats&amp;format_option=tous&amp;filter[search]=AMVT0680&amp;filter[date_deb
 ut]=01-03-2025&amp;filter[date_fin]=01-03-2025&amp;code_activite=ALP&amp;It
 emid=6289)\n - Publications concernant cet évènement :\n - Jeudi 27 Février
  2025 à 23:00 : Le 01/03/2025 SCHNEPFENRIED/Alpin Informations Cet évènemen
 t a été importé depuis :https://skivosges.net/agenda/a-venir/detailevenemen
 t/2390/-/cjm-prix-de-la-patisserie-gilg-munster-memorial-olivier-kling-repo
 rte-e-au-01-03-2025?tmpl=component
X-ALT-DESC;FMTTYPE=text/html:<!-- #gskiepreuve code généré par le plugin jevents pour GskiEpreuves. Ne p
 as modifier cette ligne, ni tout le contenu suivant  #gskiepreuve --><div c
 lass="gski-evenement_infos"><div class="gski-evenement-nom">CJM Prix de la 
 Pâtisserie GILG Munster - Mémorial Olivier Kling</div><div class="gski-even
 ement-report"> <font class="gskiattention">(Epreuve reportée au 01/03/2025)
 </font></div><ul class="gski-evenement-liste-infos"><li>Codex évenement AMV
 T0680</li><li>Station : SCHNEPFENRIED</li><li>Organisateur : 14199 SKIEURS 
 DU TANET</li><li>Courriel : <!-- Cette adresse électronique est protégée co
 ntre les robots spammeurs. --><span class="cloaked_email ep_b41bde65"><span
  data-ep-b="&#101;&#46;&#102;&#114;" data-ep-a="&#97;la&#105;"><span data-e
 p-b="&#114;&#118;&#105;&#99;" data-ep-a="&#110;&#46;&#109;&#101;"><span dat
 a-ep-b="&#116;&#112;&#115;&#101;" data-ep-a="&#121;&#101;&#114;&#64;"></spa
 n></span></span></span><script>RegularLabs.EmailProtector.unCloak("ep_b41bd
 e65");</script></li><li>Téléphone : 06.77.87.37.11</li></ul><div class="gsk
 i-evenement-infos-2"><div class="gski-evenement-info-inscriptions"><div cla
 ss="gski-evenement-inscriptions-periodes">Période d'inscription à l'evèneme
 nt du Dimanche 02 Mars 2025 à 00:00 au Vendredi 07 Mars 2025 à 12:00<div cl
 ass="gski-evenement-inscriptions-types-titres">Inscriptions ouvertes aux de
 tenteurs des titres Fédéraux valides suivants : Licenciés Compétiteurs</div
 ></div></div><div class="gskiepreuves-links"><ul><li><a href="https://skivo
 sges.net/index.php?option=com_jevents&task=icalevent.detail&evid=2385&Itemi
 d=6289">Voir les informations dans l'agenda...</a></li><li><a href="https:/
 /skivosges.net/index.php?option=com_gskiepreuves&view=afficheresultats&form
 at_option=tous&filter[search]=AMVT0680&filter[date_debut]=01-03-2025&filter
 [date_fin]=01-03-2025&code_activite=ALP&Itemid=6289">Vers les résultats...<
 /a></li><li>Publications concernant cet évènement :<ul><li><a href="https:/
 /skivosges.net/index.php?option=com_content&view=article&id=8631&Itemid=628
 9">Jeudi 27 Février 2025 à 23:00 : Le 01/03/2025 SCHNEPFENRIED/Alpin Inform
 ations</a></li></ul></li></ul></div><div class="gski-evenement-epreuves"><d
 iv class="gski-evenement-epreuves-titres">Epreuves :</div><ul class="gski-e
 venement-epreuves-list"><li><div class="gski-epreuve-date">Le Dimanche 09 M
 ars 2025</div><ul class="gski-epreuve-liste-infos"><li>Codex épreuve AMVM06
 81</li><li>Catégorie(s) : U12/U14 (Garçons)</li><li>Slalom</li></ul></li><l
 i><div class="gski-epreuve-date">Le Dimanche 09 Mars 2025</div><ul class="g
 ski-epreuve-liste-infos"><li>Codex épreuve AMVF0681</li><li>Catégorie(s) : 
 U12/U14 (Filles)</li><li>Slalom</li></ul></li></ul></div><div class="gskiep
 reuves-links"><ul><li><a href="https://skivosges.net/index.php?option=com_j
 events&task=icalevent.detail&evid=2385&Itemid=6289">Voir les informations d
 ans l'agenda...</a></li><li><a href="https://skivosges.net/index.php?option
 =com_gskiepreuves&view=afficheresultats&format_option=tous&filter[search]=A
 MVT0680&filter[date_debut]=01-03-2025&filter[date_fin]=01-03-2025&code_acti
 vite=ALP&Itemid=6289">Vers les résultats...</a></li><li>Publications concer
 nant cet évènement :<ul><li><a href="https://skivosges.net/index.php?option
 =com_content&view=article&id=8631&Itemid=6289">Jeudi 27 Février 2025 à 23:0
 0 : Le 01/03/2025 SCHNEPFENRIED/Alpin Informations</a></li></ul></li></ul><
 /div></div"><!-- #/gskiepreuve fin du dode généré par le plugin jevents pou
 r GskiEpreuves. . Ne pas modifier cette ligne, ni tout le contenu précedant
 .  #/gskiepreuve --> <a href="https://skivosges.net/agenda/a-venir/detailev
 enement/2390/-/cjm-prix-de-la-patisserie-gilg-munster-memorial-olivier-klin
 g-reporte-e-au-01-03-2025?tmpl=component">Cet évènement a été importé depui
 s :https://skivosges.net/agenda/a-venir/detailevenement/2390/-/cjm-prix-de-
 la-patisserie-gilg-munster-memorial-olivier-kling-reporte-e-au-01-03-2025?t
 mpl=component</a>DTSTAMP:20260420T221501
DTSTART;TZID=Europe/Paris;VALUE=DATE:20250309
DTEND;TZID=Europe/Paris;VALUE=DATE:20250310
SEQUENCE:0
TRANSP:OPAQUE
END:VEVENT
END:VCALENDAR