BEGIN:VCALENDAR
VERSION:2.0
PRODID:-//jEvents 2.0 for Joomla//EN
CALSCALE:GREGORIAN
METHOD:PUBLISH
BEGIN:VTIMEZONE
TZID:Europe/Paris
BEGIN:STANDARD
DTSTART:20240308T000000
RDATE:20240331T030000
TZOFFSETFROM:+0200
TZOFFSETTO:+0100
TZNAME:Europe/Paris CET
END:STANDARD
BEGIN:STANDARD
DTSTART:20241027T020000
RDATE:20250330T030000
TZOFFSETFROM:+0200
TZOFFSETTO:+0100
TZNAME:Europe/Paris CET
END:STANDARD
BEGIN:STANDARD
DTSTART:20251026T020000
RDATE:20260329T030000
TZOFFSETFROM:+0200
TZOFFSETTO:+0100
TZNAME:Europe/Paris CET
END:STANDARD
BEGIN:STANDARD
DTSTART:20261025T020000
RDATE:20270328T030000
TZOFFSETFROM:+0200
TZOFFSETTO:+0100
TZNAME:Europe/Paris CET
END:STANDARD
BEGIN:DAYLIGHT
DTSTART:20240331T030000
RDATE:20241027T020000
TZOFFSETFROM:+0100
TZOFFSETTO:+0200
TZNAME:Europe/Paris CEST
END:DAYLIGHT
BEGIN:DAYLIGHT
DTSTART:20250330T030000
RDATE:20251026T020000
TZOFFSETFROM:+0100
TZOFFSETTO:+0200
TZNAME:Europe/Paris CEST
END:DAYLIGHT
BEGIN:DAYLIGHT
DTSTART:20260329T030000
RDATE:20261025T020000
TZOFFSETFROM:+0100
TZOFFSETTO:+0200
TZNAME:Europe/Paris CEST
END:DAYLIGHT
END:VTIMEZONE
BEGIN:VEVENT
UID:23958c6967d60bd21634b7192f39d1d2
CATEGORIES:Circuit Massif Adultes (alpin)
CREATED:20241111T135606
SUMMARY:CAM Prix de la Pâtisserie GILG Munster - Mémorial Olivier Kling **REPORTE(E) au 01/03/2025**
URL;VALUE=URI:https://skivosges.net/agenda/a-venir/detailevenement/2392/-/cam-prix-de-la-
 patisserie-gilg-munster-memorial-olivier-kling-reporte-e-au-01-03-2025?tmpl
 =component
DESCRIPTION:<!-- #gskiepreuve code généré par le plugin jevents pour GskiEpreuves. Ne p
 as modifier cette ligne, ni tout le contenu suivant  #gskiepreuve --><div c
 lass="gski-evenement_infos"><div class="gski-evenement-nom">CAM Prix de la 
 Pâtisserie GILG Munster - Mémorial Olivier Kling</div><div class="gski-even
 ement-report"> <font class="gskiattention">(Epreuve reportée au 01/03/2025)
 </font></div><ul class="gski-evenement-liste-infos"><li>Codex évenement AMV
 T0560</li><li>Station : SCHNEPFENRIED</li><li>Organisateur : 14199 SKIEURS 
 DU TANET</li><li>Courriel : <!-- Cette adresse électronique est protégée co
 ntre les robots spammeurs. --><span class="cloaked_email ep_605311a0"><span
  data-ep-b="&#101;&#46;&#102;&#114;" data-ep-a="&#97;l&#97;&#105;"><span da
 ta-ep-b="rvi&#99;" data-ep-a="&#110;&#46;me"><span data-ep-a="&#121;&#101;&
 #114;&#64;" data-ep-b="&#116;&#112;&#115;&#101;"></span></span></span></spa
 n><script>RegularLabs.EmailProtector.unCloak("ep_605311a0");</script></li><
 li>Téléphone : 06.77.87.37.11</li></ul><div class="gski-evenement-infos-2">
 <div class="gski-evenement-info-inscriptions"><div class="gski-evenement-in
 scriptions-periodes">Période d'inscription à l'evènement du Dimanche 02 Mar
 s 2025 à 00:00 au Vendredi 07 Mars 2025 à 12:00<div class="gski-evenement-i
 nscriptions-types-titres">Inscriptions ouvertes aux detenteurs des titres F
 édéraux valides suivants : Licenciés Compétiteurs</div></div></div><div cla
 ss="gskiepreuves-links"><ul><li><a href="/index.php?option=com_jevents&task
 =icalevent.detail&evid=2387&Itemid=6289">Voir les informations dans l'agend
 a...</a></li><li><a href="/index.php?option=com_gskiepreuves&view=affichere
 sultats&format_option=tous&filter[search]=AMVT0560&filter[date_debut]=01-03
 -2025&filter[date_fin]=01-03-2025&code_activite=ALP&Itemid=6289">Vers les r
 ésultats...</a></li><li>Publications concernant cet évènement :<ul><li><a h
 ref="/index.php?option=com_content&view=article&id=8632&Itemid=6289">Jeudi 
 27 Février 2025 à 23:02 : Le 01/03/2025 SCHNEPFENRIED/Alpin Informations</a
 ></li></ul></li></ul></div><div class="gski-evenement-epreuves"><div class=
 "gski-evenement-epreuves-titres">Epreuves :</div><ul class="gski-evenement-
 epreuves-list"><li><div class="gski-epreuve-date">Le Dimanche 09 Mars 2025<
 /div><ul class="gski-epreuve-liste-infos"><li>Codex épreuve AMVM0561</li><l
 i>Catégorie(s) : U16 (Garçons)</li><li>Slalom</li></ul></li><li><div class=
 "gski-epreuve-date">Le Dimanche 09 Mars 2025</div><ul class="gski-epreuve-l
 iste-infos"><li>Codex épreuve AMVF0561</li><li>Catégorie(s) : U16 (Filles)<
 /li><li>Slalom</li></ul></li></ul></div><div class="gskiepreuves-links"><ul
 ><li><a href="/index.php?option=com_jevents&task=icalevent.detail&evid=2387
 &Itemid=6289">Voir les informations dans l'agenda...</a></li><li><a href="/
 index.php?option=com_gskiepreuves&view=afficheresultats&format_option=tous&
 filter[search]=AMVT0560&filter[date_debut]=01-03-2025&filter[date_fin]=01-0
 3-2025&code_activite=ALP&Itemid=6289">Vers les résultats...</a></li><li>Pub
 lications concernant cet évènement :<ul><li><a href="/index.php?option=com_
 content&view=article&id=8632&Itemid=6289">Jeudi 27 Février 2025 à 23:02 : L
 e 01/03/2025 SCHNEPFENRIED/Alpin Informations</a></li></ul></li></ul></div>
 </div"><!-- #/gskiepreuve fin du dode généré par le plugin jevents pour Gsk
 iEpreuves. . Ne pas modifier cette ligne, ni tout le contenu précedant.  #/
 gskiepreuve --> <a href="https://skivosges.net/agenda/a-venir/detaileveneme
 nt/2392/-/cam-prix-de-la-patisserie-gilg-munster-memorial-olivier-kling-rep
 orte-e-au-01-03-2025?tmpl=component">Cet évènement a été importé depuis :ht
 tps://skivosges.net/agenda/a-venir/detailevenement/2392/-/cam-prix-de-la-pa
 tisserie-gilg-munster-memorial-olivier-kling-reporte-e-au-01-03-2025?tmpl=c
 omponent</a>
X-ALT-DESC;FMTTYPE=text/html:<!-- #gskiepreuve code généré par le plugin jevents pour GskiEpreuves. Ne p
 as modifier cette ligne, ni tout le contenu suivant  #gskiepreuve --><div c
 lass="gski-evenement_infos"><div class="gski-evenement-nom">CAM Prix de la 
 Pâtisserie GILG Munster - Mémorial Olivier Kling</div><div class="gski-even
 ement-report"> <font class="gskiattention">(Epreuve reportée au 01/03/2025)
 </font></div><ul class="gski-evenement-liste-infos"><li>Codex évenement AMV
 T0560</li><li>Station : SCHNEPFENRIED</li><li>Organisateur : 14199 SKIEURS 
 DU TANET</li><li>Courriel : <!-- Cette adresse électronique est protégée co
 ntre les robots spammeurs. --><span class="cloaked_email ep_605311a0"><span
  data-ep-b="&#101;&#46;&#102;&#114;" data-ep-a="&#97;l&#97;&#105;"><span da
 ta-ep-b="rvi&#99;" data-ep-a="&#110;&#46;me"><span data-ep-a="&#121;&#101;&
 #114;&#64;" data-ep-b="&#116;&#112;&#115;&#101;"></span></span></span></spa
 n><script>RegularLabs.EmailProtector.unCloak("ep_605311a0");</script></li><
 li>Téléphone : 06.77.87.37.11</li></ul><div class="gski-evenement-infos-2">
 <div class="gski-evenement-info-inscriptions"><div class="gski-evenement-in
 scriptions-periodes">Période d'inscription à l'evènement du Dimanche 02 Mar
 s 2025 à 00:00 au Vendredi 07 Mars 2025 à 12:00<div class="gski-evenement-i
 nscriptions-types-titres">Inscriptions ouvertes aux detenteurs des titres F
 édéraux valides suivants : Licenciés Compétiteurs</div></div></div><div cla
 ss="gskiepreuves-links"><ul><li><a href="https://skivosges.net/index.php?op
 tion=com_jevents&task=icalevent.detail&evid=2387&Itemid=6289">Voir les info
 rmations dans l'agenda...</a></li><li><a href="https://skivosges.net/index.
 php?option=com_gskiepreuves&view=afficheresultats&format_option=tous&filter
 [search]=AMVT0560&filter[date_debut]=01-03-2025&filter[date_fin]=01-03-2025
 &code_activite=ALP&Itemid=6289">Vers les résultats...</a></li><li>Publicati
 ons concernant cet évènement :<ul><li><a href="https://skivosges.net/index.
 php?option=com_content&view=article&id=8632&Itemid=6289">Jeudi 27 Février 2
 025 à 23:02 : Le 01/03/2025 SCHNEPFENRIED/Alpin Informations</a></li></ul><
 /li></ul></div><div class="gski-evenement-epreuves"><div class="gski-evenem
 ent-epreuves-titres">Epreuves :</div><ul class="gski-evenement-epreuves-lis
 t"><li><div class="gski-epreuve-date">Le Dimanche 09 Mars 2025</div><ul cla
 ss="gski-epreuve-liste-infos"><li>Codex épreuve AMVM0561</li><li>Catégorie(
 s) : U16 (Garçons)</li><li>Slalom</li></ul></li><li><div class="gski-epreuv
 e-date">Le Dimanche 09 Mars 2025</div><ul class="gski-epreuve-liste-infos">
 <li>Codex épreuve AMVF0561</li><li>Catégorie(s) : U16 (Filles)</li><li>Slal
 om</li></ul></li></ul></div><div class="gskiepreuves-links"><ul><li><a href
 ="https://skivosges.net/index.php?option=com_jevents&task=icalevent.detail&
 evid=2387&Itemid=6289">Voir les informations dans l'agenda...</a></li><li><
 a href="https://skivosges.net/index.php?option=com_gskiepreuves&view=affich
 eresultats&format_option=tous&filter[search]=AMVT0560&filter[date_debut]=01
 -03-2025&filter[date_fin]=01-03-2025&code_activite=ALP&Itemid=6289">Vers le
 s résultats...</a></li><li>Publications concernant cet évènement :<ul><li><
 a href="https://skivosges.net/index.php?option=com_content&view=article&id=
 8632&Itemid=6289">Jeudi 27 Février 2025 à 23:02 : Le 01/03/2025 SCHNEPFENRI
 ED/Alpin Informations</a></li></ul></li></ul></div></div"><!-- #/gskiepreuv
 e fin du dode généré par le plugin jevents pour GskiEpreuves. . Ne pas modi
 fier cette ligne, ni tout le contenu précedant.  #/gskiepreuve --> <a href=
 "https://skivosges.net/agenda/a-venir/detailevenement/2392/-/cam-prix-de-la
 -patisserie-gilg-munster-memorial-olivier-kling-reporte-e-au-01-03-2025?tmp
 l=component">Cet évènement a été importé depuis :https://skivosges.net/agen
 da/a-venir/detailevenement/2392/-/cam-prix-de-la-patisserie-gilg-munster-me
 morial-olivier-kling-reporte-e-au-01-03-2025?tmpl=component</a>DTSTAMP:20260420T221545
DTSTART;TZID=Europe/Paris;VALUE=DATE:20250309
DTEND;TZID=Europe/Paris;VALUE=DATE:20250310
SEQUENCE:0
TRANSP:OPAQUE
END:VEVENT
END:VCALENDAR