BEGIN:VCALENDAR
VERSION:2.0
PRODID:-//jEvents 2.0 for Joomla//EN
CALSCALE:GREGORIAN
METHOD:PUBLISH
BEGIN:VTIMEZONE
TZID:Europe/Paris
BEGIN:STANDARD
DTSTART:20241027T020000
RDATE:20250330T030000
TZOFFSETFROM:+0200
TZOFFSETTO:+0100
TZNAME:Europe/Paris CET
END:STANDARD
BEGIN:STANDARD
DTSTART:20251026T020000
RDATE:20260329T030000
TZOFFSETFROM:+0200
TZOFFSETTO:+0100
TZNAME:Europe/Paris CET
END:STANDARD
BEGIN:STANDARD
DTSTART:20261025T020000
RDATE:20270328T030000
TZOFFSETFROM:+0200
TZOFFSETTO:+0100
TZNAME:Europe/Paris CET
END:STANDARD
BEGIN:DAYLIGHT
DTSTART:20240404T000000
RDATE:20241027T020000
TZOFFSETFROM:+0100
TZOFFSETTO:+0200
TZNAME:Europe/Paris CEST
END:DAYLIGHT
BEGIN:DAYLIGHT
DTSTART:20250330T030000
RDATE:20251026T020000
TZOFFSETFROM:+0100
TZOFFSETTO:+0200
TZNAME:Europe/Paris CEST
END:DAYLIGHT
BEGIN:DAYLIGHT
DTSTART:20260329T030000
RDATE:20261025T020000
TZOFFSETFROM:+0100
TZOFFSETTO:+0200
TZNAME:Europe/Paris CEST
END:DAYLIGHT
END:VTIMEZONE
BEGIN:VEVENT
UID:3c679e81d4b75f2de7f64c8ef36027a6
CATEGORIES:Circuit Massif Adultes (alpin)
CREATED:20241111T135606
SUMMARY:CAM Championnat du Massif des Vosges Géant U14 à Masters-GP SASA - Coupe restaurant Papajoe
URL;VALUE=URI:https://skivosges.net/agenda/a-venir/detailevenement/2405/-/cam-championnat
 -du-massif-des-vosges-geant-u14-a-masters-gp-sasa-coupe-restaurant-papajoe?
 tmpl=component
DESCRIPTION:<!-- #gskiepreuve code généré par le plugin jevents pour GskiEpreuves. Ne p
 as modifier cette ligne, ni tout le contenu suivant  #gskiepreuve --><div c
 lass="gski-evenement_infos"><div class="gski-evenement-nom">CAM Championnat
  du Massif des Vosges Géant U14 à Masters-GP SASA - Coupe restaurant Papajo
 e</div><div class="gski-evenement-report"></div><ul class="gski-evenement-l
 iste-infos"><li>Codex évenement AMVT0650</li><li>Lieu : LINGA</li><li>Stati
 on : CHATEL</li><li>Piste : STADE</li><li>Organisateur : 14081 SKI CLUB ROS
 SBERG THANN</li><li>Courriel : <!-- Cette adresse électronique est protégée
  contre les robots spammeurs. --><span class="cloaked_email ep_e074831a"><s
 pan data-ep-a="&#112;&#104;&#105;l&#105;" data-ep-b="&#102;r"><span data-ep
 -a="&#112;&#112;&#101;&#46;h" data-ep-b="&#97;n&#103;&#101;&#46;"><span dat
 a-ep-b="on&#64;o&#114;" data-ep-a="o&#117;i&#108;&#108;"></span></span></sp
 an></span><script>RegularLabs.EmailProtector.unCloak("ep_e074831a");</scrip
 t></li><li><span class="gski-evenement-obs">Délégué Technique : PETER DENIS
 </span></li></ul><div class="gski-evenement-infos-2"><div class="gski-evene
 ment-info-inscriptions"><div class="gski-evenement-inscriptions-periodes">P
 ériode d'inscription à l'evènement du Dimanche 23 Mars 2025 à 00:00 au Vend
 redi 04 Avril 2025 à 12:00<div class="gski-evenement-inscriptions-types-tit
 res">Inscriptions ouvertes aux detenteurs des titres Fédéraux valides suiva
 nts : Licenciés Compétiteurs</div></div></div><div class="gski-evenement-in
 fo-live">L'épreuve sera chronométrée en direct sur https://skivosges.net/li
 ve</div><div class="gskiepreuves-links"><ul><li><a href="/index.php?option=
 com_jevents&task=icalevent.detail&evid=2400&Itemid=6289">Voir les informati
 ons dans l'agenda...</a></li><li><a href="/index.php?option=com_gskiepreuve
 s&view=afficheresultats&format_option=tous&filter[search]=AMVT0650&filter[d
 ate_debut]=05-04-2025&filter[date_fin]=05-04-2025&code_activite=ALP&Itemid=
 6289">Vers les résultats...</a></li><li>Publications concernant cet évèneme
 nt :<ul><li><a href="/index.php?option=com_content&view=article&id=8691&Ite
 mid=6289">Jeudi 3 Avril 2025 à 11:34 : Le 05/04/2025 CHATEL/Alpin Informati
 ons</a></li></ul></li></ul></div><div class="gski-evenement-epreuves"><div 
 class="gski-evenement-epreuves-titres">Epreuves :</div><ul class="gski-even
 ement-epreuves-list"><li><div class="gski-epreuve-date">Le Samedi 05 Avril 
 2025 à 10:00</div><ul class="gski-epreuve-liste-infos"><li>Codex épreuve AM
 VM0651</li><li>Catégorie(s) : U16 (Garçons)</li><li>Slalom Geant</li></ul><
 /li><li><div class="gski-epreuve-date">Le Samedi 05 Avril 2025 à 10:00</div
 ><ul class="gski-epreuve-liste-infos"><li>Codex épreuve AMVF0651</li><li>Ca
 tégorie(s) : U16 (Filles)</li><li>Slalom Geant</li></ul></li><li><div class
 ="gski-epreuve-date">Le Samedi 05 Avril 2025 à 10:00</div><ul class="gski-e
 preuve-liste-infos"><li>Codex épreuve AMVM0652</li><li>Catégorie(s) : U18 a
  Masters (Hommes)</li><li>Slalom Geant</li></ul></li><li><div class="gski-e
 preuve-date">Le Samedi 05 Avril 2025 à 10:00</div><ul class="gski-epreuve-l
 iste-infos"><li>Codex épreuve AMVF0652</li><li>Catégorie(s) : U18 a Masters
  (Dames)</li><li>Slalom Geant</li></ul></li><li><div class="gski-epreuve-da
 te">Le Samedi 05 Avril 2025 à 10:00</div><ul class="gski-epreuve-liste-info
 s"><li>Codex épreuve AMVM0653</li><li>Catégorie(s) : U14 (Garçons)</li><li>
 Slalom Geant</li></ul></li><li><div class="gski-epreuve-date">Le Samedi 05 
 Avril 2025 à 10:00</div><ul class="gski-epreuve-liste-infos"><li>Codex épre
 uve AMVF0653</li><li>Catégorie(s) : U14 (Filles)</li><li>Slalom Geant</li><
 /ul></li></ul></div><div class="gskiepreuves-links"><ul><li><a href="/index
 .php?option=com_jevents&task=icalevent.detail&evid=2400&Itemid=6289">Voir l
 es informations dans l'agenda...</a></li><li><a href="/index.php?option=com
 _gskiepreuves&view=afficheresultats&format_option=tous&filter[search]=AMVT0
 650&filter[date_debut]=05-04-2025&filter[date_fin]=05-04-2025&code_activite
 =ALP&Itemid=6289">Vers les résultats...</a></li><li>Publications concernant
  cet évènement :<ul><li><a href="/index.php?option=com_content&view=article
 &id=8691&Itemid=6289">Jeudi 3 Avril 2025 à 11:34 : Le 05/04/2025 CHATEL/Alp
 in Informations</a></li></ul></li></ul></div></div"><!-- #/gskiepreuve fin 
 du dode généré par le plugin jevents pour GskiEpreuves. . Ne pas modifier c
 ette ligne, ni tout le contenu précedant.  #/gskiepreuve --> <a href="https
 ://skivosges.net/agenda/a-venir/detailevenement/2405/-/cam-championnat-du-m
 assif-des-vosges-geant-u14-a-masters-gp-sasa-coupe-restaurant-papajoe?tmpl=
 component">Cet évènement a été importé depuis :https://skivosges.net/agenda
 /a-venir/detailevenement/2405/-/cam-championnat-du-massif-des-vosges-geant-
 u14-a-masters-gp-sasa-coupe-restaurant-papajoe?tmpl=component</a>
X-ALT-DESC;FMTTYPE=text/html:<!-- #gskiepreuve code généré par le plugin jevents pour GskiEpreuves. Ne p
 as modifier cette ligne, ni tout le contenu suivant  #gskiepreuve --><div c
 lass="gski-evenement_infos"><div class="gski-evenement-nom">CAM Championnat
  du Massif des Vosges Géant U14 à Masters-GP SASA - Coupe restaurant Papajo
 e</div><div class="gski-evenement-report"></div><ul class="gski-evenement-l
 iste-infos"><li>Codex évenement AMVT0650</li><li>Lieu : LINGA</li><li>Stati
 on : CHATEL</li><li>Piste : STADE</li><li>Organisateur : 14081 SKI CLUB ROS
 SBERG THANN</li><li>Courriel : <!-- Cette adresse électronique est protégée
  contre les robots spammeurs. --><span class="cloaked_email ep_e074831a"><s
 pan data-ep-a="&#112;&#104;&#105;l&#105;" data-ep-b="&#102;r"><span data-ep
 -a="&#112;&#112;&#101;&#46;h" data-ep-b="&#97;n&#103;&#101;&#46;"><span dat
 a-ep-b="on&#64;o&#114;" data-ep-a="o&#117;i&#108;&#108;"></span></span></sp
 an></span><script>RegularLabs.EmailProtector.unCloak("ep_e074831a");</scrip
 t></li><li><span class="gski-evenement-obs">Délégué Technique : PETER DENIS
 </span></li></ul><div class="gski-evenement-infos-2"><div class="gski-evene
 ment-info-inscriptions"><div class="gski-evenement-inscriptions-periodes">P
 ériode d'inscription à l'evènement du Dimanche 23 Mars 2025 à 00:00 au Vend
 redi 04 Avril 2025 à 12:00<div class="gski-evenement-inscriptions-types-tit
 res">Inscriptions ouvertes aux detenteurs des titres Fédéraux valides suiva
 nts : Licenciés Compétiteurs</div></div></div><div class="gski-evenement-in
 fo-live">L'épreuve sera chronométrée en direct sur https://skivosges.net/li
 ve</div><div class="gskiepreuves-links"><ul><li><a href="https://skivosges.
 net/index.php?option=com_jevents&task=icalevent.detail&evid=2400&Itemid=628
 9">Voir les informations dans l'agenda...</a></li><li><a href="https://skiv
 osges.net/index.php?option=com_gskiepreuves&view=afficheresultats&format_op
 tion=tous&filter[search]=AMVT0650&filter[date_debut]=05-04-2025&filter[date
 _fin]=05-04-2025&code_activite=ALP&Itemid=6289">Vers les résultats...</a></
 li><li>Publications concernant cet évènement :<ul><li><a href="https://skiv
 osges.net/index.php?option=com_content&view=article&id=8691&Itemid=6289">Je
 udi 3 Avril 2025 à 11:34 : Le 05/04/2025 CHATEL/Alpin Informations</a></li>
 </ul></li></ul></div><div class="gski-evenement-epreuves"><div class="gski-
 evenement-epreuves-titres">Epreuves :</div><ul class="gski-evenement-epreuv
 es-list"><li><div class="gski-epreuve-date">Le Samedi 05 Avril 2025 à 10:00
 </div><ul class="gski-epreuve-liste-infos"><li>Codex épreuve AMVM0651</li><
 li>Catégorie(s) : U16 (Garçons)</li><li>Slalom Geant</li></ul></li><li><div
  class="gski-epreuve-date">Le Samedi 05 Avril 2025 à 10:00</div><ul class="
 gski-epreuve-liste-infos"><li>Codex épreuve AMVF0651</li><li>Catégorie(s) :
  U16 (Filles)</li><li>Slalom Geant</li></ul></li><li><div class="gski-epreu
 ve-date">Le Samedi 05 Avril 2025 à 10:00</div><ul class="gski-epreuve-liste
 -infos"><li>Codex épreuve AMVM0652</li><li>Catégorie(s) : U18 a Masters (Ho
 mmes)</li><li>Slalom Geant</li></ul></li><li><div class="gski-epreuve-date"
 >Le Samedi 05 Avril 2025 à 10:00</div><ul class="gski-epreuve-liste-infos">
 <li>Codex épreuve AMVF0652</li><li>Catégorie(s) : U18 a Masters (Dames)</li
 ><li>Slalom Geant</li></ul></li><li><div class="gski-epreuve-date">Le Samed
 i 05 Avril 2025 à 10:00</div><ul class="gski-epreuve-liste-infos"><li>Codex
  épreuve AMVM0653</li><li>Catégorie(s) : U14 (Garçons)</li><li>Slalom Geant
 </li></ul></li><li><div class="gski-epreuve-date">Le Samedi 05 Avril 2025 à
  10:00</div><ul class="gski-epreuve-liste-infos"><li>Codex épreuve AMVF0653
 </li><li>Catégorie(s) : U14 (Filles)</li><li>Slalom Geant</li></ul></li></u
 l></div><div class="gskiepreuves-links"><ul><li><a href="https://skivosges.
 net/index.php?option=com_jevents&task=icalevent.detail&evid=2400&Itemid=628
 9">Voir les informations dans l'agenda...</a></li><li><a href="https://skiv
 osges.net/index.php?option=com_gskiepreuves&view=afficheresultats&format_op
 tion=tous&filter[search]=AMVT0650&filter[date_debut]=05-04-2025&filter[date
 _fin]=05-04-2025&code_activite=ALP&Itemid=6289">Vers les résultats...</a></
 li><li>Publications concernant cet évènement :<ul><li><a href="https://skiv
 osges.net/index.php?option=com_content&view=article&id=8691&Itemid=6289">Je
 udi 3 Avril 2025 à 11:34 : Le 05/04/2025 CHATEL/Alpin Informations</a></li>
 </ul></li></ul></div></div"><!-- #/gskiepreuve fin du dode généré par le pl
 ugin jevents pour GskiEpreuves. . Ne pas modifier cette ligne, ni tout le c
 ontenu précedant.  #/gskiepreuve --> <a href="https://skivosges.net/agenda/
 a-venir/detailevenement/2405/-/cam-championnat-du-massif-des-vosges-geant-u
 14-a-masters-gp-sasa-coupe-restaurant-papajoe?tmpl=component">Cet évènement
  a été importé depuis :https://skivosges.net/agenda/a-venir/detailevenement
 /2405/-/cam-championnat-du-massif-des-vosges-geant-u14-a-masters-gp-sasa-co
 upe-restaurant-papajoe?tmpl=component</a>DTSTAMP:20260420T221543
DTSTART;TZID=Europe/Paris;VALUE=DATE:20250405
DTEND;TZID=Europe/Paris;VALUE=DATE:20250406
SEQUENCE:0
TRANSP:OPAQUE
END:VEVENT
END:VCALENDAR