BEGIN:VCALENDAR
VERSION:2.0
PRODID:-//jEvents 2.0 for Joomla//EN
CALSCALE:GREGORIAN
METHOD:PUBLISH
BEGIN:VTIMEZONE
TZID:Europe/Paris
BEGIN:STANDARD
DTSTART:20241027T020000
RDATE:20250330T030000
TZOFFSETFROM:+0200
TZOFFSETTO:+0100
TZNAME:Europe/Paris CET
END:STANDARD
BEGIN:STANDARD
DTSTART:20251026T020000
RDATE:20260329T030000
TZOFFSETFROM:+0200
TZOFFSETTO:+0100
TZNAME:Europe/Paris CET
END:STANDARD
BEGIN:STANDARD
DTSTART:20261025T020000
RDATE:20270328T030000
TZOFFSETFROM:+0200
TZOFFSETTO:+0100
TZNAME:Europe/Paris CET
END:STANDARD
BEGIN:DAYLIGHT
DTSTART:20240404T000000
RDATE:20241027T020000
TZOFFSETFROM:+0100
TZOFFSETTO:+0200
TZNAME:Europe/Paris CEST
END:DAYLIGHT
BEGIN:DAYLIGHT
DTSTART:20250330T030000
RDATE:20251026T020000
TZOFFSETFROM:+0100
TZOFFSETTO:+0200
TZNAME:Europe/Paris CEST
END:DAYLIGHT
BEGIN:DAYLIGHT
DTSTART:20260329T030000
RDATE:20261025T020000
TZOFFSETFROM:+0100
TZOFFSETTO:+0200
TZNAME:Europe/Paris CEST
END:DAYLIGHT
END:VTIMEZONE
BEGIN:VEVENT
UID:327fd7c68d8acd3718a217b6f97ebe37
CATEGORIES:Circuit Massif Jeunes (alpin)
CREATED:20241111T135606
SUMMARY:CJM Championnat du Massif des Vosges Géant U8 à U12-GP SASA - Coupe restaurant Papajoe
URL;VALUE=URI:https://skivosges.net/agenda/a-venir/detailevenement/2406/-/cjm-championnat
 -du-massif-des-vosges-geant-u8-a-u12-gp-sasa-coupe-restaurant-papajoe?tmpl=
 component
DESCRIPTION:<!-- #gskiepreuve code généré par le plugin jevents pour GskiEpreuves. Ne p
 as modifier cette ligne, ni tout le contenu suivant  #gskiepreuve --><div c
 lass="gski-evenement_infos"><div class="gski-evenement-nom">CJM Championnat
  du Massif des Vosges Géant U8 à U12-GP SASA - Coupe restaurant Papajoe</di
 v><div class="gski-evenement-report"></div><ul class="gski-evenement-liste-
 infos"><li>Codex évenement AMVT0640</li><li>Lieu : LINGA</li><li>Station : 
 Ch&acirc;tel</li><li>Piste : STADE</li><li>Organisateur : 14081 SKI CLUB RO
 SSBERG THANN</li><li>Courriel : <!-- Cette adresse électronique est protégé
 e contre les robots spammeurs. --><span class="cloaked_email ep_4698cc92"><
 span data-ep-b="&#102;&#114;" data-ep-a="p&#104;i&#108;&#105;"><span data-e
 p-b="&#97;ng&#101;." data-ep-a="ppe.h"><span data-ep-b="&#111;&#110;&#64;&#
 111;r" data-ep-a="o&#117;&#105;&#108;l"></span></span></span></span><script
 >RegularLabs.EmailProtector.unCloak("ep_4698cc92");</script></li><li><span 
 class="gski-evenement-obs">Délégué Technique : GUTH BRICE</span></li></ul><
 div class="gski-evenement-infos-2"><div class="gski-evenement-info-inscript
 ions"><div class="gski-evenement-inscriptions-periodes">Période d'inscripti
 on à l'evènement du Dimanche 23 Mars 2025 à 00:00 au Vendredi 04 Avril 2025
  à 12:00<div class="gski-evenement-inscriptions-types-titres">Inscriptions 
 ouvertes aux detenteurs des titres Fédéraux valides suivants : Licenciés Co
 mpétiteurs</div></div></div><div class="gski-evenement-info-live">L'épreuve
  sera chronométrée en direct sur https://skivosges.net/live</div><div class
 ="gskiepreuves-links"><ul><li><a href="/index.php?option=com_jevents&task=i
 calevent.detail&evid=2401&Itemid=6289">Voir les informations dans l'agenda.
 ..</a></li><li><a href="/index.php?option=com_gskiepreuves&view=afficheresu
 ltats&format_option=tous&filter[search]=AMVT0640&filter[date_debut]=05-04-2
 025&filter[date_fin]=05-04-2025&code_activite=ALP&Itemid=6289">Vers les rés
 ultats...</a></li></ul></div><div class="gski-evenement-epreuves"><div clas
 s="gski-evenement-epreuves-titres">Epreuves :</div><ul class="gski-evenemen
 t-epreuves-list"><li><div class="gski-epreuve-date">Le Samedi 05 Avril 2025
  à 00:00</div><ul class="gski-epreuve-liste-infos"><li>Codex épreuve AMVM06
 41</li><li>Catégorie(s) : U12 (Garçons)</li><li>Slalom Geant</li></ul></li>
 <li><div class="gski-epreuve-date">Le Samedi 05 Avril 2025 à 00:00</div><ul
  class="gski-epreuve-liste-infos"><li>Codex épreuve AMVF0641</li><li>Catégo
 rie(s) : U12 (Filles)</li><li>Slalom Geant</li></ul></li><li><div class="gs
 ki-epreuve-date">Le Samedi 05 Avril 2025 à 00:00</div><ul class="gski-epreu
 ve-liste-infos"><li>Codex épreuve AMVF0642</li><li>Catégorie(s) : U10 (Fill
 es)</li><li>Slalom Geant</li></ul></li><li><div class="gski-epreuve-date">L
 e Samedi 05 Avril 2025 à 00:00</div><ul class="gski-epreuve-liste-infos"><l
 i>Codex épreuve AMVM0642</li><li>Catégorie(s) : U10 (Garçons)</li><li>Slalo
 m Geant</li></ul></li><li><div class="gski-epreuve-date">Le Samedi 05 Avril
  2025 à 00:00</div><ul class="gski-epreuve-liste-infos"><li>Codex épreuve A
 MVF0643</li><li>Catégorie(s) : U8 (Filles)</li><li>Slalom Geant</li></ul></
 li><li><div class="gski-epreuve-date">Le Samedi 05 Avril 2025 à 00:00</div>
 <ul class="gski-epreuve-liste-infos"><li>Codex épreuve AMVM0643</li><li>Cat
 égorie(s) : U8 (Garçons)</li><li>Slalom Geant</li></ul></li></ul></div><div
  class="gskiepreuves-links"><ul><li><a href="/index.php?option=com_jevents&
 task=icalevent.detail&evid=2401&Itemid=6289">Voir les informations dans l'a
 genda...</a></li><li><a href="/index.php?option=com_gskiepreuves&view=affic
 heresultats&format_option=tous&filter[search]=AMVT0640&filter[date_debut]=0
 5-04-2025&filter[date_fin]=05-04-2025&code_activite=ALP&Itemid=6289">Vers l
 es résultats...</a></li></ul></div></div"><!-- #/gskiepreuve fin du dode gé
 néré par le plugin jevents pour GskiEpreuves. . Ne pas modifier cette ligne
 , ni tout le contenu précedant.  #/gskiepreuve --> <a href="https://skivosg
 es.net/agenda/a-venir/detailevenement/2406/-/cjm-championnat-du-massif-des-
 vosges-geant-u8-a-u12-gp-sasa-coupe-restaurant-papajoe?tmpl=component">Cet 
 évènement a été importé depuis :https://skivosges.net/agenda/a-venir/detail
 evenement/2406/-/cjm-championnat-du-massif-des-vosges-geant-u8-a-u12-gp-sas
 a-coupe-restaurant-papajoe?tmpl=component</a>
X-ALT-DESC;FMTTYPE=text/html:<!-- #gskiepreuve code généré par le plugin jevents pour GskiEpreuves. Ne p
 as modifier cette ligne, ni tout le contenu suivant  #gskiepreuve --><div c
 lass="gski-evenement_infos"><div class="gski-evenement-nom">CJM Championnat
  du Massif des Vosges Géant U8 à U12-GP SASA - Coupe restaurant Papajoe</di
 v><div class="gski-evenement-report"></div><ul class="gski-evenement-liste-
 infos"><li>Codex évenement AMVT0640</li><li>Lieu : LINGA</li><li>Station : 
 Ch&acirc;tel</li><li>Piste : STADE</li><li>Organisateur : 14081 SKI CLUB RO
 SSBERG THANN</li><li>Courriel : <!-- Cette adresse électronique est protégé
 e contre les robots spammeurs. --><span class="cloaked_email ep_4698cc92"><
 span data-ep-b="&#102;&#114;" data-ep-a="p&#104;i&#108;&#105;"><span data-e
 p-b="&#97;ng&#101;." data-ep-a="ppe.h"><span data-ep-b="&#111;&#110;&#64;&#
 111;r" data-ep-a="o&#117;&#105;&#108;l"></span></span></span></span><script
 >RegularLabs.EmailProtector.unCloak("ep_4698cc92");</script></li><li><span 
 class="gski-evenement-obs">Délégué Technique : GUTH BRICE</span></li></ul><
 div class="gski-evenement-infos-2"><div class="gski-evenement-info-inscript
 ions"><div class="gski-evenement-inscriptions-periodes">Période d'inscripti
 on à l'evènement du Dimanche 23 Mars 2025 à 00:00 au Vendredi 04 Avril 2025
  à 12:00<div class="gski-evenement-inscriptions-types-titres">Inscriptions 
 ouvertes aux detenteurs des titres Fédéraux valides suivants : Licenciés Co
 mpétiteurs</div></div></div><div class="gski-evenement-info-live">L'épreuve
  sera chronométrée en direct sur https://skivosges.net/live</div><div class
 ="gskiepreuves-links"><ul><li><a href="https://skivosges.net/index.php?opti
 on=com_jevents&task=icalevent.detail&evid=2401&Itemid=6289">Voir les inform
 ations dans l'agenda...</a></li><li><a href="https://skivosges.net/index.ph
 p?option=com_gskiepreuves&view=afficheresultats&format_option=tous&filter[s
 earch]=AMVT0640&filter[date_debut]=05-04-2025&filter[date_fin]=05-04-2025&c
 ode_activite=ALP&Itemid=6289">Vers les résultats...</a></li></ul></div><div
  class="gski-evenement-epreuves"><div class="gski-evenement-epreuves-titres
 ">Epreuves :</div><ul class="gski-evenement-epreuves-list"><li><div class="
 gski-epreuve-date">Le Samedi 05 Avril 2025 à 00:00</div><ul class="gski-epr
 euve-liste-infos"><li>Codex épreuve AMVM0641</li><li>Catégorie(s) : U12 (Ga
 rçons)</li><li>Slalom Geant</li></ul></li><li><div class="gski-epreuve-date
 ">Le Samedi 05 Avril 2025 à 00:00</div><ul class="gski-epreuve-liste-infos"
 ><li>Codex épreuve AMVF0641</li><li>Catégorie(s) : U12 (Filles)</li><li>Sla
 lom Geant</li></ul></li><li><div class="gski-epreuve-date">Le Samedi 05 Avr
 il 2025 à 00:00</div><ul class="gski-epreuve-liste-infos"><li>Codex épreuve
  AMVF0642</li><li>Catégorie(s) : U10 (Filles)</li><li>Slalom Geant</li></ul
 ></li><li><div class="gski-epreuve-date">Le Samedi 05 Avril 2025 à 00:00</d
 iv><ul class="gski-epreuve-liste-infos"><li>Codex épreuve AMVM0642</li><li>
 Catégorie(s) : U10 (Garçons)</li><li>Slalom Geant</li></ul></li><li><div cl
 ass="gski-epreuve-date">Le Samedi 05 Avril 2025 à 00:00</div><ul class="gsk
 i-epreuve-liste-infos"><li>Codex épreuve AMVF0643</li><li>Catégorie(s) : U8
  (Filles)</li><li>Slalom Geant</li></ul></li><li><div class="gski-epreuve-d
 ate">Le Samedi 05 Avril 2025 à 00:00</div><ul class="gski-epreuve-liste-inf
 os"><li>Codex épreuve AMVM0643</li><li>Catégorie(s) : U8 (Garçons)</li><li>
 Slalom Geant</li></ul></li></ul></div><div class="gskiepreuves-links"><ul><
 li><a href="https://skivosges.net/index.php?option=com_jevents&task=icaleve
 nt.detail&evid=2401&Itemid=6289">Voir les informations dans l'agenda...</a>
 </li><li><a href="https://skivosges.net/index.php?option=com_gskiepreuves&v
 iew=afficheresultats&format_option=tous&filter[search]=AMVT0640&filter[date
 _debut]=05-04-2025&filter[date_fin]=05-04-2025&code_activite=ALP&Itemid=628
 9">Vers les résultats...</a></li></ul></div></div"><!-- #/gskiepreuve fin d
 u dode généré par le plugin jevents pour GskiEpreuves. . Ne pas modifier ce
 tte ligne, ni tout le contenu précedant.  #/gskiepreuve --> <a href="https:
 //skivosges.net/agenda/a-venir/detailevenement/2406/-/cjm-championnat-du-ma
 ssif-des-vosges-geant-u8-a-u12-gp-sasa-coupe-restaurant-papajoe?tmpl=compon
 ent">Cet évènement a été importé depuis :https://skivosges.net/agenda/a-ven
 ir/detailevenement/2406/-/cjm-championnat-du-massif-des-vosges-geant-u8-a-u
 12-gp-sasa-coupe-restaurant-papajoe?tmpl=component</a>DTSTAMP:20260420T221545
DTSTART;TZID=Europe/Paris;VALUE=DATE:20250405
DTEND;TZID=Europe/Paris;VALUE=DATE:20250406
SEQUENCE:0
TRANSP:OPAQUE
END:VEVENT
END:VCALENDAR