BEGIN:VCALENDAR
VERSION:2.0
PRODID:-//jEvents 2.0 for Joomla//EN
CALSCALE:GREGORIAN
METHOD:PUBLISH
BEGIN:VTIMEZONE
TZID:Europe/Paris
BEGIN:STANDARD
DTSTART:20241027T020000
RDATE:20250330T030000
TZOFFSETFROM:+0200
TZOFFSETTO:+0100
TZNAME:Europe/Paris CET
END:STANDARD
BEGIN:STANDARD
DTSTART:20251026T020000
RDATE:20260329T030000
TZOFFSETFROM:+0200
TZOFFSETTO:+0100
TZNAME:Europe/Paris CET
END:STANDARD
BEGIN:STANDARD
DTSTART:20261025T020000
RDATE:20270328T030000
TZOFFSETFROM:+0200
TZOFFSETTO:+0100
TZNAME:Europe/Paris CET
END:STANDARD
BEGIN:DAYLIGHT
DTSTART:20240405T000000
RDATE:20241027T020000
TZOFFSETFROM:+0100
TZOFFSETTO:+0200
TZNAME:Europe/Paris CEST
END:DAYLIGHT
BEGIN:DAYLIGHT
DTSTART:20250330T030000
RDATE:20251026T020000
TZOFFSETFROM:+0100
TZOFFSETTO:+0200
TZNAME:Europe/Paris CEST
END:DAYLIGHT
BEGIN:DAYLIGHT
DTSTART:20260329T030000
RDATE:20261025T020000
TZOFFSETFROM:+0100
TZOFFSETTO:+0200
TZNAME:Europe/Paris CEST
END:DAYLIGHT
END:VTIMEZONE
BEGIN:VEVENT
UID:5951490432d11e770820ec2a1434c730
CATEGORIES:Circuit Massif Adultes (alpin)
CREATED:20241111T135606
SUMMARY:CAM Championnats du Massif des vosges Slalom U14 à Masters -GP SASA-Mémorial Jean BOTT
URL;VALUE=URI:https://skivosges.net/agenda/a-venir/detailevenement/2407/-/cam-championnat
 s-du-massif-des-vosges-slalom-u14-a-masters-gp-sasa-memorial-jean-bott?tmpl
 =component
DESCRIPTION:<!-- #gskiepreuve code généré par le plugin jevents pour GskiEpreuves. Ne p
 as modifier cette ligne, ni tout le contenu suivant  #gskiepreuve --><div c
 lass="gski-evenement_infos"><div class="gski-evenement-nom">CAM Championnat
 s du Massif des vosges Slalom U14 à Masters -GP SASA-Mémorial Jean BOTT</di
 v><div class="gski-evenement-report"></div><ul class="gski-evenement-liste-
 infos"><li>Codex évenement AMVT0670</li><li>Lieu : LINGA</li><li>Station : 
 Ch&acirc;tel</li><li>Piste : STADE</li><li>Organisateur : 14081 SKI CLUB RO
 SSBERG THANN</li><li>Courriel : <!-- Cette adresse électronique est protégé
 e contre les robots spammeurs. --><span class="cloaked_email ep_1660573b"><
 span data-ep-a="p&#104;ili" data-ep-b="&#102;&#114;"><span data-ep-a="&#112
 ;&#112;&#101;&#46;&#104;" data-ep-b="a&#110;&#103;&#101;&#46;"><span data-e
 p-a="o&#117;&#105;l&#108;" data-ep-b="o&#110;&#64;&#111;&#114;"></span></sp
 an></span></span><script>RegularLabs.EmailProtector.unCloak("ep_1660573b");
 </script></li><li><span class="gski-evenement-obs">Délégué Technique : PETE
 R DENIS</span></li></ul><div class="gski-evenement-infos-2"><div class="gsk
 i-evenement-info-inscriptions"><div class="gski-evenement-inscriptions-peri
 odes">Période d'inscription à l'evènement du Dimanche 23 Mars 2025 à 00:00 
 au Vendredi 04 Avril 2025 à 12:00<div class="gski-evenement-inscriptions-ty
 pes-titres">Inscriptions ouvertes aux detenteurs des titres Fédéraux valide
 s suivants : Licenciés Compétiteurs</div></div></div><div class="gski-evene
 ment-info-live">L'épreuve sera chronométrée en direct sur https://skivosges
 .net/live</div><div class="gskiepreuves-links"><ul><li><a href="/index.php?
 option=com_jevents&task=icalevent.detail&evid=2402&Itemid=6289">Voir les in
 formations dans l'agenda...</a></li><li><a href="/index.php?option=com_gski
 epreuves&view=afficheresultats&format_option=tous&filter[search]=AMVT0670&f
 ilter[date_debut]=06-04-2025&filter[date_fin]=06-04-2025&code_activite=ALP&
 Itemid=6289">Vers les résultats...</a></li></ul></div><div class="gski-even
 ement-epreuves"><div class="gski-evenement-epreuves-titres">Epreuves :</div
 ><ul class="gski-evenement-epreuves-list"><li><div class="gski-epreuve-date
 ">Le Dimanche 06 Avril 2025 à 10:00</div><ul class="gski-epreuve-liste-info
 s"><li>Codex épreuve AMVM0671</li><li>Catégorie(s) : U16 (Garçons)</li><li>
 Slalom</li></ul></li><li><div class="gski-epreuve-date">Le Dimanche 06 Avri
 l 2025 à 10:00</div><ul class="gski-epreuve-liste-infos"><li>Codex épreuve 
 AMVF0671</li><li>Catégorie(s) : U16 (Filles)</li><li>Slalom</li></ul></li><
 li><div class="gski-epreuve-date">Le Dimanche 06 Avril 2025 à 10:00</div><u
 l class="gski-epreuve-liste-infos"><li>Codex épreuve AMVM0672</li><li>Catég
 orie(s) : U18 a Masters (Hommes)</li><li>Slalom</li></ul></li><li><div clas
 s="gski-epreuve-date">Le Dimanche 06 Avril 2025 à 10:00</div><ul class="gsk
 i-epreuve-liste-infos"><li>Codex épreuve AMVF0672</li><li>Catégorie(s) : U1
 8 a Masters (Dames)</li><li>Slalom</li></ul></li><li><div class="gski-epreu
 ve-date">Le Dimanche 06 Avril 2025 à 10:00</div><ul class="gski-epreuve-lis
 te-infos"><li>Codex épreuve AMVM0673</li><li>Catégorie(s) : U14 (Garçons)</
 li><li>Slalom</li></ul></li><li><div class="gski-epreuve-date">Le Dimanche 
 06 Avril 2025 à 10:00</div><ul class="gski-epreuve-liste-infos"><li>Codex é
 preuve AMVF0673</li><li>Catégorie(s) : U14 (Filles)</li><li>Slalom</li></ul
 ></li></ul></div><div class="gskiepreuves-links"><ul><li><a href="/index.ph
 p?option=com_jevents&task=icalevent.detail&evid=2402&Itemid=6289">Voir les 
 informations dans l'agenda...</a></li><li><a href="/index.php?option=com_gs
 kiepreuves&view=afficheresultats&format_option=tous&filter[search]=AMVT0670
 &filter[date_debut]=06-04-2025&filter[date_fin]=06-04-2025&code_activite=AL
 P&Itemid=6289">Vers les résultats...</a></li></ul></div></div"><!-- #/gskie
 preuve fin du dode généré par le plugin jevents pour GskiEpreuves. . Ne pas
  modifier cette ligne, ni tout le contenu précedant.  #/gskiepreuve --> <a 
 href="https://skivosges.net/agenda/a-venir/detailevenement/2407/-/cam-champ
 ionnats-du-massif-des-vosges-slalom-u14-a-masters-gp-sasa-memorial-jean-bot
 t?tmpl=component">Cet évènement a été importé depuis :https://skivosges.net
 /agenda/a-venir/detailevenement/2407/-/cam-championnats-du-massif-des-vosge
 s-slalom-u14-a-masters-gp-sasa-memorial-jean-bott?tmpl=component</a>
X-ALT-DESC;FMTTYPE=text/html:<!-- #gskiepreuve code généré par le plugin jevents pour GskiEpreuves. Ne p
 as modifier cette ligne, ni tout le contenu suivant  #gskiepreuve --><div c
 lass="gski-evenement_infos"><div class="gski-evenement-nom">CAM Championnat
 s du Massif des vosges Slalom U14 à Masters -GP SASA-Mémorial Jean BOTT</di
 v><div class="gski-evenement-report"></div><ul class="gski-evenement-liste-
 infos"><li>Codex évenement AMVT0670</li><li>Lieu : LINGA</li><li>Station : 
 Ch&acirc;tel</li><li>Piste : STADE</li><li>Organisateur : 14081 SKI CLUB RO
 SSBERG THANN</li><li>Courriel : <!-- Cette adresse électronique est protégé
 e contre les robots spammeurs. --><span class="cloaked_email ep_1660573b"><
 span data-ep-a="p&#104;ili" data-ep-b="&#102;&#114;"><span data-ep-a="&#112
 ;&#112;&#101;&#46;&#104;" data-ep-b="a&#110;&#103;&#101;&#46;"><span data-e
 p-a="o&#117;&#105;l&#108;" data-ep-b="o&#110;&#64;&#111;&#114;"></span></sp
 an></span></span><script>RegularLabs.EmailProtector.unCloak("ep_1660573b");
 </script></li><li><span class="gski-evenement-obs">Délégué Technique : PETE
 R DENIS</span></li></ul><div class="gski-evenement-infos-2"><div class="gsk
 i-evenement-info-inscriptions"><div class="gski-evenement-inscriptions-peri
 odes">Période d'inscription à l'evènement du Dimanche 23 Mars 2025 à 00:00 
 au Vendredi 04 Avril 2025 à 12:00<div class="gski-evenement-inscriptions-ty
 pes-titres">Inscriptions ouvertes aux detenteurs des titres Fédéraux valide
 s suivants : Licenciés Compétiteurs</div></div></div><div class="gski-evene
 ment-info-live">L'épreuve sera chronométrée en direct sur https://skivosges
 .net/live</div><div class="gskiepreuves-links"><ul><li><a href="https://ski
 vosges.net/index.php?option=com_jevents&task=icalevent.detail&evid=2402&Ite
 mid=6289">Voir les informations dans l'agenda...</a></li><li><a href="https
 ://skivosges.net/index.php?option=com_gskiepreuves&view=afficheresultats&fo
 rmat_option=tous&filter[search]=AMVT0670&filter[date_debut]=06-04-2025&filt
 er[date_fin]=06-04-2025&code_activite=ALP&Itemid=6289">Vers les résultats..
 .</a></li></ul></div><div class="gski-evenement-epreuves"><div class="gski-
 evenement-epreuves-titres">Epreuves :</div><ul class="gski-evenement-epreuv
 es-list"><li><div class="gski-epreuve-date">Le Dimanche 06 Avril 2025 à 10:
 00</div><ul class="gski-epreuve-liste-infos"><li>Codex épreuve AMVM0671</li
 ><li>Catégorie(s) : U16 (Garçons)</li><li>Slalom</li></ul></li><li><div cla
 ss="gski-epreuve-date">Le Dimanche 06 Avril 2025 à 10:00</div><ul class="gs
 ki-epreuve-liste-infos"><li>Codex épreuve AMVF0671</li><li>Catégorie(s) : U
 16 (Filles)</li><li>Slalom</li></ul></li><li><div class="gski-epreuve-date"
 >Le Dimanche 06 Avril 2025 à 10:00</div><ul class="gski-epreuve-liste-infos
 "><li>Codex épreuve AMVM0672</li><li>Catégorie(s) : U18 a Masters (Hommes)<
 /li><li>Slalom</li></ul></li><li><div class="gski-epreuve-date">Le Dimanche
  06 Avril 2025 à 10:00</div><ul class="gski-epreuve-liste-infos"><li>Codex 
 épreuve AMVF0672</li><li>Catégorie(s) : U18 a Masters (Dames)</li><li>Slalo
 m</li></ul></li><li><div class="gski-epreuve-date">Le Dimanche 06 Avril 202
 5 à 10:00</div><ul class="gski-epreuve-liste-infos"><li>Codex épreuve AMVM0
 673</li><li>Catégorie(s) : U14 (Garçons)</li><li>Slalom</li></ul></li><li><
 div class="gski-epreuve-date">Le Dimanche 06 Avril 2025 à 10:00</div><ul cl
 ass="gski-epreuve-liste-infos"><li>Codex épreuve AMVF0673</li><li>Catégorie
 (s) : U14 (Filles)</li><li>Slalom</li></ul></li></ul></div><div class="gski
 epreuves-links"><ul><li><a href="https://skivosges.net/index.php?option=com
 _jevents&task=icalevent.detail&evid=2402&Itemid=6289">Voir les informations
  dans l'agenda...</a></li><li><a href="https://skivosges.net/index.php?opti
 on=com_gskiepreuves&view=afficheresultats&format_option=tous&filter[search]
 =AMVT0670&filter[date_debut]=06-04-2025&filter[date_fin]=06-04-2025&code_ac
 tivite=ALP&Itemid=6289">Vers les résultats...</a></li></ul></div></div"><!-
 - #/gskiepreuve fin du dode généré par le plugin jevents pour GskiEpreuves.
  . Ne pas modifier cette ligne, ni tout le contenu précedant.  #/gskiepreuv
 e --> <a href="https://skivosges.net/agenda/a-venir/detailevenement/2407/-/
 cam-championnats-du-massif-des-vosges-slalom-u14-a-masters-gp-sasa-memorial
 -jean-bott?tmpl=component">Cet évènement a été importé depuis :https://skiv
 osges.net/agenda/a-venir/detailevenement/2407/-/cam-championnats-du-massif-
 des-vosges-slalom-u14-a-masters-gp-sasa-memorial-jean-bott?tmpl=component</
 a>DTSTAMP:20260420T221545
DTSTART;TZID=Europe/Paris;VALUE=DATE:20250406
DTEND;TZID=Europe/Paris;VALUE=DATE:20250407
SEQUENCE:0
TRANSP:OPAQUE
END:VEVENT
END:VCALENDAR