BEGIN:VCALENDAR
VERSION:2.0
PRODID:-//jEvents 2.0 for Joomla//EN
CALSCALE:GREGORIAN
METHOD:PUBLISH
BEGIN:VTIMEZONE
TZID:Europe/Paris
BEGIN:STANDARD
DTSTART:20241027T020000
RDATE:20250330T030000
TZOFFSETFROM:+0200
TZOFFSETTO:+0100
TZNAME:Europe/Paris CET
END:STANDARD
BEGIN:STANDARD
DTSTART:20251026T020000
RDATE:20260329T030000
TZOFFSETFROM:+0200
TZOFFSETTO:+0100
TZNAME:Europe/Paris CET
END:STANDARD
BEGIN:STANDARD
DTSTART:20261025T020000
RDATE:20270328T030000
TZOFFSETFROM:+0200
TZOFFSETTO:+0100
TZNAME:Europe/Paris CET
END:STANDARD
BEGIN:DAYLIGHT
DTSTART:20240405T000000
RDATE:20241027T020000
TZOFFSETFROM:+0100
TZOFFSETTO:+0200
TZNAME:Europe/Paris CEST
END:DAYLIGHT
BEGIN:DAYLIGHT
DTSTART:20250330T030000
RDATE:20251026T020000
TZOFFSETFROM:+0100
TZOFFSETTO:+0200
TZNAME:Europe/Paris CEST
END:DAYLIGHT
BEGIN:DAYLIGHT
DTSTART:20260329T030000
RDATE:20261025T020000
TZOFFSETFROM:+0100
TZOFFSETTO:+0200
TZNAME:Europe/Paris CEST
END:DAYLIGHT
END:VTIMEZONE
BEGIN:VEVENT
UID:0d425f3737f7c9ea9952ba3cc30654a4
CATEGORIES:Circuit Massif Jeunes (alpin)
CREATED:20241111T135606
SUMMARY:CJM Championnats du Massif des vosges Slalom U8 à U12-GP SASA-Coupe HARIBO
URL;VALUE=URI:https://skivosges.net/agenda/a-venir/detailevenement/2408/-/cjm-championnat
 s-du-massif-des-vosges-slalom-u8-a-u12-gp-sasa-coupe-haribo?tmpl=component
DESCRIPTION:<!-- #gskiepreuve code généré par le plugin jevents pour GskiEpreuves. Ne p
 as modifier cette ligne, ni tout le contenu suivant  #gskiepreuve --><div c
 lass="gski-evenement_infos"><div class="gski-evenement-nom">CJM Championnat
 s du Massif des vosges Slalom U8 à U12-GP SASA-Coupe HARIBO</div><div class
 ="gski-evenement-report"></div><ul class="gski-evenement-liste-infos"><li>C
 odex évenement AMVT0660</li><li>Lieu : LINGA</li><li>Station : Ch&acirc;tel
 </li><li>Piste : STADE</li><li>Organisateur : 14081 SKI CLUB ROSSBERG THANN
 </li><li>Courriel : <!-- Cette adresse électronique est protégée contre les
  robots spammeurs. --><span class="cloaked_email ep_ffe6216d"><span data-ep
 -b="fr" data-ep-a="&#112;h&#105;&#108;i"><span data-ep-b="&#97;n&#103;e&#46
 ;" data-ep-a="&#112;&#112;&#101;&#46;&#104;"><span data-ep-b="on&#64;&#111;
 &#114;" data-ep-a="&#111;&#117;&#105;&#108;&#108;"></span></span></span></s
 pan><script>RegularLabs.EmailProtector.unCloak("ep_ffe6216d");</script></li
 ><li><span class="gski-evenement-obs">Délégué Technique : CORNIL PIERRE-YVE
 S</span></li></ul><div class="gski-evenement-infos-2"><div class="gski-even
 ement-info-inscriptions"><div class="gski-evenement-inscriptions-periodes">
 Période d'inscription à l'evènement du Dimanche 23 Mars 2025 à 00:00 au Ven
 dredi 04 Avril 2025 à 12:00<div class="gski-evenement-inscriptions-types-ti
 tres">Inscriptions ouvertes aux detenteurs des titres Fédéraux valides suiv
 ants : Licenciés Compétiteurs</div></div></div><div class="gski-evenement-i
 nfo-live">L'épreuve sera chronométrée en direct sur https://skivosges.net/l
 ive</div><div class="gskiepreuves-links"><ul><li><a href="/index.php?option
 =com_jevents&task=icalevent.detail&evid=2403&Itemid=6289">Voir les informat
 ions dans l'agenda...</a></li><li><a href="/index.php?option=com_gskiepreuv
 es&view=afficheresultats&format_option=tous&filter[search]=AMVT0660&filter[
 date_debut]=06-04-2025&filter[date_fin]=06-04-2025&code_activite=ALP&Itemid
 =6289">Vers les résultats...</a></li></ul></div><div class="gski-evenement-
 epreuves"><div class="gski-evenement-epreuves-titres">Epreuves :</div><ul c
 lass="gski-evenement-epreuves-list"><li><div class="gski-epreuve-date">Le D
 imanche 06 Avril 2025 à 10:00</div><ul class="gski-epreuve-liste-infos"><li
 >Codex épreuve AMVM0661</li><li>Catégorie(s) : U12 (Garçons)</li><li>Slalom
 </li></ul></li><li><div class="gski-epreuve-date">Le Dimanche 06 Avril 2025
  à 10:00</div><ul class="gski-epreuve-liste-infos"><li>Codex épreuve AMVF06
 61</li><li>Catégorie(s) : U12 (Filles)</li><li>Slalom</li></ul></li><li><di
 v class="gski-epreuve-date">Le Dimanche 06 Avril 2025 à 10:00</div><ul clas
 s="gski-epreuve-liste-infos"><li>Codex épreuve AMVF0662</li><li>Catégorie(s
 ) : U10 (Filles)</li><li>Slalom</li></ul></li><li><div class="gski-epreuve-
 date">Le Dimanche 06 Avril 2025</div><ul class="gski-epreuve-liste-infos"><
 li>Codex épreuve AMVM0662</li><li>Catégorie(s) : U10 (Garçons)</li><li>Slal
 om</li></ul></li><li><div class="gski-epreuve-date">Le Dimanche 06 Avril 20
 25 à 10:00</div><ul class="gski-epreuve-liste-infos"><li>Codex épreuve AMVF
 0663</li><li>Catégorie(s) : U8 (Filles)</li><li>Slalom</li></ul></li><li><d
 iv class="gski-epreuve-date">Le Dimanche 06 Avril 2025</div><ul class="gski
 -epreuve-liste-infos"><li>Codex épreuve AMVM0663</li><li>Catégorie(s) : U8 
 (Garçons)</li><li>Slalom</li></ul></li></ul></div><div class="gskiepreuves-
 links"><ul><li><a href="/index.php?option=com_jevents&task=icalevent.detail
 &evid=2403&Itemid=6289">Voir les informations dans l'agenda...</a></li><li>
 <a href="/index.php?option=com_gskiepreuves&view=afficheresultats&format_op
 tion=tous&filter[search]=AMVT0660&filter[date_debut]=06-04-2025&filter[date
 _fin]=06-04-2025&code_activite=ALP&Itemid=6289">Vers les résultats...</a></
 li></ul></div></div"><!-- #/gskiepreuve fin du dode généré par le plugin je
 vents pour GskiEpreuves. . Ne pas modifier cette ligne, ni tout le contenu 
 précedant.  #/gskiepreuve --> <a href="https://skivosges.net/agenda/a-venir
 /detailevenement/2408/-/cjm-championnats-du-massif-des-vosges-slalom-u8-a-u
 12-gp-sasa-coupe-haribo?tmpl=component">Cet évènement a été importé depuis 
 :https://skivosges.net/agenda/a-venir/detailevenement/2408/-/cjm-championna
 ts-du-massif-des-vosges-slalom-u8-a-u12-gp-sasa-coupe-haribo?tmpl=component
 </a>
X-ALT-DESC;FMTTYPE=text/html:<!-- #gskiepreuve code généré par le plugin jevents pour GskiEpreuves. Ne p
 as modifier cette ligne, ni tout le contenu suivant  #gskiepreuve --><div c
 lass="gski-evenement_infos"><div class="gski-evenement-nom">CJM Championnat
 s du Massif des vosges Slalom U8 à U12-GP SASA-Coupe HARIBO</div><div class
 ="gski-evenement-report"></div><ul class="gski-evenement-liste-infos"><li>C
 odex évenement AMVT0660</li><li>Lieu : LINGA</li><li>Station : Ch&acirc;tel
 </li><li>Piste : STADE</li><li>Organisateur : 14081 SKI CLUB ROSSBERG THANN
 </li><li>Courriel : <!-- Cette adresse électronique est protégée contre les
  robots spammeurs. --><span class="cloaked_email ep_ffe6216d"><span data-ep
 -b="fr" data-ep-a="&#112;h&#105;&#108;i"><span data-ep-b="&#97;n&#103;e&#46
 ;" data-ep-a="&#112;&#112;&#101;&#46;&#104;"><span data-ep-b="on&#64;&#111;
 &#114;" data-ep-a="&#111;&#117;&#105;&#108;&#108;"></span></span></span></s
 pan><script>RegularLabs.EmailProtector.unCloak("ep_ffe6216d");</script></li
 ><li><span class="gski-evenement-obs">Délégué Technique : CORNIL PIERRE-YVE
 S</span></li></ul><div class="gski-evenement-infos-2"><div class="gski-even
 ement-info-inscriptions"><div class="gski-evenement-inscriptions-periodes">
 Période d'inscription à l'evènement du Dimanche 23 Mars 2025 à 00:00 au Ven
 dredi 04 Avril 2025 à 12:00<div class="gski-evenement-inscriptions-types-ti
 tres">Inscriptions ouvertes aux detenteurs des titres Fédéraux valides suiv
 ants : Licenciés Compétiteurs</div></div></div><div class="gski-evenement-i
 nfo-live">L'épreuve sera chronométrée en direct sur https://skivosges.net/l
 ive</div><div class="gskiepreuves-links"><ul><li><a href="https://skivosges
 .net/index.php?option=com_jevents&task=icalevent.detail&evid=2403&Itemid=62
 89">Voir les informations dans l'agenda...</a></li><li><a href="https://ski
 vosges.net/index.php?option=com_gskiepreuves&view=afficheresultats&format_o
 ption=tous&filter[search]=AMVT0660&filter[date_debut]=06-04-2025&filter[dat
 e_fin]=06-04-2025&code_activite=ALP&Itemid=6289">Vers les résultats...</a><
 /li></ul></div><div class="gski-evenement-epreuves"><div class="gski-evenem
 ent-epreuves-titres">Epreuves :</div><ul class="gski-evenement-epreuves-lis
 t"><li><div class="gski-epreuve-date">Le Dimanche 06 Avril 2025 à 10:00</di
 v><ul class="gski-epreuve-liste-infos"><li>Codex épreuve AMVM0661</li><li>C
 atégorie(s) : U12 (Garçons)</li><li>Slalom</li></ul></li><li><div class="gs
 ki-epreuve-date">Le Dimanche 06 Avril 2025 à 10:00</div><ul class="gski-epr
 euve-liste-infos"><li>Codex épreuve AMVF0661</li><li>Catégorie(s) : U12 (Fi
 lles)</li><li>Slalom</li></ul></li><li><div class="gski-epreuve-date">Le Di
 manche 06 Avril 2025 à 10:00</div><ul class="gski-epreuve-liste-infos"><li>
 Codex épreuve AMVF0662</li><li>Catégorie(s) : U10 (Filles)</li><li>Slalom</
 li></ul></li><li><div class="gski-epreuve-date">Le Dimanche 06 Avril 2025</
 div><ul class="gski-epreuve-liste-infos"><li>Codex épreuve AMVM0662</li><li
 >Catégorie(s) : U10 (Garçons)</li><li>Slalom</li></ul></li><li><div class="
 gski-epreuve-date">Le Dimanche 06 Avril 2025 à 10:00</div><ul class="gski-e
 preuve-liste-infos"><li>Codex épreuve AMVF0663</li><li>Catégorie(s) : U8 (F
 illes)</li><li>Slalom</li></ul></li><li><div class="gski-epreuve-date">Le D
 imanche 06 Avril 2025</div><ul class="gski-epreuve-liste-infos"><li>Codex é
 preuve AMVM0663</li><li>Catégorie(s) : U8 (Garçons)</li><li>Slalom</li></ul
 ></li></ul></div><div class="gskiepreuves-links"><ul><li><a href="https://s
 kivosges.net/index.php?option=com_jevents&task=icalevent.detail&evid=2403&I
 temid=6289">Voir les informations dans l'agenda...</a></li><li><a href="htt
 ps://skivosges.net/index.php?option=com_gskiepreuves&view=afficheresultats&
 format_option=tous&filter[search]=AMVT0660&filter[date_debut]=06-04-2025&fi
 lter[date_fin]=06-04-2025&code_activite=ALP&Itemid=6289">Vers les résultats
 ...</a></li></ul></div></div"><!-- #/gskiepreuve fin du dode généré par le 
 plugin jevents pour GskiEpreuves. . Ne pas modifier cette ligne, ni tout le
  contenu précedant.  #/gskiepreuve --> <a href="https://skivosges.net/agend
 a/a-venir/detailevenement/2408/-/cjm-championnats-du-massif-des-vosges-slal
 om-u8-a-u12-gp-sasa-coupe-haribo?tmpl=component">Cet évènement a été import
 é depuis :https://skivosges.net/agenda/a-venir/detailevenement/2408/-/cjm-c
 hampionnats-du-massif-des-vosges-slalom-u8-a-u12-gp-sasa-coupe-haribo?tmpl=
 component</a>DTSTAMP:20260420T221545
DTSTART;TZID=Europe/Paris;VALUE=DATE:20250406
DTEND;TZID=Europe/Paris;VALUE=DATE:20250407
SEQUENCE:0
TRANSP:OPAQUE
END:VEVENT
END:VCALENDAR